From mboxrd@z Thu Jan  1 00:00:00 1970
Return-Path: <test-report-bounces@dpdk.org>
Received: from mails.dpdk.org (mails.dpdk.org [217.70.189.124])
	by inbox.dpdk.org (Postfix) with ESMTP id 46E8043FB9
	for <public@inbox.dpdk.org>; Sun,  5 May 2024 21:19:40 +0200 (CEST)
Received: from mails.dpdk.org (localhost [127.0.0.1])
	by mails.dpdk.org (Postfix) with ESMTP id 3D0C7400EF;
	Sun,  5 May 2024 21:19:40 +0200 (CEST)
Received: from mail-oo1-f99.google.com (mail-oo1-f99.google.com
 [209.85.161.99]) by mails.dpdk.org (Postfix) with ESMTP id 2021B40041
 for <test-report@dpdk.org>; Sun,  5 May 2024 21:19:39 +0200 (CEST)
Received: by mail-oo1-f99.google.com with SMTP id
 006d021491bc7-5afb498d9faso616957eaf.2
 for <test-report@dpdk.org>; Sun, 05 May 2024 12:19:39 -0700 (PDT)
DKIM-Signature: v=1; a=rsa-sha256; c=relaxed/relaxed;
 d=iol.unh.edu; s=unh-iol; t=1714936778; x=1715541578; darn=dpdk.org;
 h=references:in-reply-to:cc:to:from:subject:message-id:date:from:to
 :cc:subject:date:message-id:reply-to;
 bh=/lJJ3kWa/mjd1Xve4qwV/AMdr+0AGMejMgsAKMcM61A=;
 b=fqSH6SVVndL7gZrdOyPjQtzMNL3SmjuWLddfEXqHrSAOT/cRZKf5geUxswGbqPbWbX
 4qlwNHpfkg4hbn7cFwRCFRweT8haJfWbEhxU+R0876z01Vdl8fCiw1SYbJiWkrA8f86k
 /Fb+ypMKpXMYS9NA+EDAjvuh/oXwvKZ29j+nw=
X-Google-DKIM-Signature: v=1; a=rsa-sha256; c=relaxed/relaxed;
 d=1e100.net; s=20230601; t=1714936778; x=1715541578;
 h=references:in-reply-to:cc:to:from:subject:message-id:date
 :x-gm-message-state:from:to:cc:subject:date:message-id:reply-to;
 bh=/lJJ3kWa/mjd1Xve4qwV/AMdr+0AGMejMgsAKMcM61A=;
 b=wwN+PNRXdQXRiYTdcDZmhj3REYEp0I9oYlWsmjRYU6iCscOEJO22VKxZsZBq2hQRf/
 l9mEnL5ZLOgkPeIuon8/muB25xSCNIsFOBmnhAkd67H5uZfRid9JY/OnVQGbty4eqbWq
 xQBMzNuptMVeJ1W89gghxOP5BZc8Zdis0fpx+KQzmwo4rvb03bmu5k514HrUzn0xUyiB
 1iMjG9RUg2SSYSd1stynTwojmZUPY/07YnwoH6Lada3Y0aahc8YNUv3WTGjKF8HoF5nw
 kxFxUAzm53tElLu/wFLkhXrCtasiiWlyJrJBcP3ivS5Yh+f2G9HRhq9IUMag7mzWk+g4
 agIg==
X-Gm-Message-State: AOJu0YyYW5Za+21gHFADcO7yFgaFhDTp0GWNzo76AK4ScSzgbr/bzlY1
 41roK59teV3kFQPp/vJyCSQ9KXHEJgyhEz4SxSLR9eGiBWRL30dd9DEYs5xVF6f19kZ52epSLpE
 nzQlKroMfi7+VVXpJ9wxholFn8CNnXEZc9bqTMYyw
X-Google-Smtp-Source: AGHT+IHoc4tkgouDApUuWp9ezVxLz/1KPtuzpwHhsZ2kY06gVBx79T8LKv+bLzgWVEJ3UFyVRlPGzWjXrEsw
X-Received: by 2002:a4a:4b87:0:b0:5aa:5252:6efc with SMTP id
 q129-20020a4a4b87000000b005aa52526efcmr9152615ooa.9.1714936778433; 
 Sun, 05 May 2024 12:19:38 -0700 (PDT)
Received: from postal.iol.unh.edu (postal.iol.unh.edu. [132.177.123.84])
 by smtp-relay.gmail.com with ESMTPS id
 r1-20020a4a4e01000000b005aca0e43d65sm735913ooa.12.2024.05.05.12.19.38
 (version=TLS1_2 cipher=ECDHE-ECDSA-AES128-GCM-SHA256 bits=128/128);
 Sun, 05 May 2024 12:19:38 -0700 (PDT)
X-Relaying-Domain: iol.unh.edu
Date: Sun, 05 May 2024 12:19:38 -0700 (PDT)
Message-ID: <6637dbca.4a0a0220.b4b6e.f24bSMTPIN_ADDED_MISSING@mx.google.com>
Received: from [172.21.0.7] (unknown [172.18.0.240])
 by postal.iol.unh.edu (Postfix) with ESMTP id A5F1E6052514;
 Sun,  5 May 2024 15:19:37 -0400 (EDT)
Subject: |SUCCESS| pw139873 [PATCH] [v2] common/qat: add legacy algorithm opt
From: dpdklab@iol.unh.edu
To: Test Report <test-report@dpdk.org>
Cc: dpdk-test-reports@iol.unh.edu
In-Reply-To: <20240505183142.20148-1-arkadiuszx.kusztal@intel.com>
References: <20240505183142.20148-1-arkadiuszx.kusztal@intel.com>
Content-Type: text/plain
X-BeenThere: test-report@dpdk.org
X-Mailman-Version: 2.1.29
Precedence: list
List-Id: automatic DPDK test reports <test-report.dpdk.org>
List-Unsubscribe: <https://mails.dpdk.org/options/test-report>,
 <mailto:test-report-request@dpdk.org?subject=unsubscribe>
List-Archive: <http://mails.dpdk.org/archives/test-report/>
List-Post: <mailto:test-report@dpdk.org>
List-Help: <mailto:test-report-request@dpdk.org?subject=help>
List-Subscribe: <https://mails.dpdk.org/listinfo/test-report>,
 <mailto:test-report-request@dpdk.org?subject=subscribe>
Errors-To: test-report-bounces@dpdk.org

Test-Label: iol-compile-amd64-testing
Test-Status: SUCCESS
http://dpdk.org/patch/139873

_Testing PASS_

Submitter: Arkadiusz Kusztal <arkadiuszx.kusztal@intel.com>
Date: Sunday, May 05 2024 18:31:42 
DPDK git baseline: Repo:dpdk
  Branch: master
  CommitID:7e06c0de1952d3109a5b0c4779d7e7d8059c9d78

139873 --> testing pass

Test environment and result as below:

+---------------------+--------------------+----------------------+-------------------+
|     Environment     | dpdk_meson_compile | dpdk_mingw64_compile | dpdk_msvc_compile |
+=====================+====================+======================+===================+
| Debian Bullseye     | PASS               | SKIPPED              | SKIPPED           |
+---------------------+--------------------+----------------------+-------------------+
| CentOS Stream 8     | PASS               | SKIPPED              | SKIPPED           |
+---------------------+--------------------+----------------------+-------------------+
| FreeBSD 13.3        | PASS               | SKIPPED              | SKIPPED           |
+---------------------+--------------------+----------------------+-------------------+
| CentOS Stream 9     | PASS               | SKIPPED              | SKIPPED           |
+---------------------+--------------------+----------------------+-------------------+
| Fedora 38           | PASS               | SKIPPED              | SKIPPED           |
+---------------------+--------------------+----------------------+-------------------+
| Debian 12           | PASS               | SKIPPED              | SKIPPED           |
+---------------------+--------------------+----------------------+-------------------+
| Fedora 37           | PASS               | SKIPPED              | SKIPPED           |
+---------------------+--------------------+----------------------+-------------------+
| FreeBSD 14.0        | PASS               | SKIPPED              | SKIPPED           |
+---------------------+--------------------+----------------------+-------------------+
| Fedora 39           | PASS               | SKIPPED              | SKIPPED           |
+---------------------+--------------------+----------------------+-------------------+
| Windows Server 2019 | PASS               | PASS                 | SKIPPED           |
+---------------------+--------------------+----------------------+-------------------+
| Windows Server 2022 | PASS               | PASS                 | PASS              |
+---------------------+--------------------+----------------------+-------------------+
| Ubuntu 22.04        | PASS               | SKIPPED              | SKIPPED           |
+---------------------+--------------------+----------------------+-------------------+


Debian Bullseye
	Kernel: 5.4.0-167-generic
	Compiler: gcc 10.2.1-6

CentOS Stream 8
	Kernel: 5.4.0-167-generic
	Compiler: gcc 8.5.0 20210514

FreeBSD 13.3
	Kernel: 13.3-RELEASE-p1
	Compiler: clang 17.0.6

CentOS Stream 9
	Kernel: 5.4.0-167-generic
	Compiler: gcc 11.4.1 20230605

Fedora 38
	Kernel: Depends on container host
	Compiler: gcc 13.2.1

Debian 12
	Kernel: Container Host Kernel
	Compiler: gcc 10.2.1

Fedora 37
	Kernel: Depends on container host system
	Compiler: gcc 12.3.1

FreeBSD 14.0
	Kernel: 14.0
	Compiler: clang 16.0.6

Fedora 39
	Kernel: Depends on container host
	Compiler: gcc 13.2.1

Windows Server 2019
	Kernel: 10.0.17763
	Compiler: clang 14.0 and gcc 8.1.0 (MinGW)

Windows Server 2022
	Kernel: 10.0.20348.2031
	Compiler: clang 15.0.7, gcc 8.1.0 (MinGW), and MSVC VS 17.9

Ubuntu 22.04
	Kernel: 5.4.0-167-generic
	Compiler: gcc 11.4.0

To view detailed results, visit:
https://lab.dpdk.org/results/dashboard/patchsets/29916/

UNH-IOL DPDK Community Lab

To manage your email subscriptions, visit: 
https://lab.dpdk.org/results/dashboard/preferences/subscriptions/