From mboxrd@z Thu Jan  1 00:00:00 1970
Return-Path: <test-report-bounces@dpdk.org>
Received: from mails.dpdk.org (mails.dpdk.org [217.70.189.124])
	by inbox.dpdk.org (Postfix) with ESMTP id 3A17B43FC4
	for <public@inbox.dpdk.org>; Mon,  6 May 2024 11:32:43 +0200 (CEST)
Received: from mails.dpdk.org (localhost [127.0.0.1])
	by mails.dpdk.org (Postfix) with ESMTP id 361A3402C2;
	Mon,  6 May 2024 11:32:43 +0200 (CEST)
Received: from mail-il1-f228.google.com (mail-il1-f228.google.com
 [209.85.166.228])
 by mails.dpdk.org (Postfix) with ESMTP id B2567402B9
 for <test-report@dpdk.org>; Mon,  6 May 2024 11:32:42 +0200 (CEST)
Received: by mail-il1-f228.google.com with SMTP id
 e9e14a558f8ab-36c947ff642so3554395ab.2
 for <test-report@dpdk.org>; Mon, 06 May 2024 02:32:42 -0700 (PDT)
DKIM-Signature: v=1; a=rsa-sha256; c=relaxed/relaxed;
 d=iol.unh.edu; s=unh-iol; t=1714987962; x=1715592762; darn=dpdk.org;
 h=references:in-reply-to:cc:to:from:subject:message-id:date:from:to
 :cc:subject:date:message-id:reply-to;
 bh=sIqvXztrcXmnT6J2ncStJCDI9xrrIXLaSSvAtJ7Cw5I=;
 b=iRsV9Jb2CRIb+Fx/EwYwe/uQIlnpzyJAbXJkvvIbTVeo3HjqJry/vHLcf7CqoA+ikG
 GhY0AWc98NuSOhFz85RvKmx9Uc7dK+quDmswLMaHIEljJes6Xk3RT++xNmvZ+b1w+o5v
 xEIq8Uyk+PkKlwXmdgLStnDXELUIv79oleQzI=
X-Google-DKIM-Signature: v=1; a=rsa-sha256; c=relaxed/relaxed;
 d=1e100.net; s=20230601; t=1714987962; x=1715592762;
 h=references:in-reply-to:cc:to:from:subject:message-id:date
 :x-gm-message-state:from:to:cc:subject:date:message-id:reply-to;
 bh=sIqvXztrcXmnT6J2ncStJCDI9xrrIXLaSSvAtJ7Cw5I=;
 b=ovD094OOYQp+hfBeEDksYmXcufAch8G3NOmEM4I1hbQBeJZ6S52VHHhboeP3C425q5
 3s+gqEXr2F0hSHwkYJw/cOUgFwKHP0vvAi75Lx6fOi6tYFgXU2aCo0bBeRw+PsIj3uVJ
 vx0zWdqtxcWEXGZ5Uickj5sEFeGQJzru2vbvZBMc8uu0InHMb738+uXSO9+mboRngRmp
 Cq4IZh/4mv9GkYOCPgXOm9aiTojKhj1nIrZP0iovX6U1jtuTE+tZA43qTy/zAKHHdidu
 oEe4AM1u8yeMiIgzKZM+Vg2ZQdOhZhDeicw6O+xq9MaEeI6R/sy//gwH8wDkpe7McaW/
 OIMg==
X-Gm-Message-State: AOJu0YwdpsST/6GYIdcfQmlXUW39LAjmQe7usUwZVw9bIpaxiHcA8l5w
 +449KtZ32lOpfhkuybahpM+0eDd1Nf3QTjSw/qXpVuqvvibf62g6WGwnVGQnb3U1SEKrmP3HXNZ
 G/qFcJVIQ9OQNWFxJmQQbzBOW9jtKuzPI2iB5LFMWangztyBojhgAY9ab
X-Google-Smtp-Source: AGHT+IHXK6zUA9vrK+hLx04/1R4yjeI1GBNdK3qBWqNvzbpQ6EdUcUaiqKxBqzBUCIAYJ7L70DvfgSUF1cZP
X-Received: by 2002:a05:6e02:1567:b0:36c:3249:bfe8 with SMTP id
 k7-20020a056e02156700b0036c3249bfe8mr11259626ilu.32.1714987962144; 
 Mon, 06 May 2024 02:32:42 -0700 (PDT)
Received: from postal.iol.unh.edu (postal.iol.unh.edu.
 [2606:4100:3880:1234::84]) by smtp-relay.gmail.com with ESMTPS id
 n28-20020a635c5c000000b005f8047f1eabsm817177pgm.9.2024.05.06.02.32.41
 (version=TLS1_2 cipher=ECDHE-ECDSA-AES128-GCM-SHA256 bits=128/128);
 Mon, 06 May 2024 02:32:42 -0700 (PDT)
X-Relaying-Domain: iol.unh.edu
Date: Mon, 06 May 2024 02:32:42 -0700 (PDT)
Message-ID: <6638a3ba.630a0220.3e44d.72a4SMTPIN_ADDED_MISSING@mx.google.com>
Received: from [172.21.0.6] (unknown [172.18.0.240])
 by postal.iol.unh.edu (Postfix) with ESMTP id 3C44F604A954;
 Mon,  6 May 2024 05:32:41 -0400 (EDT)
Subject: |SUCCESS| pw139875-139879 [PATCH] [RFC,v6,6/6] eal: keep per-lcore p
From: dpdklab@iol.unh.edu
To: Test Report <test-report@dpdk.org>
Cc: dpdk-test-reports@iol.unh.edu
In-Reply-To: <20240506082721.120666-7-mattias.ronnblom@ericsson.com>
References: <20240506082721.120666-7-mattias.ronnblom@ericsson.com>
Content-Type: text/plain
X-BeenThere: test-report@dpdk.org
X-Mailman-Version: 2.1.29
Precedence: list
List-Id: automatic DPDK test reports <test-report.dpdk.org>
List-Unsubscribe: <https://mails.dpdk.org/options/test-report>,
 <mailto:test-report-request@dpdk.org?subject=unsubscribe>
List-Archive: <http://mails.dpdk.org/archives/test-report/>
List-Post: <mailto:test-report@dpdk.org>
List-Help: <mailto:test-report-request@dpdk.org?subject=help>
List-Subscribe: <https://mails.dpdk.org/listinfo/test-report>,
 <mailto:test-report-request@dpdk.org?subject=subscribe>
Errors-To: test-report-bounces@dpdk.org

Test-Label: iol-compile-arm64-testing
Test-Status: SUCCESS
http://dpdk.org/patch/139879

_Testing PASS_

Submitter: Mattias Ronnblom <mattias.ronnblom@ericsson.com>
Date: Monday, May 06 2024 08:27:21 
DPDK git baseline: Repo:dpdk
  Branch: master
  CommitID:7e06c0de1952d3109a5b0c4779d7e7d8059c9d78

139875-139879 --> testing pass

Test environment and result as below:

+--------------------------+--------------------+
|       Environment        | dpdk_meson_compile |
+==========================+====================+
| Ubuntu 20.04 ARM SVE     | PASS               |
+--------------------------+--------------------+
| Debian 12 with MUSDK     | PASS               |
+--------------------------+--------------------+
| Fedora 37 (ARM)          | PASS               |
+--------------------------+--------------------+
| Fedora 39 (ARM)          | PASS               |
+--------------------------+--------------------+
| Fedora 38 (ARM)          | PASS               |
+--------------------------+--------------------+
| Ubuntu 20.04 (ARM)       | PASS               |
+--------------------------+--------------------+
| Debian 11 (Buster) (ARM) | PASS               |
+--------------------------+--------------------+
| Debian 12 (arm)          | PASS               |
+--------------------------+--------------------+


Ubuntu 20.04 ARM SVE
	Kernel: 5.4.0-167-generic
	Compiler: gcc (Ubuntu 10.5.0-1ubuntu1~20.04) 10.5.0

Debian 12 with MUSDK
	Kernel: Container Host Kernel
	Compiler: gcc 12.2.0

Fedora 37 (ARM)
	Kernel: Depends on container host
	Compiler: gcc 12.3.1

Fedora 39 (ARM)
	Kernel: Depends on container host
	Compiler: gcc 13.2.1

Fedora 38 (ARM)
	Kernel: Depends on container host
	Compiler: gcc 13.2.1

Ubuntu 20.04 (ARM)
	Kernel: Container Host Kernel
	Compiler: gcc 9.4.0

Debian 11 (Buster) (ARM)
	Kernel: Container Host Kernel
	Compiler: gcc 10.2.1

Debian 12 (arm)
	Kernel: Container Host Kernel
	Compiler: gcc 12.2.0

To view detailed results, visit:
https://lab.dpdk.org/results/dashboard/patchsets/29917/

UNH-IOL DPDK Community Lab

To manage your email subscriptions, visit: 
https://lab.dpdk.org/results/dashboard/preferences/subscriptions/