From mboxrd@z Thu Jan  1 00:00:00 1970
Return-Path: <test-report-bounces@dpdk.org>
Received: from mails.dpdk.org (mails.dpdk.org [217.70.189.124])
	by inbox.dpdk.org (Postfix) with ESMTP id 564DD43FC4
	for <public@inbox.dpdk.org>; Mon,  6 May 2024 11:33:00 +0200 (CEST)
Received: from mails.dpdk.org (localhost [127.0.0.1])
	by mails.dpdk.org (Postfix) with ESMTP id 51E3E402C2;
	Mon,  6 May 2024 11:33:00 +0200 (CEST)
Received: from mail-pj1-f97.google.com (mail-pj1-f97.google.com
 [209.85.216.97]) by mails.dpdk.org (Postfix) with ESMTP id 47E9D402B9
 for <test-report@dpdk.org>; Mon,  6 May 2024 11:32:59 +0200 (CEST)
Received: by mail-pj1-f97.google.com with SMTP id
 98e67ed59e1d1-2b27c532e50so1126499a91.2
 for <test-report@dpdk.org>; Mon, 06 May 2024 02:32:59 -0700 (PDT)
DKIM-Signature: v=1; a=rsa-sha256; c=relaxed/relaxed;
 d=iol.unh.edu; s=unh-iol; t=1714987978; x=1715592778; darn=dpdk.org;
 h=references:in-reply-to:cc:to:from:subject:message-id:date:from:to
 :cc:subject:date:message-id:reply-to;
 bh=up/3FqTLftyDBBowqz8f2YzTW22E8Z7+sQEFYu3VvHA=;
 b=QwpxPEueps0Lk6WZCdK4oHIBV4LVl2HyP6EPxVa1irq6R/0zRM6c5jXY9RIO0vZKLe
 B2IPJdKQsbi+JDjVkCmcL7Atumj2RxVpyQhKPNrX9OIv3SQKVQuBShGpwQquptfVcSYg
 zPkRDswBCLkhlWTfckxQ1VjoJKZgvA2LoH5ps=
X-Google-DKIM-Signature: v=1; a=rsa-sha256; c=relaxed/relaxed;
 d=1e100.net; s=20230601; t=1714987978; x=1715592778;
 h=references:in-reply-to:cc:to:from:subject:message-id:date
 :x-gm-message-state:from:to:cc:subject:date:message-id:reply-to;
 bh=up/3FqTLftyDBBowqz8f2YzTW22E8Z7+sQEFYu3VvHA=;
 b=oIbzFZFrujLDwbk4FvoT8/kgWfawCdIY0anCgqdox9W9q3PU4UQ8AJLLIp4CjVL71a
 g1wh7bjAIm5SMr5+u1ScgZ4HjOIjs1HpkjMt7RFFMnZu+6wyjqddHGxgcytqjYxQq3VV
 ORrGHuE/jcuxKZoCC2jn6Uhp58azey7dCmKh8IcRc2u55ZJt0z12iqqv+RPR3uZUESsl
 5okXT4qq2R5/sc8+j8LXXUxtZhIW70+ZwJ2E8IOLV8xNe+XvgSMdufJ9AyOAVyM44xWk
 GnmYzsuHdzWQY3A/OZxy55+PSi5lHuL2YMEUYLMUT4qwlqILVh+ww34h/c1LRkLQJdCM
 8weg==
X-Gm-Message-State: AOJu0YzzhBaTnY7YCXwYyLNzmnTf2BEIV4JYAyHM9XnschV+fZcX1TKT
 9pLmPhHAIeczdcZzyuCSODdl6MCwaqqeuiyma83zyti2z9FUzmqhwAX6DlwgeOGL6QhUy5WpJs9
 2rAPTFDIi7gVPyHPvmNdGfHrLBvh22TXXyIhUdtuogucwDvVrQNwXPS7z
X-Google-Smtp-Source: AGHT+IFUWGrkoVJSmg8qgxoYfI7qdW9eaBk8v6K/QY0TlhbCsftmJWIX8IfLNQ38hauoM2xep0oNjaRQxAlD
X-Received: by 2002:a17:90a:ab92:b0:2ab:e345:4685 with SMTP id
 n18-20020a17090aab9200b002abe3454685mr8930842pjq.17.1714987978508; 
 Mon, 06 May 2024 02:32:58 -0700 (PDT)
Received: from postal.iol.unh.edu (postal.iol.unh.edu.
 [2606:4100:3880:1234::84]) by smtp-relay.gmail.com with ESMTPS id
 lp13-20020a17090b4a8d00b002b432be65e1sm471456pjb.15.2024.05.06.02.32.58
 (version=TLS1_2 cipher=ECDHE-ECDSA-AES128-GCM-SHA256 bits=128/128);
 Mon, 06 May 2024 02:32:58 -0700 (PDT)
X-Relaying-Domain: iol.unh.edu
Date: Mon, 06 May 2024 02:32:58 -0700 (PDT)
Message-ID: <6638a3ca.170a0220.b6008.4a89SMTPIN_ADDED_MISSING@mx.google.com>
Received: from [172.21.0.6] (unknown [172.18.0.240])
 by postal.iol.unh.edu (Postfix) with ESMTP id 86C01604A954;
 Mon,  6 May 2024 05:32:57 -0400 (EDT)
Subject: |SUCCESS| pw139875-139879 [PATCH] [RFC,v6,6/6] eal: keep per-lcore p
From: dpdklab@iol.unh.edu
To: Test Report <test-report@dpdk.org>
Cc: dpdk-test-reports@iol.unh.edu
In-Reply-To: <20240506082721.120666-7-mattias.ronnblom@ericsson.com>
References: <20240506082721.120666-7-mattias.ronnblom@ericsson.com>
Content-Type: text/plain
X-BeenThere: test-report@dpdk.org
X-Mailman-Version: 2.1.29
Precedence: list
List-Id: automatic DPDK test reports <test-report.dpdk.org>
List-Unsubscribe: <https://mails.dpdk.org/options/test-report>,
 <mailto:test-report-request@dpdk.org?subject=unsubscribe>
List-Archive: <http://mails.dpdk.org/archives/test-report/>
List-Post: <mailto:test-report@dpdk.org>
List-Help: <mailto:test-report-request@dpdk.org?subject=help>
List-Subscribe: <https://mails.dpdk.org/listinfo/test-report>,
 <mailto:test-report-request@dpdk.org?subject=subscribe>
Errors-To: test-report-bounces@dpdk.org

Test-Label: iol-unit-arm64-testing
Test-Status: SUCCESS
http://dpdk.org/patch/139879

_Testing PASS_

Submitter: Mattias Ronnblom <mattias.ronnblom@ericsson.com>
Date: Monday, May 06 2024 08:27:21 
DPDK git baseline: Repo:dpdk
  Branch: master
  CommitID:7e06c0de1952d3109a5b0c4779d7e7d8059c9d78

139875-139879 --> testing pass

Test environment and result as below:

+--------------------------+------------------------------+---------------------------+----------------+
|       Environment        | cryptodev_sw_snow3g_autotest | cryptodev_sw_zuc_autotest | dpdk_unit_test |
+==========================+==============================+===========================+================+
| Debian 12 (arm)          | PASS                         | PASS                      | SKIPPED        |
+--------------------------+------------------------------+---------------------------+----------------+
| Debian 11 (Buster) (ARM) | SKIPPED                      | SKIPPED                   | PASS           |
+--------------------------+------------------------------+---------------------------+----------------+


Debian 12 (arm)
	Kernel: Container Host Kernel
	Compiler: gcc 12.2.0

Debian 11 (Buster) (ARM)
	Kernel: Container Host Kernel
	Compiler: gcc 10.2.1

To view detailed results, visit:
https://lab.dpdk.org/results/dashboard/patchsets/29917/

UNH-IOL DPDK Community Lab

To manage your email subscriptions, visit: 
https://lab.dpdk.org/results/dashboard/preferences/subscriptions/