From mboxrd@z Thu Jan  1 00:00:00 1970
Return-Path: <test-report-bounces@dpdk.org>
Received: from mails.dpdk.org (mails.dpdk.org [217.70.189.124])
	by inbox.dpdk.org (Postfix) with ESMTP id 9229343FC4
	for <public@inbox.dpdk.org>; Mon,  6 May 2024 11:33:33 +0200 (CEST)
Received: from mails.dpdk.org (localhost [127.0.0.1])
	by mails.dpdk.org (Postfix) with ESMTP id 818A8402C2;
	Mon,  6 May 2024 11:33:33 +0200 (CEST)
Received: from mail-oa1-f100.google.com (mail-oa1-f100.google.com
 [209.85.160.100])
 by mails.dpdk.org (Postfix) with ESMTP id B4C4B402B9
 for <test-report@dpdk.org>; Mon,  6 May 2024 11:33:32 +0200 (CEST)
Received: by mail-oa1-f100.google.com with SMTP id
 586e51a60fabf-23fb9c871c8so193462fac.1
 for <test-report@dpdk.org>; Mon, 06 May 2024 02:33:32 -0700 (PDT)
DKIM-Signature: v=1; a=rsa-sha256; c=relaxed/relaxed;
 d=iol.unh.edu; s=unh-iol; t=1714988012; x=1715592812; darn=dpdk.org;
 h=references:in-reply-to:cc:to:from:subject:message-id:date:from:to
 :cc:subject:date:message-id:reply-to;
 bh=hNh7s093vRQI9SEx5fa83bFOVYyK8rZJ2qwQufQoeNk=;
 b=ay/jhPdVoA0bJfe/AZ7m4bForymR9JJW1qz1pd3wiI4Iv810/ENOmUwZxQ1GDzWXBt
 /z1vELqZOu9OsMTJs4siwy7bVdlidR4UPJ+yRQjRR6NFTgozgsc368tcOB1aksWylzkC
 PwPQS3YlKSudVlKAvPfMaV9Fx8gQytXfSiqyA=
X-Google-DKIM-Signature: v=1; a=rsa-sha256; c=relaxed/relaxed;
 d=1e100.net; s=20230601; t=1714988012; x=1715592812;
 h=references:in-reply-to:cc:to:from:subject:message-id:date
 :x-gm-message-state:from:to:cc:subject:date:message-id:reply-to;
 bh=hNh7s093vRQI9SEx5fa83bFOVYyK8rZJ2qwQufQoeNk=;
 b=D+qF3zheQiEPOa1FhQc8rTvtJbEXN107Rn5j8wMjBFhSZJgbbnbsRvqCv9Kh7a2gmE
 fz5cyXlCCTeQ/7SJEaG9iwJpR4gTFQ41ME+sv3M1tjLX3t5lnCyaGbJRulF1UxlobEjh
 QfMctYQEuTBM3PBO91Sbf5yz+LE8bvhBifCNjp83KNaofw+ZhNNGMtzkgTCWd/i2mwZf
 jzHrIdFaBcuBTUqCV883rUKAZt6785TI6A3ryxLdzJcTDpgKLM/X2jiC7LGwfBaV4O/H
 UZVkVk9PvXEiVJELeAepQZzpoLrWLLLc2Bf/o3fz7jyBGw7SlJV9ICErOfTx2rVr0beI
 Hocg==
X-Gm-Message-State: AOJu0YwCmnsk1gAhP38Lh5ysE1ypdVGHBXQOkCgiDSc51pgj/aNH57Ml
 P316JYD//a7u1bYRot6Yn2dSehDZksXyDz9LPYKV23Swe9VPACRAkerF+jsWn3zCnZqgz9phBYH
 X9CPxlchkHDOJxTYoKOptP1WYBGgQ+uXXNX09cKmQYSG6GhgYMwRBJ+pa
X-Google-Smtp-Source: AGHT+IEz+DvLgOBIlUwEb7ielY8cSTOSP2GogpcB6+AVVz0gP2eozobKae4ToxAd0I255rSb9QYjkQIJ8sTB
X-Received: by 2002:a05:6870:ce90:b0:23b:27:b103 with SMTP id
 xe16-20020a056870ce9000b0023b0027b103mr11715769oab.29.1714988012058; 
 Mon, 06 May 2024 02:33:32 -0700 (PDT)
Received: from postal.iol.unh.edu (postal.iol.unh.edu.
 [2606:4100:3880:1234::84]) by smtp-relay.gmail.com with ESMTPS id
 y35-20020a056a001ca300b006f473df9677sm299368pfw.23.2024.05.06.02.33.31
 (version=TLS1_2 cipher=ECDHE-ECDSA-AES128-GCM-SHA256 bits=128/128);
 Mon, 06 May 2024 02:33:32 -0700 (PDT)
X-Relaying-Domain: iol.unh.edu
Date: Mon, 06 May 2024 02:33:32 -0700 (PDT)
Message-ID: <6638a3ec.050a0220.24e43.9a40SMTPIN_ADDED_MISSING@mx.google.com>
Received: from [172.21.0.6] (unknown [172.18.0.240])
 by postal.iol.unh.edu (Postfix) with ESMTP id DF1C6604A954;
 Mon,  6 May 2024 05:33:30 -0400 (EDT)
Subject: |SUCCESS| pw139875-139879 [PATCH] [RFC,v6,6/6] eal: keep per-lcore p
From: dpdklab@iol.unh.edu
To: Test Report <test-report@dpdk.org>
Cc: dpdk-test-reports@iol.unh.edu
In-Reply-To: <20240506082721.120666-7-mattias.ronnblom@ericsson.com>
References: <20240506082721.120666-7-mattias.ronnblom@ericsson.com>
Content-Type: text/plain
X-BeenThere: test-report@dpdk.org
X-Mailman-Version: 2.1.29
Precedence: list
List-Id: automatic DPDK test reports <test-report.dpdk.org>
List-Unsubscribe: <https://mails.dpdk.org/options/test-report>,
 <mailto:test-report-request@dpdk.org?subject=unsubscribe>
List-Archive: <http://mails.dpdk.org/archives/test-report/>
List-Post: <mailto:test-report@dpdk.org>
List-Help: <mailto:test-report-request@dpdk.org?subject=help>
List-Subscribe: <https://mails.dpdk.org/listinfo/test-report>,
 <mailto:test-report-request@dpdk.org?subject=subscribe>
Errors-To: test-report-bounces@dpdk.org

Test-Label: iol-compile-arm64-testing
Test-Status: SUCCESS
http://dpdk.org/patch/139879

_Testing PASS_

Submitter: Mattias Ronnblom <mattias.ronnblom@ericsson.com>
Date: Monday, May 06 2024 08:27:21 
DPDK git baseline: Repo:dpdk
  Branch: master
  CommitID:7e06c0de1952d3109a5b0c4779d7e7d8059c9d78

139875-139879 --> testing pass

Test environment and result as below:

+----------------------------------------+--------------------+
|              Environment               | dpdk_meson_compile |
+========================================+====================+
| Ubuntu 20.04 ARM SVE                   | PASS               |
+----------------------------------------+--------------------+
| Debian 12 with MUSDK                   | PASS               |
+----------------------------------------+--------------------+
| Fedora 37 (ARM)                        | PASS               |
+----------------------------------------+--------------------+
| Fedora 39 (ARM)                        | PASS               |
+----------------------------------------+--------------------+
| Fedora 38 (ARM)                        | PASS               |
+----------------------------------------+--------------------+
| Ubuntu 20.04 (ARM)                     | PASS               |
+----------------------------------------+--------------------+
| Debian 11 (Buster) (ARM)               | PASS               |
+----------------------------------------+--------------------+
| Debian 12 (arm)                        | PASS               |
+----------------------------------------+--------------------+
| Ubuntu 20.04 aarch32 GCC Cross Compile | PASS               |
+----------------------------------------+--------------------+


Ubuntu 20.04 ARM SVE
	Kernel: 5.4.0-167-generic
	Compiler: gcc (Ubuntu 10.5.0-1ubuntu1~20.04) 10.5.0

Debian 12 with MUSDK
	Kernel: Container Host Kernel
	Compiler: gcc 12.2.0

Fedora 37 (ARM)
	Kernel: Depends on container host
	Compiler: gcc 12.3.1

Fedora 39 (ARM)
	Kernel: Depends on container host
	Compiler: gcc 13.2.1

Fedora 38 (ARM)
	Kernel: Depends on container host
	Compiler: gcc 13.2.1

Ubuntu 20.04 (ARM)
	Kernel: Container Host Kernel
	Compiler: gcc 9.4.0

Debian 11 (Buster) (ARM)
	Kernel: Container Host Kernel
	Compiler: gcc 10.2.1

Debian 12 (arm)
	Kernel: Container Host Kernel
	Compiler: gcc 12.2.0

Ubuntu 20.04 aarch32 GCC Cross Compile
	Kernel: 5.4.0-167-generic
	Compiler: gcc 9.4.0

To view detailed results, visit:
https://lab.dpdk.org/results/dashboard/patchsets/29917/

UNH-IOL DPDK Community Lab

To manage your email subscriptions, visit: 
https://lab.dpdk.org/results/dashboard/preferences/subscriptions/