From mboxrd@z Thu Jan  1 00:00:00 1970
Return-Path: <test-report-bounces@dpdk.org>
Received: from mails.dpdk.org (mails.dpdk.org [217.70.189.124])
	by inbox.dpdk.org (Postfix) with ESMTP id C0B4F43FC4
	for <public@inbox.dpdk.org>; Mon,  6 May 2024 11:39:59 +0200 (CEST)
Received: from mails.dpdk.org (localhost [127.0.0.1])
	by mails.dpdk.org (Postfix) with ESMTP id BC203402C2;
	Mon,  6 May 2024 11:39:59 +0200 (CEST)
Received: from mail-qk1-f227.google.com (mail-qk1-f227.google.com
 [209.85.222.227])
 by mails.dpdk.org (Postfix) with ESMTP id B9DF1402B9
 for <test-report@dpdk.org>; Mon,  6 May 2024 11:39:58 +0200 (CEST)
Received: by mail-qk1-f227.google.com with SMTP id
 af79cd13be357-7928c8379f6so219688485a.3
 for <test-report@dpdk.org>; Mon, 06 May 2024 02:39:58 -0700 (PDT)
DKIM-Signature: v=1; a=rsa-sha256; c=relaxed/relaxed;
 d=iol.unh.edu; s=unh-iol; t=1714988398; x=1715593198; darn=dpdk.org;
 h=references:in-reply-to:cc:to:from:subject:message-id:date:from:to
 :cc:subject:date:message-id:reply-to;
 bh=jFmMg7MVbiB2Si85SA7+oyemMfP8htyh8luv5W8KgR0=;
 b=CV9YfPQVdPS1vacgXqN+jvC+evpjTr8TBSWqOj+Pg4BizKv7Qn0TRkDiAEK3G3KtWn
 iwSL/oj3vAth3BtwVkDjdPCohPyLQRPtiIIy38KUKpEZWguvqUvovu8CXW4R2HW1jGBR
 1z08BYkPVCtYUJ2Se5dv/i84GPOywdKZ4SgUo=
X-Google-DKIM-Signature: v=1; a=rsa-sha256; c=relaxed/relaxed;
 d=1e100.net; s=20230601; t=1714988398; x=1715593198;
 h=references:in-reply-to:cc:to:from:subject:message-id:date
 :x-gm-message-state:from:to:cc:subject:date:message-id:reply-to;
 bh=jFmMg7MVbiB2Si85SA7+oyemMfP8htyh8luv5W8KgR0=;
 b=a0H1YmaPsm3ZLHuwBi8un4fBUGZ1moicGWUqvSUUOCM6XGEBX/KGfmpKlwBNuYR6lt
 R9U7DOTwjDU0qL3+GF0vgcSDYip8UBl6iIrhcOfeCix6etC8N9O2Etsgng/Rjqe/XIUy
 csmfOww/w19v8qWa2wmKG4T5dAK2d7P8K6nhShRf4vdrFhgb1CmHO0TB1fG7ZNbx9tPS
 PG2irsX7CCXsbfNOsxREvtQEQm/0qX8Y431s9pYICyWxRIplkqrfRZqSpakB34SQ9qr4
 6PlrRH1tJ3Zp4RhYLe9FOujUDxPdDIcglicASk18hNlUvRxKqa+F1KksYUuvidTlKifN
 chMg==
X-Gm-Message-State: AOJu0YxdA1EJ+Fv7R7xdJ03vd7nJDtCVdGDoIQ4wOl73ikgtIzeaHU6L
 usI4HqNDz1s/SrptW9YbzP4Bo48UNVNbkcVM4rwrO/cjTng8NVh4dsSkW1y7NBCUfVznRCqgMj6
 BbLkBRE1ZfYexthLXmYtE4JrH3MIjXg+1FwuYmAzNU8cPqfJ9ike4F/ky
X-Google-Smtp-Source: AGHT+IFW8VoAZ2FQkc9MBiCUEpJVgMmELafixA2PfLRZ0DGMkXZgZ1mtazZ4Z8i5Y5ZQnBBT4PaWNc6C5hBX
X-Received: by 2002:ad4:5d4a:0:b0:6a0:d32d:79d with SMTP id
 jk10-20020ad45d4a000000b006a0d32d079dmr12447334qvb.56.1714988398044; 
 Mon, 06 May 2024 02:39:58 -0700 (PDT)
Received: from postal.iol.unh.edu (postal.iol.unh.edu.
 [2606:4100:3880:1234::84]) by smtp-relay.gmail.com with ESMTPS id
 y2-20020a0cec02000000b006a0e3000856sm512080qvo.40.2024.05.06.02.39.57
 (version=TLS1_2 cipher=ECDHE-ECDSA-AES128-GCM-SHA256 bits=128/128);
 Mon, 06 May 2024 02:39:58 -0700 (PDT)
X-Relaying-Domain: iol.unh.edu
Date: Mon, 06 May 2024 02:39:58 -0700 (PDT)
Message-ID: <6638a56e.0c0a0220.811a2.768fSMTPIN_ADDED_MISSING@mx.google.com>
Received: from [172.17.0.5] (unknown [172.18.0.217])
 by postal.iol.unh.edu (Postfix) with ESMTP id BABE2604A954;
 Mon,  6 May 2024 05:39:57 -0400 (EDT)
Subject: |SUCCESS| pw139875-139879 [PATCH] [RFC,v6,6/6] eal: keep per-lcore p
From: dpdklab@iol.unh.edu
To: Test Report <test-report@dpdk.org>
Cc: dpdk-test-reports@iol.unh.edu
In-Reply-To: <20240506082721.120666-7-mattias.ronnblom@ericsson.com>
References: <20240506082721.120666-7-mattias.ronnblom@ericsson.com>
Content-Type: text/plain
X-BeenThere: test-report@dpdk.org
X-Mailman-Version: 2.1.29
Precedence: list
List-Id: automatic DPDK test reports <test-report.dpdk.org>
List-Unsubscribe: <https://mails.dpdk.org/options/test-report>,
 <mailto:test-report-request@dpdk.org?subject=unsubscribe>
List-Archive: <http://mails.dpdk.org/archives/test-report/>
List-Post: <mailto:test-report@dpdk.org>
List-Help: <mailto:test-report-request@dpdk.org?subject=help>
List-Subscribe: <https://mails.dpdk.org/listinfo/test-report>,
 <mailto:test-report-request@dpdk.org?subject=subscribe>
Errors-To: test-report-bounces@dpdk.org

Test-Label: iol-unit-arm64-testing
Test-Status: SUCCESS
http://dpdk.org/patch/139879

_Testing PASS_

Submitter: Mattias Ronnblom <mattias.ronnblom@ericsson.com>
Date: Monday, May 06 2024 08:27:21 
DPDK git baseline: Repo:dpdk
  Branch: master
  CommitID:7e06c0de1952d3109a5b0c4779d7e7d8059c9d78

139875-139879 --> testing pass

Test environment and result as below:

+-----------------------------+------------------------------+---------------------------+----------------+
|         Environment         | cryptodev_sw_snow3g_autotest | cryptodev_sw_zuc_autotest | dpdk_unit_test |
+=============================+==============================+===========================+================+
| Debian 12 (arm)             | PASS                         | PASS                      | PASS           |
+-----------------------------+------------------------------+---------------------------+----------------+
| Debian 11 (Buster) (ARM)    | SKIPPED                      | SKIPPED                   | PASS           |
+-----------------------------+------------------------------+---------------------------+----------------+
| Fedora 37 (ARM)             | SKIPPED                      | SKIPPED                   | PASS           |
+-----------------------------+------------------------------+---------------------------+----------------+
| CentOS Stream 9 (ARM)       | SKIPPED                      | SKIPPED                   | PASS           |
+-----------------------------+------------------------------+---------------------------+----------------+
| 32-bit Ubuntu 20.04.4 (ARM) | SKIPPED                      | SKIPPED                   | PASS           |
+-----------------------------+------------------------------+---------------------------+----------------+


Debian 12 (arm)
	Kernel: Container Host Kernel
	Compiler: gcc 12.2.0

Debian 11 (Buster) (ARM)
	Kernel: Container Host Kernel
	Compiler: gcc 10.2.1

Fedora 37 (ARM)
	Kernel: Depends on container host
	Compiler: gcc 12.3.1

CentOS Stream 9 (ARM)
	Kernel: Container Host Kernel
	Compiler: gcc 11.4.1

32-bit Ubuntu 20.04.4 (ARM)
	Kernel: 5.4.0-155-generic aarch64
	Compiler: gcc 9.4

To view detailed results, visit:
https://lab.dpdk.org/results/dashboard/patchsets/29917/

UNH-IOL DPDK Community Lab

To manage your email subscriptions, visit: 
https://lab.dpdk.org/results/dashboard/preferences/subscriptions/