From mboxrd@z Thu Jan  1 00:00:00 1970
Return-Path: <test-report-bounces@dpdk.org>
Received: from mails.dpdk.org (mails.dpdk.org [217.70.189.124])
	by inbox.dpdk.org (Postfix) with ESMTP id 80CD743F5C
	for <public@inbox.dpdk.org>; Mon,  6 May 2024 20:47:52 +0200 (CEST)
Received: from mails.dpdk.org (localhost [127.0.0.1])
	by mails.dpdk.org (Postfix) with ESMTP id 7B0DF410E4;
	Mon,  6 May 2024 20:47:52 +0200 (CEST)
Received: from mail-vs1-f100.google.com (mail-vs1-f100.google.com
 [209.85.217.100])
 by mails.dpdk.org (Postfix) with ESMTP id 3AF0B402F2
 for <test-report@dpdk.org>; Mon,  6 May 2024 20:47:45 +0200 (CEST)
Received: by mail-vs1-f100.google.com with SMTP id
 ada2fe7eead31-47ef8c9991dso317851137.0
 for <test-report@dpdk.org>; Mon, 06 May 2024 11:47:45 -0700 (PDT)
DKIM-Signature: v=1; a=rsa-sha256; c=relaxed/relaxed;
 d=iol.unh.edu; s=unh-iol; t=1715021264; x=1715626064; darn=dpdk.org;
 h=references:in-reply-to:cc:to:from:subject:message-id:date:from:to
 :cc:subject:date:message-id:reply-to;
 bh=TtlleYEHsytgrwikZWyDYo/6maCGZJo5DytAzqb5kyk=;
 b=Lm7/nDGhLf4gCSHkQSgthH4K+yygM5WUEUFGRtHuQMspBeDutNGXsSbqEJOU14HPQP
 nwKDYBqhLTu1bmfLTkAH9uBhDAIAWQCD8qMAl/JxqGIv2mnL9U4B0Ct+Elb6u4co21Uj
 ih4wPoQ6kOibiNN5YxD/h5H7L8N3SvCUylVIw=
X-Google-DKIM-Signature: v=1; a=rsa-sha256; c=relaxed/relaxed;
 d=1e100.net; s=20230601; t=1715021264; x=1715626064;
 h=references:in-reply-to:cc:to:from:subject:message-id:date
 :x-gm-message-state:from:to:cc:subject:date:message-id:reply-to;
 bh=TtlleYEHsytgrwikZWyDYo/6maCGZJo5DytAzqb5kyk=;
 b=A9wZPXj6UBo7WZyiof5Owc1xCKJxaJnSmgJUolTe3wuw8t6EI6F8jnVj8FX0MaFFig
 sAQKPsAvzZ0UkR5ZSWl7htodBQ+0fSc94svwiwJlrP+El0SpV00xy9wB/yaDK8TxZnFI
 EzXbtkrY44wAkcBokC1aLT0zOHCVMqe+AKWerb7OJg8g8/XEfkVRATGrZPZYRirE8vmA
 vi6t3RPdImCwiK78zbDEP8NL9kNYODfxS2kOasb44rTMHzm/cP2uYAs25ffjB5YaQjEp
 lmiLSMBpMIamZX/wN2XktfVqm5S3UCWqPVEJ7/igtpV4AeIiBvyAWzGADN7AB7Nlhst7
 6DFQ==
X-Gm-Message-State: AOJu0YzAOYnFo1ZcnUoz8YDq2QOT33Tb+TpHgGx6ED1VtCO13UyxGrPS
 wLUODeFwpEtUT7ifj4qDS9N6AAWoXMl/X0WP+LWcbrbvvmgqP87vGxWP7ePYCnMadY+TgqDY4H6
 PV/N9J35zXI8RXKjtbvbdivxxwcpVZZO90zc2dwGdkoXLe5R8b92RPW9Y
X-Google-Smtp-Source: AGHT+IHuh4apFKs5suJFXIICzzHSmc0KGyL6o8N1MnUYEF/PHXxUnSbxzw9D/isTE2hQhkcElOvfFnC5iJse
X-Received: by 2002:a67:cf0c:0:b0:47c:248d:d00d with SMTP id
 y12-20020a67cf0c000000b0047c248dd00dmr8504172vsl.15.1715021264433; 
 Mon, 06 May 2024 11:47:44 -0700 (PDT)
Received: from postal.iol.unh.edu (postal.iol.unh.edu.
 [2606:4100:3880:1234::84]) by smtp-relay.gmail.com with ESMTPS id
 f19-20020ab03d13000000b007f19daed881sm704288uax.4.2024.05.06.11.47.44
 (version=TLS1_2 cipher=ECDHE-ECDSA-AES128-GCM-SHA256 bits=128/128);
 Mon, 06 May 2024 11:47:44 -0700 (PDT)
X-Relaying-Domain: iol.unh.edu
Date: Mon, 06 May 2024 11:47:44 -0700 (PDT)
Message-ID: <663925d0.b00a0220.6d84e.b838SMTPIN_ADDED_MISSING@mx.google.com>
Received: from [172.21.0.6] (unknown [172.18.0.240])
 by postal.iol.unh.edu (Postfix) with ESMTP id 16BF7605C373;
 Mon,  6 May 2024 14:47:44 -0400 (EDT)
Subject: |SUCCESS| pw139898-139940 [PATCH] [v5,45/45] app/test-bbdev: use rte
From: dpdklab@iol.unh.edu
To: Test Report <test-report@dpdk.org>
Cc: dpdk-test-reports@iol.unh.edu
In-Reply-To: <1715018306-13741-46-git-send-email-roretzla@linux.microsoft.com>
References: <1715018306-13741-46-git-send-email-roretzla@linux.microsoft.com>
Content-Type: text/plain
X-BeenThere: test-report@dpdk.org
X-Mailman-Version: 2.1.29
Precedence: list
List-Id: automatic DPDK test reports <test-report.dpdk.org>
List-Unsubscribe: <https://mails.dpdk.org/options/test-report>,
 <mailto:test-report-request@dpdk.org?subject=unsubscribe>
List-Archive: <http://mails.dpdk.org/archives/test-report/>
List-Post: <mailto:test-report@dpdk.org>
List-Help: <mailto:test-report-request@dpdk.org?subject=help>
List-Subscribe: <https://mails.dpdk.org/listinfo/test-report>,
 <mailto:test-report-request@dpdk.org?subject=subscribe>
Errors-To: test-report-bounces@dpdk.org

Test-Label: iol-compile-amd64-testing
Test-Status: SUCCESS
http://dpdk.org/patch/139940

_Testing PASS_

Submitter: Tyler Retzlaff <roretzla@linux.microsoft.com>
Date: Monday, May 06 2024 17:58:26 
DPDK git baseline: Repo:dpdk
  Branch: master
  CommitID:7e06c0de1952d3109a5b0c4779d7e7d8059c9d78

139898-139940 --> testing pass

Test environment and result as below:

+---------------------+--------------------+----------------------+-------------------+
|     Environment     | dpdk_meson_compile | dpdk_mingw64_compile | dpdk_msvc_compile |
+=====================+====================+======================+===================+
| FreeBSD 13.3        | PASS               | SKIPPED              | SKIPPED           |
+---------------------+--------------------+----------------------+-------------------+
| Windows Server 2019 | PASS               | PASS                 | SKIPPED           |
+---------------------+--------------------+----------------------+-------------------+
| Windows Server 2022 | PASS               | PASS                 | PASS              |
+---------------------+--------------------+----------------------+-------------------+
| FreeBSD 14.0        | PASS               | SKIPPED              | SKIPPED           |
+---------------------+--------------------+----------------------+-------------------+
| RHEL8               | PASS               | SKIPPED              | SKIPPED           |
+---------------------+--------------------+----------------------+-------------------+
| Fedora 39           | PASS               | SKIPPED              | SKIPPED           |
+---------------------+--------------------+----------------------+-------------------+
| CentOS Stream 9     | PASS               | SKIPPED              | SKIPPED           |
+---------------------+--------------------+----------------------+-------------------+


FreeBSD 13.3
	Kernel: 13.3-RELEASE-p1
	Compiler: clang 17.0.6

Windows Server 2019
	Kernel: 10.0.17763
	Compiler: clang 14.0 and gcc 8.1.0 (MinGW)

Windows Server 2022
	Kernel: 10.0.20348.2031
	Compiler: clang 15.0.7, gcc 8.1.0 (MinGW), and MSVC VS 17.9

FreeBSD 14.0
	Kernel: 14.0
	Compiler: clang 16.0.6

RHEL8
	Kernel: 5.4.0-167-generic
	Compiler: gcc 8.5.0 20210514 (Red Hat 8.5.0-20)

Fedora 39
	Kernel: Depends on container host
	Compiler: gcc 13.2.1

CentOS Stream 9
	Kernel: 5.4.0-167-generic
	Compiler: gcc 11.4.1 20230605

To view detailed results, visit:
https://lab.dpdk.org/results/dashboard/patchsets/29919/

UNH-IOL DPDK Community Lab

To manage your email subscriptions, visit: 
https://lab.dpdk.org/results/dashboard/preferences/subscriptions/