From mboxrd@z Thu Jan  1 00:00:00 1970
Return-Path: <test-report-bounces@dpdk.org>
Received: from mails.dpdk.org (mails.dpdk.org [217.70.189.124])
	by inbox.dpdk.org (Postfix) with ESMTP id 442F743F5C
	for <public@inbox.dpdk.org>; Mon,  6 May 2024 21:00:32 +0200 (CEST)
Received: from mails.dpdk.org (localhost [127.0.0.1])
	by mails.dpdk.org (Postfix) with ESMTP id 3BCD2410E4;
	Mon,  6 May 2024 21:00:32 +0200 (CEST)
Received: from mail-qv1-f98.google.com (mail-qv1-f98.google.com
 [209.85.219.98]) by mails.dpdk.org (Postfix) with ESMTP id 2C9B840EDF
 for <test-report@dpdk.org>; Mon,  6 May 2024 21:00:30 +0200 (CEST)
Received: by mail-qv1-f98.google.com with SMTP id
 6a1803df08f44-69b5ece41dfso10335906d6.2
 for <test-report@dpdk.org>; Mon, 06 May 2024 12:00:30 -0700 (PDT)
DKIM-Signature: v=1; a=rsa-sha256; c=relaxed/relaxed;
 d=iol.unh.edu; s=unh-iol; t=1715022029; x=1715626829; darn=dpdk.org;
 h=references:in-reply-to:cc:to:from:subject:message-id:date:from:to
 :cc:subject:date:message-id:reply-to;
 bh=QMT4gckJ5LSmNF1nHlUrgQKmSAk09fxpomeKlmfwSHg=;
 b=NtxWt2h0ROc7fc019rOWdktKxs2q8VjskLVBXlxGQMipMjHwDwEXUK0Ciu8Rd/j0Pc
 /fkfFepSPvDoKZnys5x0MqoEWE3picxCWMqz9PU7iHjSQQeB0K2MmvAzs9AY1UzQLPI8
 rogY7LtS6EU+cmHjR4ZWitbeEWWbIva/dFZx0=
X-Google-DKIM-Signature: v=1; a=rsa-sha256; c=relaxed/relaxed;
 d=1e100.net; s=20230601; t=1715022029; x=1715626829;
 h=references:in-reply-to:cc:to:from:subject:message-id:date
 :x-gm-message-state:from:to:cc:subject:date:message-id:reply-to;
 bh=QMT4gckJ5LSmNF1nHlUrgQKmSAk09fxpomeKlmfwSHg=;
 b=TtGT5Cj8VBIzaXXc6rgF7kkEuCo/6pVYR4shSplelNOXgXlmR7+lZyIyiDXFVAFft0
 LvjNfRa35Yq3y9ftHFucIh9RbeM2pIjK3H/AVIIe8mANF0VJe0L6DLrhzq+M1IT0lpLy
 5psFdodCouXJicIR9abyyXoUkUSu9I4TiVeOdG7PN5qp57BxlWrnm+eV6ve4aJ9JNSbD
 +sJoaxbjnqQvMLmKGC240wvfZbe9qHqqhCTEqKqjPqSE76iinE2stlZv0bP8ij9eLJ8H
 rsXPqT4/93bHJ6UczOgT0U0Uhvh8uLTttXpeiboKgUMTm/dL+YvmEQjb8YCuQowk+ZPh
 3DhA==
X-Gm-Message-State: AOJu0Yz13BKNplx92NNzP4MpZbO4WDscbNXuBiGaBgPml6IHj0Gapwte
 Z726LaJz0xBlLoxbC0ecwnrddfmMPTiisoJD8pL37OD7/yWdBikQAvURs1nTgzi4mKL1VElsZmz
 DV5BZTDJ4mcqJq3i9GvEFKY6EPVj3UX43vkKmZY0tlPGZH5meRMh/pOke
X-Google-Smtp-Source: AGHT+IHZ5CL8Ru4Ws4vRZozmcC/AtmozkF5jBCvqCigN6aDIHRytI0FujXrZ7OrZYmAEJ41vTVUCCiN49ylt
X-Received: by 2002:ad4:5e8a:0:b0:6a0:b705:27db with SMTP id
 jl10-20020ad45e8a000000b006a0b70527dbmr15025137qvb.13.1715022029345; 
 Mon, 06 May 2024 12:00:29 -0700 (PDT)
Received: from postal.iol.unh.edu (postal.iol.unh.edu.
 [2606:4100:3880:1234::84]) by smtp-relay.gmail.com with ESMTPS id
 dd13-20020ad4580d000000b006a0f2e10df7sm694271qvb.13.2024.05.06.12.00.29
 (version=TLS1_2 cipher=ECDHE-ECDSA-AES128-GCM-SHA256 bits=128/128);
 Mon, 06 May 2024 12:00:29 -0700 (PDT)
X-Relaying-Domain: iol.unh.edu
Date: Mon, 06 May 2024 12:00:29 -0700 (PDT)
Message-ID: <663928cd.d40a0220.4bc69.cde7SMTPIN_ADDED_MISSING@mx.google.com>
Received: from [172.21.0.6] (unknown [172.18.0.240])
 by postal.iol.unh.edu (Postfix) with ESMTP id C52C2605C373;
 Mon,  6 May 2024 15:00:28 -0400 (EDT)
Subject: |SUCCESS| pw139898-139940 [PATCH] [v5,45/45] app/test-bbdev: use rte
From: dpdklab@iol.unh.edu
To: Test Report <test-report@dpdk.org>
Cc: dpdk-test-reports@iol.unh.edu
In-Reply-To: <1715018306-13741-46-git-send-email-roretzla@linux.microsoft.com>
References: <1715018306-13741-46-git-send-email-roretzla@linux.microsoft.com>
Content-Type: text/plain
X-BeenThere: test-report@dpdk.org
X-Mailman-Version: 2.1.29
Precedence: list
List-Id: automatic DPDK test reports <test-report.dpdk.org>
List-Unsubscribe: <https://mails.dpdk.org/options/test-report>,
 <mailto:test-report-request@dpdk.org?subject=unsubscribe>
List-Archive: <http://mails.dpdk.org/archives/test-report/>
List-Post: <mailto:test-report@dpdk.org>
List-Help: <mailto:test-report-request@dpdk.org?subject=help>
List-Subscribe: <https://mails.dpdk.org/listinfo/test-report>,
 <mailto:test-report-request@dpdk.org?subject=subscribe>
Errors-To: test-report-bounces@dpdk.org

Test-Label: iol-unit-arm64-testing
Test-Status: SUCCESS
http://dpdk.org/patch/139940

_Testing PASS_

Submitter: Tyler Retzlaff <roretzla@linux.microsoft.com>
Date: Monday, May 06 2024 17:58:26 
DPDK git baseline: Repo:dpdk
  Branch: master
  CommitID:7e06c0de1952d3109a5b0c4779d7e7d8059c9d78

139898-139940 --> testing pass

Test environment and result as below:

+--------------------------+------------------------------+----------------+---------------------------+
|       Environment        | cryptodev_sw_snow3g_autotest | dpdk_unit_test | cryptodev_sw_zuc_autotest |
+==========================+==============================+================+===========================+
| Debian 12 (arm)          | PASS                         | PASS           | PASS                      |
+--------------------------+------------------------------+----------------+---------------------------+
| CentOS Stream 9 (ARM)    | SKIPPED                      | PASS           | SKIPPED                   |
+--------------------------+------------------------------+----------------+---------------------------+
| Debian 11 (Buster) (ARM) | SKIPPED                      | PASS           | SKIPPED                   |
+--------------------------+------------------------------+----------------+---------------------------+


Debian 12 (arm)
	Kernel: Container Host Kernel
	Compiler: gcc 12.2.0

CentOS Stream 9 (ARM)
	Kernel: Container Host Kernel
	Compiler: gcc 11.4.1

Debian 11 (Buster) (ARM)
	Kernel: Container Host Kernel
	Compiler: gcc 10.2.1

To view detailed results, visit:
https://lab.dpdk.org/results/dashboard/patchsets/29919/

UNH-IOL DPDK Community Lab

To manage your email subscriptions, visit: 
https://lab.dpdk.org/results/dashboard/preferences/subscriptions/