From mboxrd@z Thu Jan  1 00:00:00 1970
Return-Path: <test-report-bounces@dpdk.org>
Received: from mails.dpdk.org (mails.dpdk.org [217.70.189.124])
	by inbox.dpdk.org (Postfix) with ESMTP id C442E43F5C
	for <public@inbox.dpdk.org>; Mon,  6 May 2024 21:09:54 +0200 (CEST)
Received: from mails.dpdk.org (localhost [127.0.0.1])
	by mails.dpdk.org (Postfix) with ESMTP id BBBA8410E4;
	Mon,  6 May 2024 21:09:54 +0200 (CEST)
Received: from mail-pf1-f226.google.com (mail-pf1-f226.google.com
 [209.85.210.226])
 by mails.dpdk.org (Postfix) with ESMTP id 5F7E040EDF
 for <test-report@dpdk.org>; Mon,  6 May 2024 21:09:53 +0200 (CEST)
Received: by mail-pf1-f226.google.com with SMTP id
 d2e1a72fcca58-6f457853950so1446157b3a.0
 for <test-report@dpdk.org>; Mon, 06 May 2024 12:09:53 -0700 (PDT)
DKIM-Signature: v=1; a=rsa-sha256; c=relaxed/relaxed;
 d=iol.unh.edu; s=unh-iol; t=1715022592; x=1715627392; darn=dpdk.org;
 h=references:in-reply-to:cc:to:from:subject:message-id:date:from:to
 :cc:subject:date:message-id:reply-to;
 bh=9XNsT9yDOtauFnHfZKNBv7fFaTZ/I3969OZBnGSAbE8=;
 b=joToNT3wjaDrF48ah/+uE8To5zl1mW7dl9WCQ9d2eiFxVD6Wi4AYmiaxthNY78CPUN
 OXIe+4FOw3tfm7Yk+cqtpFy5cL1zNgFIF0ja5TdqvIWgokCqWQsaXmqEX3URtxjdihgE
 nTjj9SPGAsP4wVxjCphAn0fvk2YnmiHT2Z1VI=
X-Google-DKIM-Signature: v=1; a=rsa-sha256; c=relaxed/relaxed;
 d=1e100.net; s=20230601; t=1715022592; x=1715627392;
 h=references:in-reply-to:cc:to:from:subject:message-id:date
 :x-gm-message-state:from:to:cc:subject:date:message-id:reply-to;
 bh=9XNsT9yDOtauFnHfZKNBv7fFaTZ/I3969OZBnGSAbE8=;
 b=wioits+qy/rRLIdsQBQWYN3LDNCSObHSX7RZmFQe3BBA3SFgTr6Ci1yRrqPX7dSP/2
 IsVoit6jc66koogMyVsmNp07lzJKSy4HbJVaKxiBTQWMN+7v0Uq1e0wNZ7aQXARRi/E+
 ojtd4zu+8PE8ToSiV9sPWaQYV73G7u/t4mErjG3xtg1SugNXqknAZ8PsiFqVQyc8eMXB
 nimxzoI5cl3xww4zNF9ZKGCF1DYK2uVVFfUS1ns9SpShL89Qj9IxELSWi+3VlwaVP6RC
 MTxLzVvD3UtUm4WK8d+oqq3VRmV0zw6d+QxvOFlmH0K+gJ+XUXqqYcsGszRIOzIq4SiV
 3tWw==
X-Gm-Message-State: AOJu0Yx4s7mPH5TfHH6JMHDbrly34h9Iq6hOi1+FZ118XX9kL2MGastr
 Kv1NMPz/mbyxoS1yPUhNjTTEBqLtu73LrThJsjtzPuK0qZgCuEvong6rj9/uY9AGpGQtrOTIShV
 ft0rvyVQ5SvIMuqMUYo3NN07LDk4XlmENcHV0v8OKpn/GAUkbuR19wqhI
X-Google-Smtp-Source: AGHT+IH249/E6KmnpB8h+ZnpH1OR9l5Q2RtRhRYcGYNWpdSrv4/JZN2OLCt8PJU4g45Qiv9kig8Op53563Ss
X-Received: by 2002:a05:6a20:9689:b0:1af:9161:4048 with SMTP id
 adf61e73a8af0-1afbdc93213mr752826637.1.1715022592441; 
 Mon, 06 May 2024 12:09:52 -0700 (PDT)
Received: from postal.iol.unh.edu (postal.iol.unh.edu.
 [2606:4100:3880:1234::84]) by smtp-relay.gmail.com with ESMTPS id
 t23-20020a634617000000b005dc87314070sm1023396pga.4.2024.05.06.12.09.52
 (version=TLS1_2 cipher=ECDHE-ECDSA-AES128-GCM-SHA256 bits=128/128);
 Mon, 06 May 2024 12:09:52 -0700 (PDT)
X-Relaying-Domain: iol.unh.edu
Date: Mon, 06 May 2024 12:09:52 -0700 (PDT)
Message-ID: <66392b00.630a0220.d64d2.c6c1SMTPIN_ADDED_MISSING@mx.google.com>
Received: from [172.21.0.6] (unknown [172.18.0.240])
 by postal.iol.unh.edu (Postfix) with ESMTP id 7C0E3605C373;
 Mon,  6 May 2024 15:09:51 -0400 (EDT)
Subject: |SUCCESS| pw139898-139940 [PATCH] [v5,45/45] app/test-bbdev: use rte
From: dpdklab@iol.unh.edu
To: Test Report <test-report@dpdk.org>
Cc: dpdk-test-reports@iol.unh.edu
In-Reply-To: <1715018306-13741-46-git-send-email-roretzla@linux.microsoft.com>
References: <1715018306-13741-46-git-send-email-roretzla@linux.microsoft.com>
Content-Type: text/plain
X-BeenThere: test-report@dpdk.org
X-Mailman-Version: 2.1.29
Precedence: list
List-Id: automatic DPDK test reports <test-report.dpdk.org>
List-Unsubscribe: <https://mails.dpdk.org/options/test-report>,
 <mailto:test-report-request@dpdk.org?subject=unsubscribe>
List-Archive: <http://mails.dpdk.org/archives/test-report/>
List-Post: <mailto:test-report@dpdk.org>
List-Help: <mailto:test-report-request@dpdk.org?subject=help>
List-Subscribe: <https://mails.dpdk.org/listinfo/test-report>,
 <mailto:test-report-request@dpdk.org?subject=subscribe>
Errors-To: test-report-bounces@dpdk.org

Test-Label: iol-compile-amd64-testing
Test-Status: SUCCESS
http://dpdk.org/patch/139940

_Testing PASS_

Submitter: Tyler Retzlaff <roretzla@linux.microsoft.com>
Date: Monday, May 06 2024 17:58:26 
DPDK git baseline: Repo:dpdk
  Branch: master
  CommitID:7e06c0de1952d3109a5b0c4779d7e7d8059c9d78

139898-139940 --> testing pass

Test environment and result as below:

+---------------------+--------------------+----------------------+-------------------+
|     Environment     | dpdk_meson_compile | dpdk_mingw64_compile | dpdk_msvc_compile |
+=====================+====================+======================+===================+
| FreeBSD 13.3        | PASS               | SKIPPED              | SKIPPED           |
+---------------------+--------------------+----------------------+-------------------+
| Windows Server 2019 | PASS               | PASS                 | SKIPPED           |
+---------------------+--------------------+----------------------+-------------------+
| Windows Server 2022 | PASS               | PASS                 | PASS              |
+---------------------+--------------------+----------------------+-------------------+
| FreeBSD 14.0        | PASS               | SKIPPED              | SKIPPED           |
+---------------------+--------------------+----------------------+-------------------+
| RHEL8               | PASS               | SKIPPED              | SKIPPED           |
+---------------------+--------------------+----------------------+-------------------+
| Fedora 39           | PASS               | SKIPPED              | SKIPPED           |
+---------------------+--------------------+----------------------+-------------------+
| CentOS Stream 9     | PASS               | SKIPPED              | SKIPPED           |
+---------------------+--------------------+----------------------+-------------------+
| CentOS Stream 8     | PASS               | SKIPPED              | SKIPPED           |
+---------------------+--------------------+----------------------+-------------------+
| Fedora 37           | PASS               | SKIPPED              | SKIPPED           |
+---------------------+--------------------+----------------------+-------------------+
| Fedora 38           | PASS               | SKIPPED              | SKIPPED           |
+---------------------+--------------------+----------------------+-------------------+
| Debian 12           | PASS               | SKIPPED              | SKIPPED           |
+---------------------+--------------------+----------------------+-------------------+
| openSUSE Leap 15    | PASS               | SKIPPED              | SKIPPED           |
+---------------------+--------------------+----------------------+-------------------+
| Ubuntu 20.04        | PASS               | SKIPPED              | SKIPPED           |
+---------------------+--------------------+----------------------+-------------------+
| Debian Bullseye     | PASS               | SKIPPED              | SKIPPED           |
+---------------------+--------------------+----------------------+-------------------+


FreeBSD 13.3
	Kernel: 13.3-RELEASE-p1
	Compiler: clang 17.0.6

Windows Server 2019
	Kernel: 10.0.17763
	Compiler: clang 14.0 and gcc 8.1.0 (MinGW)

Windows Server 2022
	Kernel: 10.0.20348.2031
	Compiler: clang 15.0.7, gcc 8.1.0 (MinGW), and MSVC VS 17.9

FreeBSD 14.0
	Kernel: 14.0
	Compiler: clang 16.0.6

RHEL8
	Kernel: 5.4.0-167-generic
	Compiler: gcc 8.5.0 20210514 (Red Hat 8.5.0-20)

Fedora 39
	Kernel: Depends on container host
	Compiler: gcc 13.2.1

CentOS Stream 9
	Kernel: 5.4.0-167-generic
	Compiler: gcc 11.4.1 20230605

CentOS Stream 8
	Kernel: 5.4.0-167-generic
	Compiler: gcc 8.5.0 20210514

Fedora 37
	Kernel: Depends on container host system
	Compiler: gcc 12.3.1

Fedora 38
	Kernel: Depends on container host
	Compiler: clang 16.0.6

Debian 12
	Kernel: Container Host Kernel
	Compiler: gcc 10.2.1

openSUSE Leap 15
	Kernel: 5.4.0-167-generic
	Compiler: gcc 7.5.0

Ubuntu 20.04
	Kernel: 5.4.0-167-generic
	Compiler: gcc 9.4.0-1ubuntu1~20.04.1

Debian Bullseye
	Kernel: 5.4.0-167-generic
	Compiler: gcc 10.2.1-6

To view detailed results, visit:
https://lab.dpdk.org/results/dashboard/patchsets/29919/

UNH-IOL DPDK Community Lab

To manage your email subscriptions, visit: 
https://lab.dpdk.org/results/dashboard/preferences/subscriptions/