From mboxrd@z Thu Jan  1 00:00:00 1970
Return-Path: <test-report-bounces@dpdk.org>
Received: from mails.dpdk.org (mails.dpdk.org [217.70.189.124])
	by inbox.dpdk.org (Postfix) with ESMTP id 85A9043FAA
	for <public@inbox.dpdk.org>; Tue,  7 May 2024 05:34:51 +0200 (CEST)
Received: from mails.dpdk.org (localhost [127.0.0.1])
	by mails.dpdk.org (Postfix) with ESMTP id 79DEF42E3F;
	Tue,  7 May 2024 05:34:51 +0200 (CEST)
Received: from mail-yb1-f227.google.com (mail-yb1-f227.google.com
 [209.85.219.227])
 by mails.dpdk.org (Postfix) with ESMTP id 3B4234027B
 for <test-report@dpdk.org>; Tue,  7 May 2024 05:34:50 +0200 (CEST)
Received: by mail-yb1-f227.google.com with SMTP id
 3f1490d57ef6-de60a51fe21so2887017276.0
 for <test-report@dpdk.org>; Mon, 06 May 2024 20:34:50 -0700 (PDT)
DKIM-Signature: v=1; a=rsa-sha256; c=relaxed/relaxed;
 d=iol.unh.edu; s=unh-iol; t=1715052889; x=1715657689; darn=dpdk.org;
 h=references:in-reply-to:cc:to:from:subject:message-id:date:from:to
 :cc:subject:date:message-id:reply-to;
 bh=2yMWt095whZPPzCUWtWYB/3NjxVHupCV4FB9Li5K9L4=;
 b=SeMuD6tLpsos51N9Dd7LWVRM2cxGlXD9D8kpfLYnf60IkyaGfuLG3QD9inVfHu9IAI
 mbv9CLOhG3gJP+TVUg1cKuy+hsfa47wyvsvZKkhDbBXZIlipjNmpzLaJ62ygbo+sXxzC
 kbZVxTTCIHuNbQ70ghETMdEFNw72hp1xZrmU0=
X-Google-DKIM-Signature: v=1; a=rsa-sha256; c=relaxed/relaxed;
 d=1e100.net; s=20230601; t=1715052889; x=1715657689;
 h=references:in-reply-to:cc:to:from:subject:message-id:date
 :x-gm-message-state:from:to:cc:subject:date:message-id:reply-to;
 bh=2yMWt095whZPPzCUWtWYB/3NjxVHupCV4FB9Li5K9L4=;
 b=dw3Pkg0yMgLpKsp5BkBiHpkO9dZzV0xqxpl13I99BTle8JAtM8+vVCsz+emPqhwpjV
 lPsnbiCwZbCNrpA9sXHqrbpaFjfVHIp2N52btX+AfjCA4FvUaa3aikSHmW7UUCenvDBV
 lhhKX38zZ6k7/vWRxezyFevvyIAsT4zZFBBgPnweTucFiQBM3FTn7657BdG4UgVapmfe
 Lh+4LgJxAgp+09o9yP0X+beGjMBxciQQDefF53zShfnxpVsxfCvj12ASbpJBMF4vnSrU
 j0LqJ1e/G8gpUAImB2hpxHCm+YeN6TfC6PovBdJML/LpuYTwaNzBS9/8TTh5nt9ysDoU
 3fwg==
X-Gm-Message-State: AOJu0YznquteEtRA5rh42YIv+Of0TAQgcK7yBP+Em1hAJZWUiTeKEDRj
 SmH/534J5a/79Y5dmy+2FMjofmhFM73UG53OkkptwgrMkVy6wj8BrAaLgfTr81DY7oD5aFJqyOo
 RBf65Du6yoJwPmWMnE8Qf6OFdjqYlKNH3uWz9lY44
X-Google-Smtp-Source: AGHT+IEyfVKqqmZXQg7/mUZ1FjOhGMcoTORIx9jzbdqrt29OlQ40qwqyMGHZT7adzjoCKlCslksAfn0Jq8QV
X-Received: by 2002:a05:6902:2211:b0:de5:4c40:f917 with SMTP id
 dm17-20020a056902221100b00de54c40f917mr16793276ybb.30.1715052889647; 
 Mon, 06 May 2024 20:34:49 -0700 (PDT)
Received: from postal.iol.unh.edu (postal.iol.unh.edu. [132.177.123.84])
 by smtp-relay.gmail.com with ESMTPS id
 ba13-20020a056130040d00b007f021dd2701sm739111uab.14.2024.05.06.20.34.49
 (version=TLS1_2 cipher=ECDHE-ECDSA-AES128-GCM-SHA256 bits=128/128);
 Mon, 06 May 2024 20:34:49 -0700 (PDT)
X-Relaying-Domain: iol.unh.edu
Date: Mon, 06 May 2024 20:34:49 -0700 (PDT)
Message-ID: <6639a159.050a0220.fe7db.9900SMTPIN_ADDED_MISSING@mx.google.com>
Received: from [172.21.0.6] (unknown [172.18.0.240])
 by postal.iol.unh.edu (Postfix) with ESMTP id 4855C604A954;
 Mon,  6 May 2024 23:34:49 -0400 (EDT)
Subject: |SUCCESS| pw139960-139961 [PATCH] [2/2] latencystats: replace use of
From: dpdklab@iol.unh.edu
To: Test Report <test-report@dpdk.org>
Cc: dpdk-test-reports@iol.unh.edu
In-Reply-To: <20240507025355.7145-2-stephen@networkplumber.org>
References: <20240507025355.7145-2-stephen@networkplumber.org>
Content-Type: text/plain
X-BeenThere: test-report@dpdk.org
X-Mailman-Version: 2.1.29
Precedence: list
List-Id: automatic DPDK test reports <test-report.dpdk.org>
List-Unsubscribe: <https://mails.dpdk.org/options/test-report>,
 <mailto:test-report-request@dpdk.org?subject=unsubscribe>
List-Archive: <http://mails.dpdk.org/archives/test-report/>
List-Post: <mailto:test-report@dpdk.org>
List-Help: <mailto:test-report-request@dpdk.org?subject=help>
List-Subscribe: <https://mails.dpdk.org/listinfo/test-report>,
 <mailto:test-report-request@dpdk.org?subject=subscribe>
Errors-To: test-report-bounces@dpdk.org

Test-Label: iol-compile-amd64-testing
Test-Status: SUCCESS
http://dpdk.org/patch/139961

_Testing PASS_

Submitter: Stephen Hemminger <stephen@networkplumber.org>
Date: Tuesday, May 07 2024 02:53:55 
DPDK git baseline: Repo:dpdk
  Branch: master
  CommitID:7e06c0de1952d3109a5b0c4779d7e7d8059c9d78

139960-139961 --> testing pass

Test environment and result as below:

+---------------------+--------------------+-------------------+----------------------+
|     Environment     | dpdk_meson_compile | dpdk_msvc_compile | dpdk_mingw64_compile |
+=====================+====================+===================+======================+
| FreeBSD 13.3        | PASS               | SKIPPED           | SKIPPED              |
+---------------------+--------------------+-------------------+----------------------+
| Debian Bullseye     | PASS               | SKIPPED           | SKIPPED              |
+---------------------+--------------------+-------------------+----------------------+
| Debian 12           | PASS               | SKIPPED           | SKIPPED              |
+---------------------+--------------------+-------------------+----------------------+
| Windows Server 2019 | PASS               | SKIPPED           | PASS                 |
+---------------------+--------------------+-------------------+----------------------+
| CentOS Stream 9     | PASS               | SKIPPED           | SKIPPED              |
+---------------------+--------------------+-------------------+----------------------+
| Windows Server 2022 | PASS               | PASS              | PASS                 |
+---------------------+--------------------+-------------------+----------------------+
| FreeBSD 14.0        | PASS               | SKIPPED           | SKIPPED              |
+---------------------+--------------------+-------------------+----------------------+
| CentOS Stream 8     | PASS               | SKIPPED           | SKIPPED              |
+---------------------+--------------------+-------------------+----------------------+


FreeBSD 13.3
	Kernel: 13.3-RELEASE-p1
	Compiler: clang 17.0.6

Debian Bullseye
	Kernel: 5.4.0-167-generic
	Compiler: gcc 10.2.1-6

Debian 12
	Kernel: Container Host Kernel
	Compiler: gcc 10.2.1

Windows Server 2019
	Kernel: 10.0.17763
	Compiler: clang 14.0 and gcc 8.1.0 (MinGW)

CentOS Stream 9
	Kernel: 5.4.0-167-generic
	Compiler: gcc 11.4.1 20230605

Windows Server 2022
	Kernel: 10.0.20348.2031
	Compiler: clang 15.0.7, gcc 8.1.0 (MinGW), and MSVC VS 17.9

FreeBSD 14.0
	Kernel: 14.0
	Compiler: clang 16.0.6

CentOS Stream 8
	Kernel: 5.4.0-167-generic
	Compiler: gcc 8.5.0 20210514

To view detailed results, visit:
https://lab.dpdk.org/results/dashboard/patchsets/29921/

UNH-IOL DPDK Community Lab

To manage your email subscriptions, visit: 
https://lab.dpdk.org/results/dashboard/preferences/subscriptions/