From mboxrd@z Thu Jan  1 00:00:00 1970
Return-Path: <test-report-bounces@dpdk.org>
Received: from mails.dpdk.org (mails.dpdk.org [217.70.189.124])
	by inbox.dpdk.org (Postfix) with ESMTP id 3879A43FAA
	for <public@inbox.dpdk.org>; Tue,  7 May 2024 05:37:06 +0200 (CEST)
Received: from mails.dpdk.org (localhost [127.0.0.1])
	by mails.dpdk.org (Postfix) with ESMTP id 2FA9642E3F;
	Tue,  7 May 2024 05:37:06 +0200 (CEST)
Received: from mail-ot1-f97.google.com (mail-ot1-f97.google.com
 [209.85.210.97]) by mails.dpdk.org (Postfix) with ESMTP id 35A0B4027B
 for <test-report@dpdk.org>; Tue,  7 May 2024 05:37:05 +0200 (CEST)
Received: by mail-ot1-f97.google.com with SMTP id
 46e09a7af769-6f04ec17bacso1073701a34.1
 for <test-report@dpdk.org>; Mon, 06 May 2024 20:37:05 -0700 (PDT)
DKIM-Signature: v=1; a=rsa-sha256; c=relaxed/relaxed;
 d=iol.unh.edu; s=unh-iol; t=1715053024; x=1715657824; darn=dpdk.org;
 h=references:in-reply-to:cc:to:from:subject:message-id:date:from:to
 :cc:subject:date:message-id:reply-to;
 bh=NrxfO+y1dcT1MPzc1Uf1vPjmVA9K413FOePO3ncnfwY=;
 b=WCgfdAFYNnmXr2rJrbJi7GDqPdeZLa2d/dSQiU+tiaue0oJyJtp+PVc7hImPaHo0fN
 lGs1sYs3CLBXau+3h/1TjoeVU5NToQnJfi9EGCoVsXdzrOHnAsabgfDcKtT6/wuB1t9T
 pPG3mgL7elKs6OucsLysh5U/7CpkG9Ffho0N0=
X-Google-DKIM-Signature: v=1; a=rsa-sha256; c=relaxed/relaxed;
 d=1e100.net; s=20230601; t=1715053024; x=1715657824;
 h=references:in-reply-to:cc:to:from:subject:message-id:date
 :x-gm-message-state:from:to:cc:subject:date:message-id:reply-to;
 bh=NrxfO+y1dcT1MPzc1Uf1vPjmVA9K413FOePO3ncnfwY=;
 b=vjLXS1LPVusrOvnNKHVWAU5megmRZctPUsVi2Wn1tGnDTq61t8QHGElcuCLG1tOaeY
 mcVrqKHPiUeDU0H7L0dhBrujQHG2KwSc2/lHoRPvn3UxOUxEmgOEQCxs1qn/Wt7d0DiH
 VwK3nAv5T8/AfKhHDODbvwu8TXCRztDUfw8kYdyzDmZMmHB7VZhAfacsp6I2tMRFvSFU
 Y9EmUumfhR9IT2KsSBRXM2qJPZ6lCX/dJpWCVkZFNnazv8W/fDCpXQqj/DohLT/5CIYL
 JR3DpLE8QnlZ6xG8J3JiNfEqQEvbZms5mcuEGyjGSN8flynLo8Cmc+movSazVyqftnCJ
 BA5w==
X-Gm-Message-State: AOJu0Yzvcf05wpRnYunao9bl+9hxF17+8aY1BCzdwB89QVfNfnZgpmX+
 FPpfSmx/4EpUiQrwNIZRIYK870Vz2877c8o07RMc0oiQ/PHUpyvC/Kz9Ng5DMp4jvZ4tG8PwEfK
 reXFNEHbYFTqLtPK8YxWcL2bk76o5qTOeatkmtbrqgEqfrx/fBXO5MZNQ
X-Google-Smtp-Source: AGHT+IHJei6NGVxpUkcIBIz0Oq5aoAIZTR5Eh7lGWZ8cF99uiEiY2C3Ewyd1VkVGdmHyaqt18Bq6cSEKcAZJ
X-Received: by 2002:a05:6830:e11:b0:6ef:9485:fdbd with SMTP id
 do17-20020a0568300e1100b006ef9485fdbdmr14968298otb.33.1715053024501; 
 Mon, 06 May 2024 20:37:04 -0700 (PDT)
Received: from postal.iol.unh.edu (postal.iol.unh.edu.
 [2606:4100:3880:1234::84]) by smtp-relay.gmail.com with ESMTPS id
 l34-20020a0568302b2200b006efa155fcf5sm666054otv.1.2024.05.06.20.37.04
 (version=TLS1_2 cipher=ECDHE-ECDSA-AES128-GCM-SHA256 bits=128/128);
 Mon, 06 May 2024 20:37:04 -0700 (PDT)
X-Relaying-Domain: iol.unh.edu
Date: Mon, 06 May 2024 20:37:04 -0700 (PDT)
Message-ID: <6639a1e0.050a0220.fdc20.7b48SMTPIN_ADDED_MISSING@mx.google.com>
Received: from [172.21.0.6] (unknown [172.18.0.240])
 by postal.iol.unh.edu (Postfix) with ESMTP id F2D52604A954;
 Mon,  6 May 2024 23:37:03 -0400 (EDT)
Subject: |SUCCESS| pw139960-139961 [PATCH] [2/2] latencystats: replace use of
From: dpdklab@iol.unh.edu
To: Test Report <test-report@dpdk.org>
Cc: dpdk-test-reports@iol.unh.edu
In-Reply-To: <20240507025355.7145-2-stephen@networkplumber.org>
References: <20240507025355.7145-2-stephen@networkplumber.org>
Content-Type: text/plain
X-BeenThere: test-report@dpdk.org
X-Mailman-Version: 2.1.29
Precedence: list
List-Id: automatic DPDK test reports <test-report.dpdk.org>
List-Unsubscribe: <https://mails.dpdk.org/options/test-report>,
 <mailto:test-report-request@dpdk.org?subject=unsubscribe>
List-Archive: <http://mails.dpdk.org/archives/test-report/>
List-Post: <mailto:test-report@dpdk.org>
List-Help: <mailto:test-report-request@dpdk.org?subject=help>
List-Subscribe: <https://mails.dpdk.org/listinfo/test-report>,
 <mailto:test-report-request@dpdk.org?subject=subscribe>
Errors-To: test-report-bounces@dpdk.org

Test-Label: iol-compile-amd64-testing
Test-Status: SUCCESS
http://dpdk.org/patch/139961

_Testing PASS_

Submitter: Stephen Hemminger <stephen@networkplumber.org>
Date: Tuesday, May 07 2024 02:53:55 
DPDK git baseline: Repo:dpdk
  Branch: master
  CommitID:7e06c0de1952d3109a5b0c4779d7e7d8059c9d78

139960-139961 --> testing pass

Test environment and result as below:

+---------------------+--------------------+-------------------+----------------------+
|     Environment     | dpdk_meson_compile | dpdk_msvc_compile | dpdk_mingw64_compile |
+=====================+====================+===================+======================+
| FreeBSD 13.3        | PASS               | SKIPPED           | SKIPPED              |
+---------------------+--------------------+-------------------+----------------------+
| Debian Bullseye     | PASS               | SKIPPED           | SKIPPED              |
+---------------------+--------------------+-------------------+----------------------+
| Debian 12           | PASS               | SKIPPED           | SKIPPED              |
+---------------------+--------------------+-------------------+----------------------+
| Windows Server 2019 | PASS               | SKIPPED           | PASS                 |
+---------------------+--------------------+-------------------+----------------------+
| CentOS Stream 9     | PASS               | SKIPPED           | SKIPPED              |
+---------------------+--------------------+-------------------+----------------------+
| Windows Server 2022 | PASS               | PASS              | PASS                 |
+---------------------+--------------------+-------------------+----------------------+
| FreeBSD 14.0        | PASS               | SKIPPED           | SKIPPED              |
+---------------------+--------------------+-------------------+----------------------+
| CentOS Stream 8     | PASS               | SKIPPED           | SKIPPED              |
+---------------------+--------------------+-------------------+----------------------+
| Fedora 38           | PASS               | SKIPPED           | SKIPPED              |
+---------------------+--------------------+-------------------+----------------------+
| Fedora 37           | PASS               | SKIPPED           | SKIPPED              |
+---------------------+--------------------+-------------------+----------------------+


FreeBSD 13.3
	Kernel: 13.3-RELEASE-p1
	Compiler: clang 17.0.6

Debian Bullseye
	Kernel: 5.4.0-167-generic
	Compiler: gcc 10.2.1-6

Debian 12
	Kernel: Container Host Kernel
	Compiler: gcc 10.2.1

Windows Server 2019
	Kernel: 10.0.17763
	Compiler: clang 14.0 and gcc 8.1.0 (MinGW)

CentOS Stream 9
	Kernel: 5.4.0-167-generic
	Compiler: gcc 11.4.1 20230605

Windows Server 2022
	Kernel: 10.0.20348.2031
	Compiler: clang 15.0.7, gcc 8.1.0 (MinGW), and MSVC VS 17.9

FreeBSD 14.0
	Kernel: 14.0
	Compiler: clang 16.0.6

CentOS Stream 8
	Kernel: 5.4.0-167-generic
	Compiler: gcc 8.5.0 20210514

Fedora 38
	Kernel: Depends on container host
	Compiler: gcc 13.2.1

Fedora 37
	Kernel: Depends on container host system
	Compiler: gcc 12.3.1

To view detailed results, visit:
https://lab.dpdk.org/results/dashboard/patchsets/29921/

UNH-IOL DPDK Community Lab

To manage your email subscriptions, visit: 
https://lab.dpdk.org/results/dashboard/preferences/subscriptions/