From mboxrd@z Thu Jan  1 00:00:00 1970
Return-Path: <test-report-bounces@dpdk.org>
Received: from mails.dpdk.org (mails.dpdk.org [217.70.189.124])
	by inbox.dpdk.org (Postfix) with ESMTP id 5B9D043FAA
	for <public@inbox.dpdk.org>; Tue,  7 May 2024 05:40:09 +0200 (CEST)
Received: from mails.dpdk.org (localhost [127.0.0.1])
	by mails.dpdk.org (Postfix) with ESMTP id 535A642E3F;
	Tue,  7 May 2024 05:40:09 +0200 (CEST)
Received: from mail-qv1-f100.google.com (mail-qv1-f100.google.com
 [209.85.219.100])
 by mails.dpdk.org (Postfix) with ESMTP id E0BCE4027B
 for <test-report@dpdk.org>; Tue,  7 May 2024 05:40:07 +0200 (CEST)
Received: by mail-qv1-f100.google.com with SMTP id
 6a1803df08f44-6a0c8fb3540so17600936d6.1
 for <test-report@dpdk.org>; Mon, 06 May 2024 20:40:07 -0700 (PDT)
DKIM-Signature: v=1; a=rsa-sha256; c=relaxed/relaxed;
 d=iol.unh.edu; s=unh-iol; t=1715053207; x=1715658007; darn=dpdk.org;
 h=references:in-reply-to:cc:to:from:subject:message-id:date:from:to
 :cc:subject:date:message-id:reply-to;
 bh=QF+eGzR4/iRYt/YSQax8hK5L9D8rrUzQeWqXlXYruS4=;
 b=PpaY/d7nW6KssyyrFJQZD4SKeAVWFOk2EOb/3H1W1qYowvVscEgESiHnpFwn6OQU85
 BFeInj3RYAoayXKSFC9mYRytWAhsFsccPFrWsaIHDfgtB3FA3kseOiB3NwxHHkh9CO6o
 wph3mJuUWs6OcOQFkd1N31bnHb5Z4SVbMikyw=
X-Google-DKIM-Signature: v=1; a=rsa-sha256; c=relaxed/relaxed;
 d=1e100.net; s=20230601; t=1715053207; x=1715658007;
 h=references:in-reply-to:cc:to:from:subject:message-id:date
 :x-gm-message-state:from:to:cc:subject:date:message-id:reply-to;
 bh=QF+eGzR4/iRYt/YSQax8hK5L9D8rrUzQeWqXlXYruS4=;
 b=J80iALI1XExUQWqID+oQl1PVONz9Z2xZH6AVJ5kHyOmIKC/s8id5owAIZJuDnCd/Eb
 KXXZ84cGhhoygLkoUxrhsy96AV0T9OTDud/OD2S868iCAVcBW7gMk1wQxb0CWm7eF9kJ
 pF2Z7NAi7ZKPCNgtp9PkIh2AMXmjgSX6HReBBgTVLHDNUipeLI2OlpLrgM0SHf0ftosU
 maDlC//L5/wWS5UOmiQY4sSR2fRcjOWO+gx2348hR3uwIvt4stADnDHqGgI4rztQKgHx
 j0JA2pNHO68LLveAwfdHJk4LOzzYvgffPXrlG7CF7vUd9x/XYqO76l3v5Lc6hws1VEtP
 htFQ==
X-Gm-Message-State: AOJu0Yy29hdZSd5CrRpuCLHm/4Mp3e4P7t/y17JcLddgvPDTH0bMD3S5
 7c0utx/TU5y95IpVMgY6LFX+0L5pVaCnCP21+csn6Nbwl8ax/VUk/Cy+YboePe9GiRtdPkclE5L
 fPfDg08FfWJD/g0zSr2/JrzZIBXpMhDUEy3XUr6KQnr4lvgLb9mp9l0m5
X-Google-Smtp-Source: AGHT+IECIZpbFDYF6o6XOlPsq2WaCzXIPSkccYZsyExwXGz4tYz+0au2F8CKm+sMxwSd19foY8FFdsdzzKBt
X-Received: by 2002:ad4:5fc7:0:b0:6a0:def5:8281 with SMTP id
 jq7-20020ad45fc7000000b006a0def58281mr2528958qvb.11.1715053207239; 
 Mon, 06 May 2024 20:40:07 -0700 (PDT)
Received: from postal.iol.unh.edu (postal.iol.unh.edu.
 [2606:4100:3880:1234::84]) by smtp-relay.gmail.com with ESMTPS id
 iy8-20020a0562140f6800b006a11eefae0asm609890qvb.56.2024.05.06.20.40.07
 (version=TLS1_2 cipher=ECDHE-ECDSA-AES128-GCM-SHA256 bits=128/128);
 Mon, 06 May 2024 20:40:07 -0700 (PDT)
X-Relaying-Domain: iol.unh.edu
Date: Mon, 06 May 2024 20:40:07 -0700 (PDT)
Message-ID: <6639a297.050a0220.d668.412fSMTPIN_ADDED_MISSING@mx.google.com>
Received: from [172.21.0.6] (unknown [172.18.0.240])
 by postal.iol.unh.edu (Postfix) with ESMTP id E462B604A954;
 Mon,  6 May 2024 23:40:06 -0400 (EDT)
Subject: |SUCCESS| pw139960-139961 [PATCH] [2/2] latencystats: replace use of
From: dpdklab@iol.unh.edu
To: Test Report <test-report@dpdk.org>
Cc: dpdk-test-reports@iol.unh.edu
In-Reply-To: <20240507025355.7145-2-stephen@networkplumber.org>
References: <20240507025355.7145-2-stephen@networkplumber.org>
Content-Type: text/plain
X-BeenThere: test-report@dpdk.org
X-Mailman-Version: 2.1.29
Precedence: list
List-Id: automatic DPDK test reports <test-report.dpdk.org>
List-Unsubscribe: <https://mails.dpdk.org/options/test-report>,
 <mailto:test-report-request@dpdk.org?subject=unsubscribe>
List-Archive: <http://mails.dpdk.org/archives/test-report/>
List-Post: <mailto:test-report@dpdk.org>
List-Help: <mailto:test-report-request@dpdk.org?subject=help>
List-Subscribe: <https://mails.dpdk.org/listinfo/test-report>,
 <mailto:test-report-request@dpdk.org?subject=subscribe>
Errors-To: test-report-bounces@dpdk.org

Test-Label: iol-unit-arm64-testing
Test-Status: SUCCESS
http://dpdk.org/patch/139961

_Testing PASS_

Submitter: Stephen Hemminger <stephen@networkplumber.org>
Date: Tuesday, May 07 2024 02:53:55 
DPDK git baseline: Repo:dpdk
  Branch: master
  CommitID:7e06c0de1952d3109a5b0c4779d7e7d8059c9d78

139960-139961 --> testing pass

Test environment and result as below:

+--------------------------+---------------------------+------------------------------+----------------+
|       Environment        | cryptodev_sw_zuc_autotest | cryptodev_sw_snow3g_autotest | dpdk_unit_test |
+==========================+===========================+==============================+================+
| Debian 12 (arm)          | PASS                      | PASS                         | SKIPPED        |
+--------------------------+---------------------------+------------------------------+----------------+
| CentOS Stream 9 (ARM)    | SKIPPED                   | SKIPPED                      | PASS           |
+--------------------------+---------------------------+------------------------------+----------------+
| Fedora 37 (ARM)          | SKIPPED                   | SKIPPED                      | PASS           |
+--------------------------+---------------------------+------------------------------+----------------+
| Debian 11 (Buster) (ARM) | SKIPPED                   | SKIPPED                      | PASS           |
+--------------------------+---------------------------+------------------------------+----------------+


Debian 12 (arm)
	Kernel: Container Host Kernel
	Compiler: gcc 12.2.0

CentOS Stream 9 (ARM)
	Kernel: Container Host Kernel
	Compiler: gcc 11.4.1

Fedora 37 (ARM)
	Kernel: Depends on container host
	Compiler: gcc 12.3.1

Debian 11 (Buster) (ARM)
	Kernel: Container Host Kernel
	Compiler: gcc 10.2.1

To view detailed results, visit:
https://lab.dpdk.org/results/dashboard/patchsets/29921/

UNH-IOL DPDK Community Lab

To manage your email subscriptions, visit: 
https://lab.dpdk.org/results/dashboard/preferences/subscriptions/