From mboxrd@z Thu Jan  1 00:00:00 1970
Return-Path: <test-report-bounces@dpdk.org>
Received: from mails.dpdk.org (mails.dpdk.org [217.70.189.124])
	by inbox.dpdk.org (Postfix) with ESMTP id 0EEB243FAA
	for <public@inbox.dpdk.org>; Tue,  7 May 2024 05:50:20 +0200 (CEST)
Received: from mails.dpdk.org (localhost [127.0.0.1])
	by mails.dpdk.org (Postfix) with ESMTP id 0A18242E3F;
	Tue,  7 May 2024 05:50:20 +0200 (CEST)
Received: from mail-vk1-f225.google.com (mail-vk1-f225.google.com
 [209.85.221.225])
 by mails.dpdk.org (Postfix) with ESMTP id E1DDB4027B
 for <test-report@dpdk.org>; Tue,  7 May 2024 05:50:18 +0200 (CEST)
Received: by mail-vk1-f225.google.com with SMTP id
 71dfb90a1353d-4df1ec345f6so930254e0c.0
 for <test-report@dpdk.org>; Mon, 06 May 2024 20:50:18 -0700 (PDT)
DKIM-Signature: v=1; a=rsa-sha256; c=relaxed/relaxed;
 d=iol.unh.edu; s=unh-iol; t=1715053818; x=1715658618; darn=dpdk.org;
 h=references:in-reply-to:cc:to:from:subject:message-id:date:from:to
 :cc:subject:date:message-id:reply-to;
 bh=RvEVsvzOzc72m2ARAq0Cmud0Zs7QXW5XrG7w2/I76Sg=;
 b=XqfJU41oKPuS0Vcf0itKGxPHNhw5ed/SbX628DNXqaX56UybKc8wbWPsUA84g4GU/q
 zG66IYgGrat2hwz0vU6kDtKKXve4zbK7e7NACIcQYB747zTq38SUqvvauI7wrCAzEPi2
 nVg8SqeuWFz6I4ivHhQ6rvbOWi8dihR67581Y=
X-Google-DKIM-Signature: v=1; a=rsa-sha256; c=relaxed/relaxed;
 d=1e100.net; s=20230601; t=1715053818; x=1715658618;
 h=references:in-reply-to:cc:to:from:subject:message-id:date
 :x-gm-message-state:from:to:cc:subject:date:message-id:reply-to;
 bh=RvEVsvzOzc72m2ARAq0Cmud0Zs7QXW5XrG7w2/I76Sg=;
 b=XFy0nIcESUF7887qA5rqAqe0zKLaPN+xpP0qY+EBBRetjfs5wcraPKJMMngewaM0tc
 FLblxWTNudeglwoIPG7O0orvtwi37Cwd7zrQsghu/xgwiuPkJLUqdDEHHdnWbiF8Vx05
 /GKq9CZBtZXPz+sbDukPK3TFKRMtZeKdMNRUO9aRX3px5WrwIdXY2HLCIfnBXeg75fHV
 kfacZg+KzQU4IthuyS+VnEsXrHT/tAOZlTHUKD0Tpum6cF6nnQrJvpgIByT9KVbyYeKR
 FGDT2jv+8++OruUp7HwvRzFm0QbX8AfpmVXf/PoaFlAM0wh7OGkZ/oyiyEU8c57LOkzU
 bb8A==
X-Gm-Message-State: AOJu0YyYw1FI7Cm9YBhn4gFokU1qvjnfc8+RPNFNmHDqDePQBYHV9cjD
 RfulnxvRHr7zHURkXsLmyy5IUuNJ7MW0D2yGHA3lrCjSnUteeu/c9aShhCeSZC06a3ghNgt/ucW
 5KHlpeWjKyLqW85jdJB7djC5vvz2p4stlFCFlyJIp
X-Google-Smtp-Source: AGHT+IH2otd6/vJzbx8EOJHg1t5ihnMhOiNvmqzxJYohqkYpPVylZhWoAG6hBTy3dNHz93f0K9V4PYHfR+yf
X-Received: by 2002:a67:eacd:0:b0:47c:2972:9325 with SMTP id
 s13-20020a67eacd000000b0047c29729325mr8783670vso.1.1715053818171; 
 Mon, 06 May 2024 20:50:18 -0700 (PDT)
Received: from postal.iol.unh.edu (postal.iol.unh.edu. [132.177.123.84])
 by smtp-relay.gmail.com with ESMTPS id
 q5-20020ab06c45000000b007f176984a5bsm780418uas.12.2024.05.06.20.50.18
 (version=TLS1_2 cipher=ECDHE-ECDSA-AES128-GCM-SHA256 bits=128/128);
 Mon, 06 May 2024 20:50:18 -0700 (PDT)
X-Relaying-Domain: iol.unh.edu
Date: Mon, 06 May 2024 20:50:18 -0700 (PDT)
Message-ID: <6639a4fa.b00a0220.cbed.c7acSMTPIN_ADDED_MISSING@mx.google.com>
Received: from [172.21.0.7] (unknown [172.18.0.240])
 by postal.iol.unh.edu (Postfix) with ESMTP id CBE9A604A954;
 Mon,  6 May 2024 23:50:17 -0400 (EDT)
Subject: |SUCCESS| pw139960-139961 [PATCH] [2/2] latencystats: replace use of
From: dpdklab@iol.unh.edu
To: Test Report <test-report@dpdk.org>
Cc: dpdk-test-reports@iol.unh.edu
In-Reply-To: <20240507025355.7145-2-stephen@networkplumber.org>
References: <20240507025355.7145-2-stephen@networkplumber.org>
Content-Type: text/plain
X-BeenThere: test-report@dpdk.org
X-Mailman-Version: 2.1.29
Precedence: list
List-Id: automatic DPDK test reports <test-report.dpdk.org>
List-Unsubscribe: <https://mails.dpdk.org/options/test-report>,
 <mailto:test-report-request@dpdk.org?subject=unsubscribe>
List-Archive: <http://mails.dpdk.org/archives/test-report/>
List-Post: <mailto:test-report@dpdk.org>
List-Help: <mailto:test-report-request@dpdk.org?subject=help>
List-Subscribe: <https://mails.dpdk.org/listinfo/test-report>,
 <mailto:test-report-request@dpdk.org?subject=subscribe>
Errors-To: test-report-bounces@dpdk.org

Test-Label: iol-compile-amd64-testing
Test-Status: SUCCESS
http://dpdk.org/patch/139961

_Testing PASS_

Submitter: Stephen Hemminger <stephen@networkplumber.org>
Date: Tuesday, May 07 2024 02:53:55 
DPDK git baseline: Repo:dpdk
  Branch: master
  CommitID:7e06c0de1952d3109a5b0c4779d7e7d8059c9d78

139960-139961 --> testing pass

Test environment and result as below:

+---------------------+--------------------+-------------------+----------------------+
|     Environment     | dpdk_meson_compile | dpdk_msvc_compile | dpdk_mingw64_compile |
+=====================+====================+===================+======================+
| FreeBSD 13.3        | PASS               | SKIPPED           | SKIPPED              |
+---------------------+--------------------+-------------------+----------------------+
| Debian Bullseye     | PASS               | SKIPPED           | SKIPPED              |
+---------------------+--------------------+-------------------+----------------------+
| Debian 12           | PASS               | SKIPPED           | SKIPPED              |
+---------------------+--------------------+-------------------+----------------------+
| Windows Server 2019 | PASS               | SKIPPED           | PASS                 |
+---------------------+--------------------+-------------------+----------------------+
| CentOS Stream 9     | PASS               | SKIPPED           | SKIPPED              |
+---------------------+--------------------+-------------------+----------------------+
| Windows Server 2022 | PASS               | PASS              | PASS                 |
+---------------------+--------------------+-------------------+----------------------+
| FreeBSD 14.0        | PASS               | SKIPPED           | SKIPPED              |
+---------------------+--------------------+-------------------+----------------------+
| CentOS Stream 8     | PASS               | SKIPPED           | SKIPPED              |
+---------------------+--------------------+-------------------+----------------------+
| Fedora 38           | PASS               | SKIPPED           | SKIPPED              |
+---------------------+--------------------+-------------------+----------------------+
| Fedora 37           | PASS               | SKIPPED           | SKIPPED              |
+---------------------+--------------------+-------------------+----------------------+
| Fedora 39           | PASS               | SKIPPED           | SKIPPED              |
+---------------------+--------------------+-------------------+----------------------+
| Ubuntu 22.04        | PASS               | SKIPPED           | SKIPPED              |
+---------------------+--------------------+-------------------+----------------------+
| openSUSE Leap 15    | PASS               | SKIPPED           | SKIPPED              |
+---------------------+--------------------+-------------------+----------------------+
| Ubuntu 20.04        | PASS               | SKIPPED           | SKIPPED              |
+---------------------+--------------------+-------------------+----------------------+
| RHEL8               | PASS               | SKIPPED           | SKIPPED              |
+---------------------+--------------------+-------------------+----------------------+


FreeBSD 13.3
	Kernel: 13.3-RELEASE-p1
	Compiler: clang 17.0.6

Debian Bullseye
	Kernel: 5.4.0-167-generic
	Compiler: gcc 10.2.1-6

Debian 12
	Kernel: Container Host Kernel
	Compiler: gcc 10.2.1

Windows Server 2019
	Kernel: 10.0.17763
	Compiler: clang 14.0 and gcc 8.1.0 (MinGW)

CentOS Stream 9
	Kernel: 5.4.0-167-generic
	Compiler: gcc 11.4.1 20230605

Windows Server 2022
	Kernel: 10.0.20348.2031
	Compiler: clang 15.0.7, gcc 8.1.0 (MinGW), and MSVC VS 17.9

FreeBSD 14.0
	Kernel: 14.0
	Compiler: clang 16.0.6

CentOS Stream 8
	Kernel: 5.4.0-167-generic
	Compiler: gcc 8.5.0 20210514

Fedora 38
	Kernel: Depends on container host
	Compiler: gcc 13.2.1

Fedora 37
	Kernel: Depends on container host system
	Compiler: gcc 12.3.1

Fedora 39
	Kernel: Depends on container host
	Compiler: gcc 13.2.1

Ubuntu 22.04
	Kernel: 5.4.0-167-generic
	Compiler: gcc 11.4.0

openSUSE Leap 15
	Kernel: 5.4.0-167-generic
	Compiler: gcc 7.5.0

Ubuntu 20.04
	Kernel: 5.4.0-167-generic
	Compiler: gcc 9.4.0-1ubuntu1~20.04.1

RHEL8
	Kernel: 5.4.0-167-generic
	Compiler: gcc 8.5.0 20210514 (Red Hat 8.5.0-20)

To view detailed results, visit:
https://lab.dpdk.org/results/dashboard/patchsets/29921/

UNH-IOL DPDK Community Lab

To manage your email subscriptions, visit: 
https://lab.dpdk.org/results/dashboard/preferences/subscriptions/