From mboxrd@z Thu Jan  1 00:00:00 1970
Return-Path: <test-report-bounces@dpdk.org>
Received: from mails.dpdk.org (mails.dpdk.org [217.70.189.124])
	by inbox.dpdk.org (Postfix) with ESMTP id 2A49A43FAF
	for <public@inbox.dpdk.org>; Tue,  7 May 2024 06:21:23 +0200 (CEST)
Received: from mails.dpdk.org (localhost [127.0.0.1])
	by mails.dpdk.org (Postfix) with ESMTP id 24C0942E3F;
	Tue,  7 May 2024 06:21:23 +0200 (CEST)
Received: from mail-il1-f228.google.com (mail-il1-f228.google.com
 [209.85.166.228])
 by mails.dpdk.org (Postfix) with ESMTP id A31104027B
 for <test-report@dpdk.org>; Tue,  7 May 2024 06:21:21 +0200 (CEST)
Received: by mail-il1-f228.google.com with SMTP id
 e9e14a558f8ab-36c946e9292so7636085ab.2
 for <test-report@dpdk.org>; Mon, 06 May 2024 21:21:21 -0700 (PDT)
DKIM-Signature: v=1; a=rsa-sha256; c=relaxed/relaxed;
 d=iol.unh.edu; s=unh-iol; t=1715055681; x=1715660481; darn=dpdk.org;
 h=references:in-reply-to:cc:to:from:subject:message-id:date:from:to
 :cc:subject:date:message-id:reply-to;
 bh=H6lFlJHBuYTZ0pCWBKmKJNkyhl7K/NnzIs8mzpMPGAw=;
 b=SsU5wwYE63XEOdC47O1j+KukLs2zFy3H8EhmLx9d/fSHw1q/CyJf2R18LLEjMZoaaf
 rEJGl0188yF8ExkbisfNqZyAE4/fQ/3NcE9+sXAYOZUESgFMI6YBgcSqw+Iq6CTlgxGd
 N+YxSDQwrkvO0n753u7ZKuNnu4mZST45yt2Rg=
X-Google-DKIM-Signature: v=1; a=rsa-sha256; c=relaxed/relaxed;
 d=1e100.net; s=20230601; t=1715055681; x=1715660481;
 h=references:in-reply-to:cc:to:from:subject:message-id:date
 :x-gm-message-state:from:to:cc:subject:date:message-id:reply-to;
 bh=H6lFlJHBuYTZ0pCWBKmKJNkyhl7K/NnzIs8mzpMPGAw=;
 b=gFKjPqZgMbTKg2G117QwQHNMBKywK8stJHeKx8i2Y/h5mwLx5OGeBycQzwF2XB14je
 puXtZ4EJDnAhhtGIfCJpDxxx4DuZwfHV2uaGMVms2a6sFGRenkh4Q8bX7IMc3baahtuC
 jbmY/5+akMiATmaHM4ymid0ZCsHpPrwtfu1IW3ICq4C2BKwRGg0gB5emCzsuih8AvKsn
 eOPkHh40PC20mZW3h7SaHb95/lYOK2YxTKz2n3Zuz9bNrO7R1qtnGPXB3J0iAdREK4Ht
 tVM1ycsdsZj6ybAcqLCJe800EyqR3mcdyihwbmPsjIbiXvPUJ61hiYsgLe5FDtVSClma
 Lj8g==
X-Gm-Message-State: AOJu0YxltAuDN3elwGvhGOZ2KDEJQuzMtoSdM3JBda2Q8ZrqMyItekmB
 JHTCiNhTDu/00+NBpZ5/OumrKAeb/VT/QP0UmiTryrIPE/6f6gYcFmVizHTQ9dN7LnE9yM0f7Hf
 JO3gSU88C6NKjop2rPttfaJtzEJ4je4Ph3cLmSzUdMg6YRhvi5U6pkQNx
X-Google-Smtp-Source: AGHT+IEOOLl1EkGf4Kv4PxiWLjNuGb2Nvv/UXMFMWZl5vxoH0FAEH/PpSB2SAZyZOfWttDOXEkGJ1npIEUtl
X-Received: by 2002:a05:6e02:1c89:b0:36c:5486:83f8 with SMTP id
 w9-20020a056e021c8900b0036c548683f8mr13515887ill.22.1715055681020; 
 Mon, 06 May 2024 21:21:21 -0700 (PDT)
Received: from postal.iol.unh.edu (postal.iol.unh.edu.
 [2606:4100:3880:1234::84]) by smtp-relay.gmail.com with ESMTPS id
 6-20020a056e0216c600b0036c8a1dbe6esm568864ilx.20.2024.05.06.21.21.20
 (version=TLS1_2 cipher=ECDHE-ECDSA-AES128-GCM-SHA256 bits=128/128);
 Mon, 06 May 2024 21:21:21 -0700 (PDT)
X-Relaying-Domain: iol.unh.edu
Date: Mon, 06 May 2024 21:21:21 -0700 (PDT)
Message-ID: <6639ac41.050a0220.39b51.02b1SMTPIN_ADDED_MISSING@mx.google.com>
Received: from [172.21.0.6] (unknown [172.18.0.240])
 by postal.iol.unh.edu (Postfix) with ESMTP id 789CE604A954;
 Tue,  7 May 2024 00:21:20 -0400 (EDT)
Subject: |SUCCESS| pw139960-139961 [PATCH] [2/2] latencystats: replace use of
From: dpdklab@iol.unh.edu
To: Test Report <test-report@dpdk.org>
Cc: dpdk-test-reports@iol.unh.edu
In-Reply-To: <20240507025355.7145-2-stephen@networkplumber.org>
References: <20240507025355.7145-2-stephen@networkplumber.org>
Content-Type: text/plain
X-BeenThere: test-report@dpdk.org
X-Mailman-Version: 2.1.29
Precedence: list
List-Id: automatic DPDK test reports <test-report.dpdk.org>
List-Unsubscribe: <https://mails.dpdk.org/options/test-report>,
 <mailto:test-report-request@dpdk.org?subject=unsubscribe>
List-Archive: <http://mails.dpdk.org/archives/test-report/>
List-Post: <mailto:test-report@dpdk.org>
List-Help: <mailto:test-report-request@dpdk.org?subject=help>
List-Subscribe: <https://mails.dpdk.org/listinfo/test-report>,
 <mailto:test-report-request@dpdk.org?subject=subscribe>
Errors-To: test-report-bounces@dpdk.org

Test-Label: iol-abi-testing
Test-Status: SUCCESS
http://dpdk.org/patch/139961

_Testing PASS_

Submitter: Stephen Hemminger <stephen@networkplumber.org>
Date: Tuesday, May 07 2024 02:53:55 
DPDK git baseline: Repo:dpdk
  Branch: master
  CommitID:7e06c0de1952d3109a5b0c4779d7e7d8059c9d78

139960-139961 --> testing pass

Test environment and result as below:

+------------------+----------+
|   Environment    | abi_test |
+==================+==========+
| openSUSE Leap 15 | PASS     |
+------------------+----------+
| Debian 12        | PASS     |
+------------------+----------+
| Fedora 39        | PASS     |
+------------------+----------+
| Debian Bullseye  | PASS     |
+------------------+----------+
| CentOS Stream 9  | PASS     |
+------------------+----------+
| RHEL8            | PASS     |
+------------------+----------+
| Fedora 37        | PASS     |
+------------------+----------+
| Fedora 38        | PASS     |
+------------------+----------+
| Ubuntu 22.04     | PASS     |
+------------------+----------+
| CentOS Stream 8  | PASS     |
+------------------+----------+


openSUSE Leap 15
	Kernel: 5.4.0-167-generic
	Compiler: gcc 7.5.0

Debian 12
	Kernel: Container Host Kernel
	Compiler: gcc 10.2.1

Fedora 39
	Kernel: Depends on container host
	Compiler: clang 17.0.6

Debian Bullseye
	Kernel: 5.4.0-167-generic
	Compiler: gcc 10.2.1-6

CentOS Stream 9
	Kernel: 5.4.0-167-generic
	Compiler: gcc 11.4.1 20230605

RHEL8
	Kernel: 5.4.0-167-generic
	Compiler: gcc 8.5.0 20210514 (Red Hat 8.5.0-20)

Fedora 37
	Kernel: Depends on container host system
	Compiler: gcc 12.3.1

Fedora 38
	Kernel: Depends on container host
	Compiler: clang 16.0.6

Ubuntu 22.04
	Kernel: 5.4.0-167-generic
	Compiler: gcc 11.4.0

CentOS Stream 8
	Kernel: 5.4.0-167-generic
	Compiler: gcc 8.5.0 20210514

To view detailed results, visit:
https://lab.dpdk.org/results/dashboard/patchsets/29921/

UNH-IOL DPDK Community Lab

To manage your email subscriptions, visit: 
https://lab.dpdk.org/results/dashboard/preferences/subscriptions/