From mboxrd@z Thu Jan  1 00:00:00 1970
Return-Path: <test-report-bounces@dpdk.org>
Received: from mails.dpdk.org (mails.dpdk.org [217.70.189.124])
	by inbox.dpdk.org (Postfix) with ESMTP id 663C043FB4
	for <public@inbox.dpdk.org>; Tue,  7 May 2024 06:51:10 +0200 (CEST)
Received: from mails.dpdk.org (localhost [127.0.0.1])
	by mails.dpdk.org (Postfix) with ESMTP id 5F9CB42E3F;
	Tue,  7 May 2024 06:51:10 +0200 (CEST)
Received: from mail-qv1-f99.google.com (mail-qv1-f99.google.com
 [209.85.219.99]) by mails.dpdk.org (Postfix) with ESMTP id 333494027B
 for <test-report@dpdk.org>; Tue,  7 May 2024 06:51:09 +0200 (CEST)
Received: by mail-qv1-f99.google.com with SMTP id
 6a1803df08f44-6a0badb6892so10499196d6.1
 for <test-report@dpdk.org>; Mon, 06 May 2024 21:51:09 -0700 (PDT)
DKIM-Signature: v=1; a=rsa-sha256; c=relaxed/relaxed;
 d=iol.unh.edu; s=unh-iol; t=1715057468; x=1715662268; darn=dpdk.org;
 h=references:in-reply-to:cc:to:from:subject:message-id:date:from:to
 :cc:subject:date:message-id:reply-to;
 bh=+v52uRTK7vke4oKKYgB6oJsn3mheuj4sbo5kNItuY+s=;
 b=b1bPi0U4hx24kBg6cgrDiDgDwpMQMPfzc67LAYFUE6ZoY1a2tp3/xUVp46Nn5rCpQK
 OIQIoabYOFVnukR2JKtwWL+m13ic18vtMyMEkm39nMLBd+sUe7saDTYr3wKsRjApq6Wm
 dpox95IF/nTMj+ueOkl+qTBAnn3AyFQsPRUUo=
X-Google-DKIM-Signature: v=1; a=rsa-sha256; c=relaxed/relaxed;
 d=1e100.net; s=20230601; t=1715057468; x=1715662268;
 h=references:in-reply-to:cc:to:from:subject:message-id:date
 :x-gm-message-state:from:to:cc:subject:date:message-id:reply-to;
 bh=+v52uRTK7vke4oKKYgB6oJsn3mheuj4sbo5kNItuY+s=;
 b=fAs0DSK4pXPNbDMnLv/ACVDLGXre+3d7TWVD8UwnUFd6Asly7ThBKtuQ9FaPZKfg6S
 erLWG3tgA4W9rdHvC8oOApV54Oqn8yw5z0So5AAMYpxtmxeKhriexBncgevgKWcI8L3r
 nO1WeL4zc2uWxf/uhOw5DXTKYtxqt/NKFvsU/1CJYXziihVsi6YxybrKhxWw/oyGWabl
 uIFzvIPoQTgCXzwplsqwzdQOEY0mYXF8nLdzVuXp3AKa1vnrSM0N7OHaXZVQortOFKtN
 XyL1rnhwQ+8UrzGwuDruaZZaVGrFwAIeN4DVgog+ZxJF7TwL666BsN6CrXjzUssHOIND
 OQ6Q==
X-Gm-Message-State: AOJu0YzUHkTPK4K6/TfBuTNXuGX05epZPkQZ1oQt3UO/d6mbB0ysppj9
 jXMW1kZUEqdiyamNqYH2v9P6Wl+eGgC94GvkR/jgIYDwdRXyxK4Mv585RGM+fId0XfDwzTBbiW4
 V8iiTMHJhERaCCjVIR/XJyCQyo406AiK4STFcO3AN
X-Google-Smtp-Source: AGHT+IEqkVqHoyvjR9uVU0i6supncVm1YWJvceqyfYxPrW2aQeyHS4aMm1PgW7ySRNBZ40CYchwxFq1r9vdK
X-Received: by 2002:ad4:4eac:0:b0:6a0:7cef:9883 with SMTP id
 ed12-20020ad44eac000000b006a07cef9883mr14857231qvb.14.1715057468598; 
 Mon, 06 May 2024 21:51:08 -0700 (PDT)
Received: from postal.iol.unh.edu (postal.iol.unh.edu. [132.177.123.84])
 by smtp-relay.gmail.com with ESMTPS id
 7-20020a056214202700b006a13ae3d38bsm424550qvf.33.2024.05.06.21.51.08
 (version=TLS1_2 cipher=ECDHE-ECDSA-AES128-GCM-SHA256 bits=128/128);
 Mon, 06 May 2024 21:51:08 -0700 (PDT)
X-Relaying-Domain: iol.unh.edu
Date: Mon, 06 May 2024 21:51:08 -0700 (PDT)
Message-ID: <6639b33c.050a0220.6de40.a908SMTPIN_ADDED_MISSING@mx.google.com>
Received: from [172.17.0.2] (unknown [172.18.0.217])
 by postal.iol.unh.edu (Postfix) with ESMTP id 4D639604A954;
 Tue,  7 May 2024 00:51:08 -0400 (EDT)
Subject: |SUCCESS| pw139941-139959 [PATCH] [v3,19/19] build: enable vla warni
From: dpdklab@iol.unh.edu
To: Test Report <test-report@dpdk.org>
Cc: dpdk-test-reports@iol.unh.edu
In-Reply-To: <1715019531-22796-20-git-send-email-roretzla@linux.microsoft.com>
References: <1715019531-22796-20-git-send-email-roretzla@linux.microsoft.com>
Content-Type: text/plain
X-BeenThere: test-report@dpdk.org
X-Mailman-Version: 2.1.29
Precedence: list
List-Id: automatic DPDK test reports <test-report.dpdk.org>
List-Unsubscribe: <https://mails.dpdk.org/options/test-report>,
 <mailto:test-report-request@dpdk.org?subject=unsubscribe>
List-Archive: <http://mails.dpdk.org/archives/test-report/>
List-Post: <mailto:test-report@dpdk.org>
List-Help: <mailto:test-report-request@dpdk.org?subject=help>
List-Subscribe: <https://mails.dpdk.org/listinfo/test-report>,
 <mailto:test-report-request@dpdk.org?subject=subscribe>
Errors-To: test-report-bounces@dpdk.org

Test-Label: iol-abi-testing
Test-Status: SUCCESS
http://dpdk.org/patch/139959

_Testing PASS_

Submitter: Tyler Retzlaff <roretzla@linux.microsoft.com>
Date: Monday, May 06 2024 18:18:51 
DPDK git baseline: Repo:dpdk
  Branch: master
  CommitID:7e06c0de1952d3109a5b0c4779d7e7d8059c9d78

139941-139959 --> testing pass

Test environment and result as below:

+------------------+----------+
|   Environment    | abi_test |
+==================+==========+
| Debian Bullseye  | PASS     |
+------------------+----------+
| Fedora 39        | PASS     |
+------------------+----------+
| CentOS Stream 8  | PASS     |
+------------------+----------+
| Fedora 37        | PASS     |
+------------------+----------+
| Fedora 38        | PASS     |
+------------------+----------+
| Ubuntu 22.04     | PASS     |
+------------------+----------+
| CentOS Stream 9  | PASS     |
+------------------+----------+
| Debian 12        | PASS     |
+------------------+----------+
| RHEL8            | PASS     |
+------------------+----------+
| openSUSE Leap 15 | PASS     |
+------------------+----------+


Debian Bullseye
	Kernel: 5.4.0-167-generic
	Compiler: gcc 10.2.1-6

Fedora 39
	Kernel: Depends on container host
	Compiler: clang 17.0.6

CentOS Stream 8
	Kernel: 5.4.0-167-generic
	Compiler: gcc 8.5.0 20210514

Fedora 37
	Kernel: Depends on container host system
	Compiler: gcc 12.3.1

Fedora 38
	Kernel: Depends on container host
	Compiler: clang 16.0.6

Ubuntu 22.04
	Kernel: 5.4.0-167-generic
	Compiler: gcc 11.4.0

CentOS Stream 9
	Kernel: 5.4.0-167-generic
	Compiler: gcc 11.4.1 20230605

Debian 12
	Kernel: Container Host Kernel
	Compiler: gcc 10.2.1

RHEL8
	Kernel: 5.4.0-167-generic
	Compiler: gcc 8.5.0 20210514 (Red Hat 8.5.0-20)

openSUSE Leap 15
	Kernel: 5.4.0-167-generic
	Compiler: gcc 7.5.0

To view detailed results, visit:
https://lab.dpdk.org/results/dashboard/patchsets/29920/

UNH-IOL DPDK Community Lab

To manage your email subscriptions, visit: 
https://lab.dpdk.org/results/dashboard/preferences/subscriptions/