From mboxrd@z Thu Jan  1 00:00:00 1970
Return-Path: <test-report-bounces@dpdk.org>
Received: from mails.dpdk.org (mails.dpdk.org [217.70.189.124])
	by inbox.dpdk.org (Postfix) with ESMTP id 0700843FB4
	for <public@inbox.dpdk.org>; Tue,  7 May 2024 06:55:15 +0200 (CEST)
Received: from mails.dpdk.org (localhost [127.0.0.1])
	by mails.dpdk.org (Postfix) with ESMTP id 029D042E3F;
	Tue,  7 May 2024 06:55:15 +0200 (CEST)
Received: from mail-yw1-f227.google.com (mail-yw1-f227.google.com
 [209.85.128.227])
 by mails.dpdk.org (Postfix) with ESMTP id 0D9844027B
 for <test-report@dpdk.org>; Tue,  7 May 2024 06:55:14 +0200 (CEST)
Received: by mail-yw1-f227.google.com with SMTP id
 00721157ae682-61ae4743d36so28411567b3.2
 for <test-report@dpdk.org>; Mon, 06 May 2024 21:55:14 -0700 (PDT)
DKIM-Signature: v=1; a=rsa-sha256; c=relaxed/relaxed;
 d=iol.unh.edu; s=unh-iol; t=1715057713; x=1715662513; darn=dpdk.org;
 h=references:in-reply-to:cc:to:from:subject:message-id:date:from:to
 :cc:subject:date:message-id:reply-to;
 bh=+v52uRTK7vke4oKKYgB6oJsn3mheuj4sbo5kNItuY+s=;
 b=Zc91M8TwPOfiuWbbyjDBjjTOsPoJjcPclLMRMVQfP7D7oLYbYX0wxEHZGFxwBEygt8
 VNsXSAJuC5l2ZGhFyjO43Q5bhdERdRQp32v8YzXnVEpo6RT0CTprJZyAvQLpkpJzY6zZ
 6GTf7LL+W2z96SLb3l7lu2LtNMf412odp9h0Y=
X-Google-DKIM-Signature: v=1; a=rsa-sha256; c=relaxed/relaxed;
 d=1e100.net; s=20230601; t=1715057713; x=1715662513;
 h=references:in-reply-to:cc:to:from:subject:message-id:date
 :x-gm-message-state:from:to:cc:subject:date:message-id:reply-to;
 bh=+v52uRTK7vke4oKKYgB6oJsn3mheuj4sbo5kNItuY+s=;
 b=b8mHIsvb/IAay57LZYHtGQXhXVL9Fwmv0LqAUq8K9xvCYzwyCItRHd7vCfjtm8QLc+
 /XwW/pYC6zAeka/TMEPTW/QBjfubQDbzrNOBQVvHne6gNMxiQubn+2LZkpZByda0BHFl
 Kj2ddt+gAOjb6mKxY9BWkJcgqO7L9o0+JBXfVZ5L4n5yDke2illOvrxfDS86SyhiSL7h
 CWYtBh7PZuBIWGb6kV8tXklyRMcT86gCtUTqdGuivUefTtE/kfsHNL4HVfAeuyj+m6RA
 /Ez2hawEEvYoCcfel7gdadn0MKRG4GUlzrA3HwvmWL4ojKvbJ7q1WX58sHtWldHJBuqK
 EwgA==
X-Gm-Message-State: AOJu0YwgZssRLIFk59Pv/bARGZmk6hSvgjOr+yyAVCx1FugZF+pGWlLF
 iXt0GKVvnvhDDwakux5F1P4US/YWlpoqz77QQwfIxIzj7+e+F2UT3wpurjbyg+BQX8LaeJVtpLo
 ZrzO9L411fVXsyVrEzBUdupEL4m5MRY9YmJSzP/CW
X-Google-Smtp-Source: AGHT+IE/PYPcdgbQ/8sZ7U/sMWIlt9IYPzBWRLni7TPReBtN+lMFHuYaB2YUaI2e04ij4nfCL1jRaPTE7eWo
X-Received: by 2002:a81:4882:0:b0:61b:1f0d:838b with SMTP id
 v124-20020a814882000000b0061b1f0d838bmr10981553ywa.14.1715057713335; 
 Mon, 06 May 2024 21:55:13 -0700 (PDT)
Received: from postal.iol.unh.edu (postal.iol.unh.edu. [132.177.123.84])
 by smtp-relay.gmail.com with ESMTPS id
 l205-20020a0de2d6000000b00615218be229sm1197004ywe.18.2024.05.06.21.55.12
 (version=TLS1_2 cipher=ECDHE-ECDSA-AES128-GCM-SHA256 bits=128/128);
 Mon, 06 May 2024 21:55:12 -0700 (PDT)
X-Relaying-Domain: iol.unh.edu
Date: Mon, 06 May 2024 21:55:12 -0700 (PDT)
Message-ID: <6639b430.0d0a0220.cd772.96cfSMTPIN_ADDED_MISSING@mx.google.com>
Received: from [172.21.0.6] (unknown [172.18.0.240])
 by postal.iol.unh.edu (Postfix) with ESMTP id 46D7B604A954;
 Tue,  7 May 2024 00:55:12 -0400 (EDT)
Subject: |SUCCESS| pw139941-139959 [PATCH] [v3,19/19] build: enable vla warni
From: dpdklab@iol.unh.edu
To: Test Report <test-report@dpdk.org>
Cc: dpdk-test-reports@iol.unh.edu
In-Reply-To: <1715019531-22796-20-git-send-email-roretzla@linux.microsoft.com>
References: <1715019531-22796-20-git-send-email-roretzla@linux.microsoft.com>
Content-Type: text/plain
X-BeenThere: test-report@dpdk.org
X-Mailman-Version: 2.1.29
Precedence: list
List-Id: automatic DPDK test reports <test-report.dpdk.org>
List-Unsubscribe: <https://mails.dpdk.org/options/test-report>,
 <mailto:test-report-request@dpdk.org?subject=unsubscribe>
List-Archive: <http://mails.dpdk.org/archives/test-report/>
List-Post: <mailto:test-report@dpdk.org>
List-Help: <mailto:test-report-request@dpdk.org?subject=help>
List-Subscribe: <https://mails.dpdk.org/listinfo/test-report>,
 <mailto:test-report-request@dpdk.org?subject=subscribe>
Errors-To: test-report-bounces@dpdk.org

Test-Label: iol-abi-testing
Test-Status: SUCCESS
http://dpdk.org/patch/139959

_Testing PASS_

Submitter: Tyler Retzlaff <roretzla@linux.microsoft.com>
Date: Monday, May 06 2024 18:18:51 
DPDK git baseline: Repo:dpdk
  Branch: master
  CommitID:7e06c0de1952d3109a5b0c4779d7e7d8059c9d78

139941-139959 --> testing pass

Test environment and result as below:

+------------------+----------+
|   Environment    | abi_test |
+==================+==========+
| Debian Bullseye  | PASS     |
+------------------+----------+
| Fedora 39        | PASS     |
+------------------+----------+
| CentOS Stream 8  | PASS     |
+------------------+----------+
| Fedora 37        | PASS     |
+------------------+----------+
| Fedora 38        | PASS     |
+------------------+----------+
| Ubuntu 22.04     | PASS     |
+------------------+----------+
| CentOS Stream 9  | PASS     |
+------------------+----------+
| Debian 12        | PASS     |
+------------------+----------+
| RHEL8            | PASS     |
+------------------+----------+
| openSUSE Leap 15 | PASS     |
+------------------+----------+


Debian Bullseye
	Kernel: 5.4.0-167-generic
	Compiler: gcc 10.2.1-6

Fedora 39
	Kernel: Depends on container host
	Compiler: clang 17.0.6

CentOS Stream 8
	Kernel: 5.4.0-167-generic
	Compiler: gcc 8.5.0 20210514

Fedora 37
	Kernel: Depends on container host system
	Compiler: gcc 12.3.1

Fedora 38
	Kernel: Depends on container host
	Compiler: clang 16.0.6

Ubuntu 22.04
	Kernel: 5.4.0-167-generic
	Compiler: gcc 11.4.0

CentOS Stream 9
	Kernel: 5.4.0-167-generic
	Compiler: gcc 11.4.1 20230605

Debian 12
	Kernel: Container Host Kernel
	Compiler: gcc 10.2.1

RHEL8
	Kernel: 5.4.0-167-generic
	Compiler: gcc 8.5.0 20210514 (Red Hat 8.5.0-20)

openSUSE Leap 15
	Kernel: 5.4.0-167-generic
	Compiler: gcc 7.5.0

To view detailed results, visit:
https://lab.dpdk.org/results/dashboard/patchsets/29920/

UNH-IOL DPDK Community Lab

To manage your email subscriptions, visit: 
https://lab.dpdk.org/results/dashboard/preferences/subscriptions/