From mboxrd@z Thu Jan  1 00:00:00 1970
Return-Path: <test-report-bounces@dpdk.org>
Received: from mails.dpdk.org (mails.dpdk.org [217.70.189.124])
	by inbox.dpdk.org (Postfix) with ESMTP id 1A65F43FB4
	for <public@inbox.dpdk.org>; Tue,  7 May 2024 06:57:45 +0200 (CEST)
Received: from mails.dpdk.org (localhost [127.0.0.1])
	by mails.dpdk.org (Postfix) with ESMTP id 1202C42EF0;
	Tue,  7 May 2024 06:57:45 +0200 (CEST)
Received: from mail-qv1-f99.google.com (mail-qv1-f99.google.com
 [209.85.219.99]) by mails.dpdk.org (Postfix) with ESMTP id DB1704027B
 for <test-report@dpdk.org>; Tue,  7 May 2024 06:57:43 +0200 (CEST)
Received: by mail-qv1-f99.google.com with SMTP id
 6a1803df08f44-69b6d36b71cso13246186d6.3
 for <test-report@dpdk.org>; Mon, 06 May 2024 21:57:43 -0700 (PDT)
DKIM-Signature: v=1; a=rsa-sha256; c=relaxed/relaxed;
 d=iol.unh.edu; s=unh-iol; t=1715057863; x=1715662663; darn=dpdk.org;
 h=references:in-reply-to:cc:to:from:subject:message-id:date:from:to
 :cc:subject:date:message-id:reply-to;
 bh=4pmxYBWHSd1pNbqlGzyHn229Hrtd2jW/BWW2kfAcVlU=;
 b=jC+JCkY/6jLQ/N+5Q4maFTSqHwVjFQY4i1qaYTK+nsSC6c6NxPRjar1GuX68gfmDU1
 0l5w9zWK+bMaGLegAqVFcfG4p7ls0xK3uGPzdqQM0CmUSTOmg8L1EFQcxBsIK+UeLecy
 W88UiPLOMe7tKC9ajfvdz6QV0DTDW0xarzAcA=
X-Google-DKIM-Signature: v=1; a=rsa-sha256; c=relaxed/relaxed;
 d=1e100.net; s=20230601; t=1715057863; x=1715662663;
 h=references:in-reply-to:cc:to:from:subject:message-id:date
 :x-gm-message-state:from:to:cc:subject:date:message-id:reply-to;
 bh=4pmxYBWHSd1pNbqlGzyHn229Hrtd2jW/BWW2kfAcVlU=;
 b=ftnzvU3QKbil/3XUAxcOHqZrxr+lEle5IdX8hix9YAm4YQ2AmyyxHZGXc8WRKViKBj
 jSHJ+vq37/unZlYyRU0DjmpcBg2zYIUOxPHaVNU+nAIgijPXQY8CqXqhkKbOXex4/u2H
 yR8FZYkokqX47EyV7DqHMWOzPACUeo2sahGcloL+bZlEfS2KQnS348M4y1mnhI5qYyND
 TF1ylvLLA4NMXnhvC5a2OD63pkdMb0BMeOHKlALbKTzp0e2djTi/85D1sVc7/rNQJHfi
 rWE1JtUHrmQx204AYims6mCYZNcgOYPR7q9B8kA7kxjot7tTMmVLZl0ZoTXoR61GT43s
 ftNA==
X-Gm-Message-State: AOJu0Yw8ccJ1KsZBewo79nunpK1iCU83xFTnItS30XvVX+mhTvvOCB9t
 A7HpNq2ecJniY81PPW8Xeyn+4etoY08LPc67JcKWjp41jM8EW0NKfJkZRrUxvToZGp/6Kfrr2PN
 rxgGmpdrkVC2yKKwUaEzeTYbEW+inHb1+B05BiLTX6O3q1aYZJ2sQZM8O
X-Google-Smtp-Source: AGHT+IF72W+/kkxbYm9xBNkLBCgsSZccnV3HyCj5+gr7g9h+dsxIZpN0VAvgEIxKJR63oxTH2tEutitciwFV
X-Received: by 2002:a05:6214:21c9:b0:6a0:d20e:5478 with SMTP id
 d9-20020a05621421c900b006a0d20e5478mr12963686qvh.2.1715057863356; 
 Mon, 06 May 2024 21:57:43 -0700 (PDT)
Received: from postal.iol.unh.edu (postal.iol.unh.edu.
 [2606:4100:3880:1234::84]) by smtp-relay.gmail.com with ESMTPS id
 t16-20020a056214155000b006a0f9679000sm774478qvw.15.2024.05.06.21.57.43
 (version=TLS1_2 cipher=ECDHE-ECDSA-AES128-GCM-SHA256 bits=128/128);
 Mon, 06 May 2024 21:57:43 -0700 (PDT)
X-Relaying-Domain: iol.unh.edu
Date: Mon, 06 May 2024 21:57:43 -0700 (PDT)
Message-ID: <6639b4c7.050a0220.4ee97.e74cSMTPIN_ADDED_MISSING@mx.google.com>
Received: from [172.21.0.6] (unknown [172.18.0.240])
 by postal.iol.unh.edu (Postfix) with ESMTP id BF65A604A954;
 Tue,  7 May 2024 00:57:42 -0400 (EDT)
Subject: |SUCCESS| pw139941-139959 [PATCH] [v3,19/19] build: enable vla warni
From: dpdklab@iol.unh.edu
To: Test Report <test-report@dpdk.org>
Cc: Tyler Retzlaff <roretzla@linux.microsoft.com>
In-Reply-To: <1715019531-22796-20-git-send-email-roretzla@linux.microsoft.com>
References: <1715019531-22796-20-git-send-email-roretzla@linux.microsoft.com>
Content-Type: text/plain
X-BeenThere: test-report@dpdk.org
X-Mailman-Version: 2.1.29
Precedence: list
List-Id: automatic DPDK test reports <test-report.dpdk.org>
List-Unsubscribe: <https://mails.dpdk.org/options/test-report>,
 <mailto:test-report-request@dpdk.org?subject=unsubscribe>
List-Archive: <http://mails.dpdk.org/archives/test-report/>
List-Post: <mailto:test-report@dpdk.org>
List-Help: <mailto:test-report-request@dpdk.org?subject=help>
List-Subscribe: <https://mails.dpdk.org/listinfo/test-report>,
 <mailto:test-report-request@dpdk.org?subject=subscribe>
Errors-To: test-report-bounces@dpdk.org

Test-Label: iol-unit-amd64-testing
Test-Status: SUCCESS
http://dpdk.org/patch/139959

_Testing PASS_

Submitter: Tyler Retzlaff <roretzla@linux.microsoft.com>
Date: Monday, May 06 2024 18:18:51 
DPDK git baseline: Repo:dpdk
  Branch: master
  CommitID:7e06c0de1952d3109a5b0c4779d7e7d8059c9d78

139941-139959 --> testing pass

Test environment and result as below:

+---------------------+----------------+
|     Environment     | dpdk_unit_test |
+=====================+================+
| Windows Server 2019 | PASS           |
+---------------------+----------------+
| CentOS Stream 9     | PASS           |
+---------------------+----------------+
| CentOS Stream 8     | PASS           |
+---------------------+----------------+
| Debian Bullseye     | PASS           |
+---------------------+----------------+


Windows Server 2019
	Kernel: 10.0.17763
	Compiler: clang 14.0 and gcc 8.1.0 (MinGW)

CentOS Stream 9
	Kernel: 5.4.0-167-generic
	Compiler: gcc 11.4.1 20230605

CentOS Stream 8
	Kernel: 5.4.0-167-generic
	Compiler: gcc 8.5.0 20210514

Debian Bullseye
	Kernel: 5.4.0-167-generic
	Compiler: gcc 10.2.1-6

To view detailed results, visit:
https://lab.dpdk.org/results/dashboard/patchsets/29920/

UNH-IOL DPDK Community Lab

To manage your email subscriptions, visit: 
https://lab.dpdk.org/results/dashboard/preferences/subscriptions/