From mboxrd@z Thu Jan  1 00:00:00 1970
Return-Path: <test-report-bounces@dpdk.org>
Received: from mails.dpdk.org (mails.dpdk.org [217.70.189.124])
	by inbox.dpdk.org (Postfix) with ESMTP id 1414F43FC6
	for <public@inbox.dpdk.org>; Tue,  7 May 2024 09:12:28 +0200 (CEST)
Received: from mails.dpdk.org (localhost [127.0.0.1])
	by mails.dpdk.org (Postfix) with ESMTP id 0FD644327A;
	Tue,  7 May 2024 09:12:28 +0200 (CEST)
Received: from mail-il1-f227.google.com (mail-il1-f227.google.com
 [209.85.166.227])
 by mails.dpdk.org (Postfix) with ESMTP id 3939D402C8
 for <test-report@dpdk.org>; Tue,  7 May 2024 09:12:27 +0200 (CEST)
Received: by mail-il1-f227.google.com with SMTP id
 e9e14a558f8ab-36c7bd2586eso12292975ab.0
 for <test-report@dpdk.org>; Tue, 07 May 2024 00:12:27 -0700 (PDT)
DKIM-Signature: v=1; a=rsa-sha256; c=relaxed/relaxed;
 d=iol.unh.edu; s=unh-iol; t=1715065946; x=1715670746; darn=dpdk.org;
 h=references:in-reply-to:cc:to:from:subject:message-id:date:from:to
 :cc:subject:date:message-id:reply-to;
 bh=P3ckE+4EN/jUYg4LpZMCHcQME4lZKkbLh0b4Sss0d9w=;
 b=BOd51OxKmDn6WkJqYYoZBrbc+0P6U/dUE/8ZE+88VZ7EJkGZux/FZ9ploI4RC7bBEN
 +YUTQj/tG4NcuwROYCNcTqrVF+7yoA3nM49jEf8WdO1+DF1JZQrIWR6bo6MRCi647vfU
 uei1KyIxHbR/NJbeFkSMLczztM+P0QGS4ywKc=
X-Google-DKIM-Signature: v=1; a=rsa-sha256; c=relaxed/relaxed;
 d=1e100.net; s=20230601; t=1715065946; x=1715670746;
 h=references:in-reply-to:cc:to:from:subject:message-id:date
 :x-gm-message-state:from:to:cc:subject:date:message-id:reply-to;
 bh=P3ckE+4EN/jUYg4LpZMCHcQME4lZKkbLh0b4Sss0d9w=;
 b=Jg/UDXlvC2xneVonNRepELyY0vpNOQIllAbUU6quKPyEqRUtIu05QntIc2vMiGbHcU
 YDLsn87ZhF/Vmy4/dlXSUT/lY9rM2zwW7sIfjufzV1ZzIjrmJZSTVdKV0vsSmPx7Ee1I
 XLkIipUrQeCH1srqj6y8S7Uz7MmhwwitrjMErn9IZ4uaH03nHdwfuCsad9TyWdkczj0g
 A0HifON3qh9G7om59p5EsDVw9ppF8xO3XLvRTf1eQCm7Z09ahxhHZuKYg8WncFrgsH38
 tLmrIq3cS6zEz74eL6ywofeLuAilArfpO4opspkiw+P6rrLGNDpiVhlE4fmoPdOPAqHf
 IAmg==
X-Gm-Message-State: AOJu0Yzrbkx+AKGl8OlUFauAR2hIlhj0AdGZ3hYk1qFvDYQN3b8XwyBO
 J4p8PYp4RAcFAf/Hh8OtK0HVTLHLqxDeiG/iSIygxPPFCDekg4UqChOCNWqPCLGh/z+hAn5ljKe
 BbNyKIlHqOiau2SZGPD0EScARIUfRvvCOvnZUzhI/
X-Google-Smtp-Source: AGHT+IGYoaBLUFOT5GEEY4fLTj0zjt0T+9mUqZO0bD5IuKS3NT/s3NqL+OL6wXIkRBJ83Alf37aPg4EuQCo3
X-Received: by 2002:a05:6e02:1c0b:b0:36c:4f2e:a7a2 with SMTP id
 l11-20020a056e021c0b00b0036c4f2ea7a2mr16360184ilh.6.1715065946561; 
 Tue, 07 May 2024 00:12:26 -0700 (PDT)
Received: from postal.iol.unh.edu (postal.iol.unh.edu. [132.177.123.84])
 by smtp-relay.gmail.com with ESMTPS id
 m41-20020a05663840a900b00488a4cf1c66sm495592jam.81.2024.05.07.00.12.26
 (version=TLS1_2 cipher=ECDHE-ECDSA-AES128-GCM-SHA256 bits=128/128);
 Tue, 07 May 2024 00:12:26 -0700 (PDT)
X-Relaying-Domain: iol.unh.edu
Date: Tue, 07 May 2024 00:12:26 -0700 (PDT)
Message-ID: <6639d45a.050a0220.e498d.b91bSMTPIN_ADDED_MISSING@mx.google.com>
Received: from [172.17.0.3] (unknown [172.18.0.217])
 by postal.iol.unh.edu (Postfix) with ESMTP id 09064604A954;
 Tue,  7 May 2024 03:12:26 -0400 (EDT)
Subject: |SUCCESS| pw139941-139959 [PATCH] [v3,19/19] build: enable vla warni
From: dpdklab@iol.unh.edu
To: Test Report <test-report@dpdk.org>
Cc: dpdk-test-reports@iol.unh.edu
In-Reply-To: <1715019531-22796-20-git-send-email-roretzla@linux.microsoft.com>
References: <1715019531-22796-20-git-send-email-roretzla@linux.microsoft.com>
Content-Type: text/plain
X-BeenThere: test-report@dpdk.org
X-Mailman-Version: 2.1.29
Precedence: list
List-Id: automatic DPDK test reports <test-report.dpdk.org>
List-Unsubscribe: <https://mails.dpdk.org/options/test-report>,
 <mailto:test-report-request@dpdk.org?subject=unsubscribe>
List-Archive: <http://mails.dpdk.org/archives/test-report/>
List-Post: <mailto:test-report@dpdk.org>
List-Help: <mailto:test-report-request@dpdk.org?subject=help>
List-Subscribe: <https://mails.dpdk.org/listinfo/test-report>,
 <mailto:test-report-request@dpdk.org?subject=subscribe>
Errors-To: test-report-bounces@dpdk.org

Test-Label: iol-compile-arm64-testing
Test-Status: SUCCESS
http://dpdk.org/patch/139959

_Testing PASS_

Submitter: Tyler Retzlaff <roretzla@linux.microsoft.com>
Date: Monday, May 06 2024 18:18:51 
DPDK git baseline: Repo:dpdk
  Branch: master
  CommitID:7e06c0de1952d3109a5b0c4779d7e7d8059c9d78

139941-139959 --> testing pass

Test environment and result as below:

+----------------------------------------+--------------------+
|              Environment               | dpdk_meson_compile |
+========================================+====================+
| Ubuntu 20.04 ARM SVE                   | PASS               |
+----------------------------------------+--------------------+
| Debian 12 with MUSDK                   | PASS               |
+----------------------------------------+--------------------+
| Ubuntu 20.04 aarch32 GCC Cross Compile | PASS               |
+----------------------------------------+--------------------+
| Ubuntu 20.04 ARM Clang Cross Compile   | PASS               |
+----------------------------------------+--------------------+
| Fedora 37 (ARM)                        | PASS               |
+----------------------------------------+--------------------+
| CentOS Stream 9 (ARM)                  | PASS               |
+----------------------------------------+--------------------+
| Fedora 39 (ARM Clang)                  | PASS               |
+----------------------------------------+--------------------+
| Ubuntu 20.04 ARM GCC Cross Compile     | PASS               |
+----------------------------------------+--------------------+
| Fedora 38 (ARM Clang)                  | PASS               |
+----------------------------------------+--------------------+
| Fedora 39 (ARM)                        | PASS               |
+----------------------------------------+--------------------+
| Debian 11 (Buster) (ARM)               | PASS               |
+----------------------------------------+--------------------+


Ubuntu 20.04 ARM SVE
	Kernel: 5.4.0-167-generic
	Compiler: gcc (Ubuntu 10.5.0-1ubuntu1~20.04) 10.5.0

Debian 12 with MUSDK
	Kernel: Container Host Kernel
	Compiler: gcc 12.2.0

Ubuntu 20.04 aarch32 GCC Cross Compile
	Kernel: 5.4.0-167-generic
	Compiler: gcc 9.4.0

Ubuntu 20.04 ARM Clang Cross Compile
	Kernel: 5.4.0-72-generic
	Compiler: clang 10.0.0-4ubuntu1

Fedora 37 (ARM)
	Kernel: Depends on container host
	Compiler: gcc 12.3.1

CentOS Stream 9 (ARM)
	Kernel: Container Host Kernel
	Compiler: gcc 11.4.1

Fedora 39 (ARM Clang)
	Kernel: Depends on container host
	Compiler: clang 17.0.6

Ubuntu 20.04 ARM GCC Cross Compile
	Kernel: 5.4.0-167-generic
	Compiler: aarch64-linux-gnu-gcc (Ubuntu 9.4.0-1ubuntu1~20.04.2) 9.4.0

Fedora 38 (ARM Clang)
	Kernel: Depends on container host
	Compiler: clang 16.0.6

Fedora 39 (ARM)
	Kernel: Depends on container host
	Compiler: gcc 13.2.1

Debian 11 (Buster) (ARM)
	Kernel: Container Host Kernel
	Compiler: gcc 10.2.1

To view detailed results, visit:
https://lab.dpdk.org/results/dashboard/patchsets/29920/

UNH-IOL DPDK Community Lab

To manage your email subscriptions, visit: 
https://lab.dpdk.org/results/dashboard/preferences/subscriptions/