From mboxrd@z Thu Jan  1 00:00:00 1970
Return-Path: <test-report-bounces@dpdk.org>
Received: from mails.dpdk.org (mails.dpdk.org [217.70.189.124])
	by inbox.dpdk.org (Postfix) with ESMTP id 8D15043FC9
	for <public@inbox.dpdk.org>; Tue,  7 May 2024 14:00:44 +0200 (CEST)
Received: from mails.dpdk.org (localhost [127.0.0.1])
	by mails.dpdk.org (Postfix) with ESMTP id 693A04327A;
	Tue,  7 May 2024 14:00:44 +0200 (CEST)
Received: from mail-oi1-f228.google.com (mail-oi1-f228.google.com
 [209.85.167.228])
 by mails.dpdk.org (Postfix) with ESMTP id 26456402C8
 for <test-report@dpdk.org>; Tue,  7 May 2024 14:00:43 +0200 (CEST)
Received: by mail-oi1-f228.google.com with SMTP id
 5614622812f47-3c963880aecso1073790b6e.3
 for <test-report@dpdk.org>; Tue, 07 May 2024 05:00:43 -0700 (PDT)
DKIM-Signature: v=1; a=rsa-sha256; c=relaxed/relaxed;
 d=iol.unh.edu; s=unh-iol; t=1715083242; x=1715688042; darn=dpdk.org;
 h=references:in-reply-to:cc:to:from:subject:message-id:date:from:to
 :cc:subject:date:message-id:reply-to;
 bh=O5XjITfH2CRvnYrqYWNM3672cU0Gwvbpg8g38mRyVNE=;
 b=K/Klw1RGNp1hP6SErwu0HU0zQqzK9EpNGEMIkf93uD2eysl1ODv1VafxZ6pHBUbryH
 uaquPHk4ioFC7XgZ5kO/KxSWOKrkuQxNI1hyclQJgpUirI99kqq9uRlQexGH18UjbJv1
 2XrRQWRa6lsSeDjsBfkQr2IeiYVByU+0U5LeA=
X-Google-DKIM-Signature: v=1; a=rsa-sha256; c=relaxed/relaxed;
 d=1e100.net; s=20230601; t=1715083242; x=1715688042;
 h=references:in-reply-to:cc:to:from:subject:message-id:date
 :x-gm-message-state:from:to:cc:subject:date:message-id:reply-to;
 bh=O5XjITfH2CRvnYrqYWNM3672cU0Gwvbpg8g38mRyVNE=;
 b=CsP+p9QpC0URpPmbfyoIq2BW+G3oXI/7brrT1D8Nk5Doyhb8eWsJQx6DlZSeYppTmt
 rmnLosMn8F4Zse7L9rqMjy/TSTtAXfbcbtlD2VMmSkRQPQqfWDQRHds3UDlJkKtrTurF
 qorJxTrnsFUE5ZaPdhCoRBbSkZcEJ+kuK/op3z55V5ZJLO18LAU+dmaQZB/Y59CdWTx0
 CmPSH1Wjy6HcAzU0y8LKnJ9dnIdGstMvIq8htvPhbavbGT7RBgCUabs5ZnaCyDtFpZkK
 VP/HatsJgVWklOzUuwozqxc16mAStQamds6Jtg7XJP4bAMUjxLIILv/vubY9XN+D0H3q
 9aEA==
X-Gm-Message-State: AOJu0Yxg++6loOeFOgCtdhx9i7k9h01RtvwyaliaNIXMtXnxXJ6fBfTQ
 qTblaPvuEzf/TIl45CPWtAPNQimOVos7+JtdytaFVe7fVpmgRova5UtKJ30VFJkZ6VzjVOM4jJM
 cHu2NqbWvtypKC1TRUQ+l7EIsKcRsnP9ssCdvr5WN
X-Google-Smtp-Source: AGHT+IE/jrL1JbLTlRer3G9wHNKGyhmaEowOb+QdKkhzVb5aks99i3fZHuNSasIoWuk2SiTn1ginr3R5ifUl
X-Received: by 2002:a05:6808:f8c:b0:3c9:6a50:9dd with SMTP id
 o12-20020a0568080f8c00b003c96a5009ddmr8857277oiw.25.1715083242379; 
 Tue, 07 May 2024 05:00:42 -0700 (PDT)
Received: from postal.iol.unh.edu (postal.iol.unh.edu. [132.177.123.84])
 by smtp-relay.gmail.com with ESMTPS id
 m11-20020ad4504b000000b006a0f7e9e0a5sm798200qvq.23.2024.05.07.05.00.42
 (version=TLS1_2 cipher=ECDHE-ECDSA-AES128-GCM-SHA256 bits=128/128);
 Tue, 07 May 2024 05:00:42 -0700 (PDT)
X-Relaying-Domain: iol.unh.edu
Date: Tue, 07 May 2024 05:00:42 -0700 (PDT)
Message-ID: <663a17ea.d40a0220.2b3bc.0ddbSMTPIN_ADDED_MISSING@mx.google.com>
Received: from [172.21.0.6] (unknown [172.18.0.240])
 by postal.iol.unh.edu (Postfix) with ESMTP id BF57260524C2;
 Tue,  7 May 2024 08:00:41 -0400 (EDT)
Subject: |SUCCESS| pw139962-139963 [PATCH] [2/2] maintainers: update for cryp
From: dpdklab@iol.unh.edu
To: Test Report <test-report@dpdk.org>
Cc: dpdk-test-reports@iol.unh.edu
In-Reply-To: <20240507111732.5593-2-ciara.power@intel.com>
References: <20240507111732.5593-2-ciara.power@intel.com>
Content-Type: text/plain
X-BeenThere: test-report@dpdk.org
X-Mailman-Version: 2.1.29
Precedence: list
List-Id: automatic DPDK test reports <test-report.dpdk.org>
List-Unsubscribe: <https://mails.dpdk.org/options/test-report>,
 <mailto:test-report-request@dpdk.org?subject=unsubscribe>
List-Archive: <http://mails.dpdk.org/archives/test-report/>
List-Post: <mailto:test-report@dpdk.org>
List-Help: <mailto:test-report-request@dpdk.org?subject=help>
List-Subscribe: <https://mails.dpdk.org/listinfo/test-report>,
 <mailto:test-report-request@dpdk.org?subject=subscribe>
Errors-To: test-report-bounces@dpdk.org

Test-Label: iol-compile-amd64-testing
Test-Status: SUCCESS
http://dpdk.org/patch/139963

_Testing PASS_

Submitter: Ciara Power <ciara.power@intel.com>
Date: Tuesday, May 07 2024 11:17:32 
DPDK git baseline: Repo:dpdk
  Branch: master
  CommitID:7e06c0de1952d3109a5b0c4779d7e7d8059c9d78

139962-139963 --> testing pass

Test environment and result as below:

+---------------------+--------------------+----------------------+-------------------+
|     Environment     | dpdk_meson_compile | dpdk_mingw64_compile | dpdk_msvc_compile |
+=====================+====================+======================+===================+
| Debian 12           | PASS               | SKIPPED              | SKIPPED           |
+---------------------+--------------------+----------------------+-------------------+
| FreeBSD 13.3        | PASS               | SKIPPED              | SKIPPED           |
+---------------------+--------------------+----------------------+-------------------+
| CentOS Stream 9     | PASS               | SKIPPED              | SKIPPED           |
+---------------------+--------------------+----------------------+-------------------+
| CentOS Stream 8     | PASS               | SKIPPED              | SKIPPED           |
+---------------------+--------------------+----------------------+-------------------+
| FreeBSD 14.0        | PASS               | SKIPPED              | SKIPPED           |
+---------------------+--------------------+----------------------+-------------------+
| Windows Server 2022 | PASS               | PASS                 | PASS              |
+---------------------+--------------------+----------------------+-------------------+
| Windows Server 2019 | PASS               | PASS                 | SKIPPED           |
+---------------------+--------------------+----------------------+-------------------+
| Fedora 37           | PASS               | SKIPPED              | SKIPPED           |
+---------------------+--------------------+----------------------+-------------------+
| Fedora 39           | PASS               | SKIPPED              | SKIPPED           |
+---------------------+--------------------+----------------------+-------------------+


Debian 12
	Kernel: Container Host Kernel
	Compiler: gcc 10.2.1

FreeBSD 13.3
	Kernel: 13.3-RELEASE-p1
	Compiler: clang 17.0.6

CentOS Stream 9
	Kernel: 5.4.0-167-generic
	Compiler: gcc 11.4.1 20230605

CentOS Stream 8
	Kernel: 5.4.0-167-generic
	Compiler: gcc 8.5.0 20210514

FreeBSD 14.0
	Kernel: 14.0
	Compiler: clang 16.0.6

Windows Server 2022
	Kernel: 10.0.20348.2031
	Compiler: clang 15.0.7, gcc 8.1.0 (MinGW), and MSVC VS 17.9

Windows Server 2019
	Kernel: 10.0.17763
	Compiler: clang 14.0 and gcc 8.1.0 (MinGW)

Fedora 37
	Kernel: Depends on container host system
	Compiler: gcc 12.3.1

Fedora 39
	Kernel: Depends on container host
	Compiler: gcc 13.2.1

To view detailed results, visit:
https://lab.dpdk.org/results/dashboard/patchsets/29922/

UNH-IOL DPDK Community Lab

To manage your email subscriptions, visit: 
https://lab.dpdk.org/results/dashboard/preferences/subscriptions/