From mboxrd@z Thu Jan  1 00:00:00 1970
Return-Path: <test-report-bounces@dpdk.org>
Received: from mails.dpdk.org (mails.dpdk.org [217.70.189.124])
	by inbox.dpdk.org (Postfix) with ESMTP id 8CE4A43FC9
	for <public@inbox.dpdk.org>; Tue,  7 May 2024 14:11:18 +0200 (CEST)
Received: from mails.dpdk.org (localhost [127.0.0.1])
	by mails.dpdk.org (Postfix) with ESMTP id 842584335D;
	Tue,  7 May 2024 14:11:18 +0200 (CEST)
Received: from mail-oo1-f97.google.com (mail-oo1-f97.google.com
 [209.85.161.97]) by mails.dpdk.org (Postfix) with ESMTP id 715D5402C8
 for <test-report@dpdk.org>; Tue,  7 May 2024 14:11:16 +0200 (CEST)
Received: by mail-oo1-f97.google.com with SMTP id
 006d021491bc7-5b208cc22feso1037047eaf.3
 for <test-report@dpdk.org>; Tue, 07 May 2024 05:11:16 -0700 (PDT)
DKIM-Signature: v=1; a=rsa-sha256; c=relaxed/relaxed;
 d=iol.unh.edu; s=unh-iol; t=1715083876; x=1715688676; darn=dpdk.org;
 h=references:in-reply-to:cc:to:from:subject:message-id:date:from:to
 :cc:subject:date:message-id:reply-to;
 bh=OD9VW12gam7uCtiriuWFXhps01SnRlD4DSH+JXUDGrE=;
 b=RWnF1JW8kAV5qxt05AYCPj8EQngRJAjbBiYbTiSjUvLQhu8YlaAuTYlcjGp+jAyDce
 iNyBvQ1aoX3ECycbvo2o0qYhLuNypoe5Y5WUbrpME6oTxFlmXQSiofnk7ivWoQpk91iA
 9txRrEqzrpRX/FT372EH8OC7v3R8fSKp7avEU=
X-Google-DKIM-Signature: v=1; a=rsa-sha256; c=relaxed/relaxed;
 d=1e100.net; s=20230601; t=1715083876; x=1715688676;
 h=references:in-reply-to:cc:to:from:subject:message-id:date
 :x-gm-message-state:from:to:cc:subject:date:message-id:reply-to;
 bh=OD9VW12gam7uCtiriuWFXhps01SnRlD4DSH+JXUDGrE=;
 b=nndF3pWDz+yVZVwGNgGjnzJSftaNlCqYedxz388fGc7ULmgLj96vKH9EYDmHl3cOFD
 gtNIxsRmmj66/PNEHDknkzPgr1xXzxO1YoKRD6Cto52FlZ/BMGMVkSGmEzNd257YmvPz
 GGWwxFP7J8aY5ClHZP3B5+pQ69K0tC8AXLptopYbPIGaQ7NRvMaPVlG4egmR5oSOjPhz
 XdBcLjyxO4jsHCxTocBQJknc5v3gS+noenHy+lFVMzvCFAi8vN19OeMx1dlPbItSbq0q
 9WrvFgCVrNoSCMYbnsvbGk7D5kE6PNjCsTURaMEswCkYuRLILYIuvqZ3fkgDtp/WPLSu
 1hyw==
X-Gm-Message-State: AOJu0YxqVdKv4cjW5jvWsTbnwzWLsRgOmbO/XGjG6E3zH4lyXbKoYZ48
 2Cuf/7CyzvklCztOp/rue/favlikZlTwAR3B6mk+5lhlPZInU8VHm91/wCrIFPGG/18l5Rv8dst
 N2EpHImB/JF5l7IxpoWmERiq6yHD2kAA8Og5CcUYCTu95yUZKC2pMl4XD
X-Google-Smtp-Source: AGHT+IHWI16JSJcacZ9f0KhMWQKLo7OlaXBrTYrJwnG9W2us6WwmbMvaIsS0Ug6rUSG8hhuIxcOpC8VRTQmV
X-Received: by 2002:a4a:5143:0:b0:5ac:9f86:cc0d with SMTP id
 s64-20020a4a5143000000b005ac9f86cc0dmr12545310ooa.6.1715083875787; 
 Tue, 07 May 2024 05:11:15 -0700 (PDT)
Received: from postal.iol.unh.edu (postal.iol.unh.edu.
 [2606:4100:3880:1234::84]) by smtp-relay.gmail.com with ESMTPS id
 bc39-20020a05682016a700b005aa6dd4f85asm808265oob.0.2024.05.07.05.11.15
 (version=TLS1_2 cipher=ECDHE-ECDSA-AES128-GCM-SHA256 bits=128/128);
 Tue, 07 May 2024 05:11:15 -0700 (PDT)
X-Relaying-Domain: iol.unh.edu
Date: Tue, 07 May 2024 05:11:15 -0700 (PDT)
Message-ID: <663a1a63.050a0220.f7718.c41fSMTPIN_ADDED_MISSING@mx.google.com>
Received: from [172.21.0.6] (unknown [172.18.0.240])
 by postal.iol.unh.edu (Postfix) with ESMTP id B969F60524C2;
 Tue,  7 May 2024 08:11:14 -0400 (EDT)
Subject: |SUCCESS| pw139962-139963 [PATCH] [2/2] maintainers: update for cryp
From: dpdklab@iol.unh.edu
To: Test Report <test-report@dpdk.org>
Cc: dpdk-test-reports@iol.unh.edu
In-Reply-To: <20240507111732.5593-2-ciara.power@intel.com>
References: <20240507111732.5593-2-ciara.power@intel.com>
Content-Type: text/plain
X-BeenThere: test-report@dpdk.org
X-Mailman-Version: 2.1.29
Precedence: list
List-Id: automatic DPDK test reports <test-report.dpdk.org>
List-Unsubscribe: <https://mails.dpdk.org/options/test-report>,
 <mailto:test-report-request@dpdk.org?subject=unsubscribe>
List-Archive: <http://mails.dpdk.org/archives/test-report/>
List-Post: <mailto:test-report@dpdk.org>
List-Help: <mailto:test-report-request@dpdk.org?subject=help>
List-Subscribe: <https://mails.dpdk.org/listinfo/test-report>,
 <mailto:test-report-request@dpdk.org?subject=subscribe>
Errors-To: test-report-bounces@dpdk.org

Test-Label: iol-unit-arm64-testing
Test-Status: SUCCESS
http://dpdk.org/patch/139963

_Testing PASS_

Submitter: Ciara Power <ciara.power@intel.com>
Date: Tuesday, May 07 2024 11:17:32 
DPDK git baseline: Repo:dpdk
  Branch: master
  CommitID:7e06c0de1952d3109a5b0c4779d7e7d8059c9d78

139962-139963 --> testing pass

Test environment and result as below:

+--------------------------+---------------------------+------------------------------+----------------+
|       Environment        | cryptodev_sw_zuc_autotest | cryptodev_sw_snow3g_autotest | dpdk_unit_test |
+==========================+===========================+==============================+================+
| Debian 12 (arm)          | PASS                      | PASS                         | PASS           |
+--------------------------+---------------------------+------------------------------+----------------+
| CentOS Stream 9 (ARM)    | SKIPPED                   | SKIPPED                      | PASS           |
+--------------------------+---------------------------+------------------------------+----------------+
| Debian 11 (Buster) (ARM) | SKIPPED                   | SKIPPED                      | PASS           |
+--------------------------+---------------------------+------------------------------+----------------+
| Fedora 38 (ARM)          | SKIPPED                   | SKIPPED                      | PASS           |
+--------------------------+---------------------------+------------------------------+----------------+
| Fedora 37 (ARM)          | SKIPPED                   | SKIPPED                      | PASS           |
+--------------------------+---------------------------+------------------------------+----------------+
| Fedora 39 (ARM)          | SKIPPED                   | SKIPPED                      | PASS           |
+--------------------------+---------------------------+------------------------------+----------------+


Debian 12 (arm)
	Kernel: Container Host Kernel
	Compiler: gcc 12.2.0

CentOS Stream 9 (ARM)
	Kernel: Container Host Kernel
	Compiler: gcc 11.4.1

Debian 11 (Buster) (ARM)
	Kernel: Container Host Kernel
	Compiler: gcc 10.2.1

Fedora 38 (ARM)
	Kernel: Depends on container host
	Compiler: gcc 13.2.1

Fedora 37 (ARM)
	Kernel: Depends on container host
	Compiler: gcc 12.3.1

Fedora 39 (ARM)
	Kernel: Depends on container host
	Compiler: gcc 13.2.1

To view detailed results, visit:
https://lab.dpdk.org/results/dashboard/patchsets/29922/

UNH-IOL DPDK Community Lab

To manage your email subscriptions, visit: 
https://lab.dpdk.org/results/dashboard/preferences/subscriptions/