From mboxrd@z Thu Jan  1 00:00:00 1970
Return-Path: <test-report-bounces@dpdk.org>
Received: from mails.dpdk.org (mails.dpdk.org [217.70.189.124])
	by inbox.dpdk.org (Postfix) with ESMTP id 30C3843FC9
	for <public@inbox.dpdk.org>; Tue,  7 May 2024 14:26:41 +0200 (CEST)
Received: from mails.dpdk.org (localhost [127.0.0.1])
	by mails.dpdk.org (Postfix) with ESMTP id 26DFB4327A;
	Tue,  7 May 2024 14:26:41 +0200 (CEST)
Received: from mail-il1-f226.google.com (mail-il1-f226.google.com
 [209.85.166.226])
 by mails.dpdk.org (Postfix) with ESMTP id F2C9D402C8
 for <test-report@dpdk.org>; Tue,  7 May 2024 14:26:39 +0200 (CEST)
Received: by mail-il1-f226.google.com with SMTP id
 e9e14a558f8ab-36c96441a41so8436305ab.3
 for <test-report@dpdk.org>; Tue, 07 May 2024 05:26:39 -0700 (PDT)
DKIM-Signature: v=1; a=rsa-sha256; c=relaxed/relaxed;
 d=iol.unh.edu; s=unh-iol; t=1715084799; x=1715689599; darn=dpdk.org;
 h=references:in-reply-to:cc:to:from:subject:message-id:date:from:to
 :cc:subject:date:message-id:reply-to;
 bh=qnvHag88ywuDK3Bp9k8pk22xdnF2+AMeC7KCulSsbaQ=;
 b=aVwDq7X5XBiQqU1EwRTbsgn2f2cG2E1jk9CvlduLRH8Q9mMWh+wE/Gwg8ofqGQz5mn
 CpUO4IglWwsKudPDNiYGDnmkyR+m0pbU4MzJtwL9XqsendaiTIzJinbe+HZy1Yw/Ampz
 SMECL3cERYj7mVptSE7VJmzdJ2Eq2KRTZIrBo=
X-Google-DKIM-Signature: v=1; a=rsa-sha256; c=relaxed/relaxed;
 d=1e100.net; s=20230601; t=1715084799; x=1715689599;
 h=references:in-reply-to:cc:to:from:subject:message-id:date
 :x-gm-message-state:from:to:cc:subject:date:message-id:reply-to;
 bh=qnvHag88ywuDK3Bp9k8pk22xdnF2+AMeC7KCulSsbaQ=;
 b=S4fzfTlZz8DDEnnQni8LcMV8PSTnbfmG6AC3UpxmAyFradknMttR8vdhvbTlgEQ0Er
 FIcxTUh5cSDZnMv22819CAnNR0wLh9a2Jo2qDp2gEiZKmN4giY0xvlQWyN9WEGMnIvPs
 seiINrKjEDIMITVIkuZGZs6/nE3TSUTMaHWaTMWmwdfOJw4hHB+YV3bnd7t4i+6xi5Q0
 r/yvvAZSvVrYMtaLIc+GvfZuREOYlEg5NYxnS0ZDS43uM6k9Ud5mnCmFxN3i7F95XbC1
 OlZtuOq2UzR1+uPmcdLWM91ZCwp4H3fN9eQw9CwwgIPdRpgD1HkbBIHS8FJGNrQJCcFK
 A1vQ==
X-Gm-Message-State: AOJu0YxIBePvxbKEMD0tkIJgU+ENmEEwDmwmdJZdw7AmGh0iQnQg2Oy/
 QCm8senyekgtunea+hnJnvn5M8r/yDBDXOvlqJk9TcZ3QuSuDwhjXH4ffCb9m4JCMaBc8PL/twc
 6AUQF94FDcZ60E0KyV9Lz26hPLB4dYNLSZJAS2LkhSPCwHIgXkE1qCj+o
X-Google-Smtp-Source: AGHT+IFBVDj8KOHvXMyAsQIEjqCPjtmPFCMOxrUFI7dTDY9lCDGjUXIuO3RBP2PHs0G7tHJPSf5VRVtKl2jn
X-Received: by 2002:a05:6e02:1c22:b0:36c:5efe:9bf3 with SMTP id
 m2-20020a056e021c2200b0036c5efe9bf3mr20871053ilh.23.1715084799403; 
 Tue, 07 May 2024 05:26:39 -0700 (PDT)
Received: from postal.iol.unh.edu (postal.iol.unh.edu.
 [2606:4100:3880:1234::84]) by smtp-relay.gmail.com with ESMTPS id
 b11-20020a056e02184b00b0036c703e1419sm712757ilv.67.2024.05.07.05.26.39
 (version=TLS1_2 cipher=ECDHE-ECDSA-AES128-GCM-SHA256 bits=128/128);
 Tue, 07 May 2024 05:26:39 -0700 (PDT)
X-Relaying-Domain: iol.unh.edu
Date: Tue, 07 May 2024 05:26:39 -0700 (PDT)
Message-ID: <663a1dff.050a0220.7fb04.82b4SMTPIN_ADDED_MISSING@mx.google.com>
Received: from [172.17.0.3] (unknown [172.18.0.217])
 by postal.iol.unh.edu (Postfix) with ESMTP id D058960524C2;
 Tue,  7 May 2024 08:26:38 -0400 (EDT)
Subject: |SUCCESS| pw139962-139963 [PATCH] [2/2] maintainers: update for cryp
From: dpdklab@iol.unh.edu
To: Test Report <test-report@dpdk.org>
Cc: dpdk-test-reports@iol.unh.edu
In-Reply-To: <20240507111732.5593-2-ciara.power@intel.com>
References: <20240507111732.5593-2-ciara.power@intel.com>
Content-Type: text/plain
X-BeenThere: test-report@dpdk.org
X-Mailman-Version: 2.1.29
Precedence: list
List-Id: automatic DPDK test reports <test-report.dpdk.org>
List-Unsubscribe: <https://mails.dpdk.org/options/test-report>,
 <mailto:test-report-request@dpdk.org?subject=unsubscribe>
List-Archive: <http://mails.dpdk.org/archives/test-report/>
List-Post: <mailto:test-report@dpdk.org>
List-Help: <mailto:test-report-request@dpdk.org?subject=help>
List-Subscribe: <https://mails.dpdk.org/listinfo/test-report>,
 <mailto:test-report-request@dpdk.org?subject=subscribe>
Errors-To: test-report-bounces@dpdk.org

Test-Label: iol-abi-testing
Test-Status: SUCCESS
http://dpdk.org/patch/139963

_Testing PASS_

Submitter: Ciara Power <ciara.power@intel.com>
Date: Tuesday, May 07 2024 11:17:32 
DPDK git baseline: Repo:dpdk
  Branch: master
  CommitID:7e06c0de1952d3109a5b0c4779d7e7d8059c9d78

139962-139963 --> testing pass

Test environment and result as below:

+------------------+----------+
|   Environment    | abi_test |
+==================+==========+
| CentOS Stream 8  | PASS     |
+------------------+----------+
| Debian Bullseye  | PASS     |
+------------------+----------+
| CentOS Stream 9  | PASS     |
+------------------+----------+
| openSUSE Leap 15 | PASS     |
+------------------+----------+
| Ubuntu 22.04     | PASS     |
+------------------+----------+
| RHEL8            | PASS     |
+------------------+----------+
| Fedora 38        | PASS     |
+------------------+----------+
| Fedora 37        | PASS     |
+------------------+----------+
| Debian 12        | PASS     |
+------------------+----------+


CentOS Stream 8
	Kernel: 5.4.0-167-generic
	Compiler: gcc 8.5.0 20210514

Debian Bullseye
	Kernel: 5.4.0-167-generic
	Compiler: gcc 10.2.1-6

CentOS Stream 9
	Kernel: 5.4.0-167-generic
	Compiler: gcc 11.4.1 20230605

openSUSE Leap 15
	Kernel: 5.4.0-167-generic
	Compiler: gcc 7.5.0

Ubuntu 22.04
	Kernel: 5.4.0-167-generic
	Compiler: gcc 11.4.0

RHEL8
	Kernel: 5.4.0-167-generic
	Compiler: gcc 8.5.0 20210514 (Red Hat 8.5.0-20)

Fedora 38
	Kernel: Depends on container host
	Compiler: clang 16.0.6

Fedora 37
	Kernel: Depends on container host system
	Compiler: gcc 12.3.1

Debian 12
	Kernel: Container Host Kernel
	Compiler: gcc 10.2.1

To view detailed results, visit:
https://lab.dpdk.org/results/dashboard/patchsets/29922/

UNH-IOL DPDK Community Lab

To manage your email subscriptions, visit: 
https://lab.dpdk.org/results/dashboard/preferences/subscriptions/