From mboxrd@z Thu Jan  1 00:00:00 1970
Return-Path: <test-report-bounces@dpdk.org>
Received: from mails.dpdk.org (mails.dpdk.org [217.70.189.124])
	by inbox.dpdk.org (Postfix) with ESMTP id 3088543FC9
	for <public@inbox.dpdk.org>; Tue,  7 May 2024 19:22:35 +0200 (CEST)
Received: from mails.dpdk.org (localhost [127.0.0.1])
	by mails.dpdk.org (Postfix) with ESMTP id 2BACD402DF;
	Tue,  7 May 2024 19:22:35 +0200 (CEST)
Received: from mail-yw1-f227.google.com (mail-yw1-f227.google.com
 [209.85.128.227])
 by mails.dpdk.org (Postfix) with ESMTP id A173D402A9
 for <test-report@dpdk.org>; Tue,  7 May 2024 19:22:34 +0200 (CEST)
Received: by mail-yw1-f227.google.com with SMTP id
 00721157ae682-61df496df01so26324357b3.3
 for <test-report@dpdk.org>; Tue, 07 May 2024 10:22:34 -0700 (PDT)
DKIM-Signature: v=1; a=rsa-sha256; c=relaxed/relaxed;
 d=iol.unh.edu; s=unh-iol; t=1715102554; x=1715707354; darn=dpdk.org;
 h=references:in-reply-to:cc:to:from:subject:message-id:date:from:to
 :cc:subject:date:message-id:reply-to;
 bh=enFEB58Qg98Q2Er0DtGpFyRjS4AFAZNeojzp5HZqns4=;
 b=d9YGU+qCAkTslusdguQUNvfwBwU8pqND/c4NQrorTSKTFqeegJg9FOZHdSFxo+a6we
 VCO2K3JhFnu0kg1m/EImNg8PKaFO2gf6S+as6xPUvuWrD4kRXnPiwip7aM3D6m7Mj6/R
 awVuoZUC9PBlS8ADE/ARnC7TSMPKP3UTQANZk=
X-Google-DKIM-Signature: v=1; a=rsa-sha256; c=relaxed/relaxed;
 d=1e100.net; s=20230601; t=1715102554; x=1715707354;
 h=references:in-reply-to:cc:to:from:subject:message-id:date
 :x-gm-message-state:from:to:cc:subject:date:message-id:reply-to;
 bh=enFEB58Qg98Q2Er0DtGpFyRjS4AFAZNeojzp5HZqns4=;
 b=KUVQQun5mGp8uMBmL+98mNiC3b/hj4Yq9s6yl47d4f9jc0no2LS5/6EUOMG3CnGcm6
 G/ihfaxJ1JKffk3hfAjVg7TFLXf75lTJySXqi0AyW3CSXSC9U0qxiCYqTYszBuxB65KV
 YNNXDZ8SK/WwlQH3gLLq79iWREtn/n5BMWCJikyFQva2kHCJ7TN5BNd0r0XV+ytdzVSN
 uZsFmB8RaWo/Wbi0MS5c3/gB9w7dXfIrJoMNf6JegwHHoS0a7yqQWXbd9IiOs+xCaeuW
 WGOI0HNykejqplh7hZ6ltz8oy2RDoqreGfNc2JNhkRSLrMJOct8cwkgdp8Z6y/VbDLsh
 TTug==
X-Gm-Message-State: AOJu0Yw6Kv3Ntw7VpmzEpjKoeq00DuD/v50Msos3jyaAJHzu99rSVj6R
 lHSLt80yXiYukPdEH6igW3KgkXl1kHcdA0DdnPuZuDdnkpRclqA17+uo12Hb8ol6zsRuEAEvbIs
 VVBMDXPzHH+LTpkPMqt9V3D2Z3ruihHOLhiGlhUnx
X-Google-Smtp-Source: AGHT+IFU61HZcwN7Cz/O+aABFDHk1Q7h6nS/zQb1vmcFitc3YTrVa/B6j/QlImM4MSw2zmfneqIH6YrQMScw
X-Received: by 2002:a05:690c:4b04:b0:614:29b4:670 with SMTP id
 00721157ae682-62085d1e97emr5266457b3.1.1715102554039; 
 Tue, 07 May 2024 10:22:34 -0700 (PDT)
Received: from postal.iol.unh.edu (postal.iol.unh.edu. [132.177.123.84])
 by smtp-relay.gmail.com with ESMTPS id
 p190-20020a0dcdc7000000b0061b06ae1cfesm979621ywd.28.2024.05.07.10.22.33
 (version=TLS1_2 cipher=ECDHE-ECDSA-AES128-GCM-SHA256 bits=128/128);
 Tue, 07 May 2024 10:22:34 -0700 (PDT)
X-Relaying-Domain: iol.unh.edu
Date: Tue, 07 May 2024 10:22:34 -0700 (PDT)
Message-ID: <663a635a.0d0a0220.36d2b6.65c6SMTPIN_ADDED_MISSING@mx.google.com>
Received: from [172.21.0.6] (unknown [172.18.0.240])
 by postal.iol.unh.edu (Postfix) with ESMTP id B7DED605C373;
 Tue,  7 May 2024 13:22:33 -0400 (EDT)
Subject: |SUCCESS| pw139989-139990 [PATCH] [v6,2/2] dts: Change hugepage 'amo
From: dpdklab@iol.unh.edu
To: Test Report <test-report@dpdk.org>
Cc: dpdk-test-reports@iol.unh.edu
In-Reply-To: <20240507163752.305-3-npratte@iol.unh.edu>
References: <20240507163752.305-3-npratte@iol.unh.edu>
Content-Type: text/plain
X-BeenThere: test-report@dpdk.org
X-Mailman-Version: 2.1.29
Precedence: list
List-Id: automatic DPDK test reports <test-report.dpdk.org>
List-Unsubscribe: <https://mails.dpdk.org/options/test-report>,
 <mailto:test-report-request@dpdk.org?subject=unsubscribe>
List-Archive: <http://mails.dpdk.org/archives/test-report/>
List-Post: <mailto:test-report@dpdk.org>
List-Help: <mailto:test-report-request@dpdk.org?subject=help>
List-Subscribe: <https://mails.dpdk.org/listinfo/test-report>,
 <mailto:test-report-request@dpdk.org?subject=subscribe>
Errors-To: test-report-bounces@dpdk.org

Test-Label: iol-compile-amd64-testing
Test-Status: SUCCESS
http://dpdk.org/patch/139990

_Testing PASS_

Submitter: Nicholas Pratte <npratte@iol.unh.edu>
Date: Tuesday, May 07 2024 16:37:52 
DPDK git baseline: Repo:dpdk
  Branch: master
  CommitID:7e06c0de1952d3109a5b0c4779d7e7d8059c9d78

139989-139990 --> testing pass

Test environment and result as below:

+---------------------+--------------------+----------------------+-------------------+
|     Environment     | dpdk_meson_compile | dpdk_mingw64_compile | dpdk_msvc_compile |
+=====================+====================+======================+===================+
| CentOS Stream 8     | PASS               | SKIPPED              | SKIPPED           |
+---------------------+--------------------+----------------------+-------------------+
| Debian Bullseye     | PASS               | SKIPPED              | SKIPPED           |
+---------------------+--------------------+----------------------+-------------------+
| FreeBSD 13.3        | PASS               | SKIPPED              | SKIPPED           |
+---------------------+--------------------+----------------------+-------------------+
| Fedora 37           | PASS               | SKIPPED              | SKIPPED           |
+---------------------+--------------------+----------------------+-------------------+
| Windows Server 2019 | PASS               | PASS                 | SKIPPED           |
+---------------------+--------------------+----------------------+-------------------+
| Windows Server 2022 | PASS               | PASS                 | PASS              |
+---------------------+--------------------+----------------------+-------------------+
| Fedora 38           | PASS               | SKIPPED              | SKIPPED           |
+---------------------+--------------------+----------------------+-------------------+
| Fedora 39           | PASS               | SKIPPED              | SKIPPED           |
+---------------------+--------------------+----------------------+-------------------+
| Debian 12           | PASS               | SKIPPED              | SKIPPED           |
+---------------------+--------------------+----------------------+-------------------+
| FreeBSD 14.0        | PASS               | SKIPPED              | SKIPPED           |
+---------------------+--------------------+----------------------+-------------------+


CentOS Stream 8
	Kernel: 5.4.0-167-generic
	Compiler: gcc 8.5.0 20210514

Debian Bullseye
	Kernel: 5.4.0-167-generic
	Compiler: gcc 10.2.1-6

FreeBSD 13.3
	Kernel: 13.3-RELEASE-p1
	Compiler: clang 17.0.6

Fedora 37
	Kernel: Depends on container host system
	Compiler: gcc 12.3.1

Windows Server 2019
	Kernel: 10.0.17763
	Compiler: clang 14.0 and gcc 8.1.0 (MinGW)

Windows Server 2022
	Kernel: 10.0.20348.2031
	Compiler: clang 15.0.7, gcc 8.1.0 (MinGW), and MSVC VS 17.9

Fedora 38
	Kernel: Depends on container host
	Compiler: gcc 13.2.1

Fedora 39
	Kernel: Depends on container host
	Compiler: gcc 13.2.1

Debian 12
	Kernel: Container Host Kernel
	Compiler: gcc 10.2.1

FreeBSD 14.0
	Kernel: 14.0
	Compiler: clang 16.0.6

To view detailed results, visit:
https://lab.dpdk.org/results/dashboard/patchsets/29924/

UNH-IOL DPDK Community Lab

To manage your email subscriptions, visit: 
https://lab.dpdk.org/results/dashboard/preferences/subscriptions/