From mboxrd@z Thu Jan  1 00:00:00 1970
Return-Path: <test-report-bounces@dpdk.org>
Received: from mails.dpdk.org (mails.dpdk.org [217.70.189.124])
	by inbox.dpdk.org (Postfix) with ESMTP id A616B43FCC
	for <public@inbox.dpdk.org>; Tue,  7 May 2024 19:33:33 +0200 (CEST)
Received: from mails.dpdk.org (localhost [127.0.0.1])
	by mails.dpdk.org (Postfix) with ESMTP id A1B92402DF;
	Tue,  7 May 2024 19:33:33 +0200 (CEST)
Received: from mail-pf1-f225.google.com (mail-pf1-f225.google.com
 [209.85.210.225])
 by mails.dpdk.org (Postfix) with ESMTP id DB635402A9
 for <test-report@dpdk.org>; Tue,  7 May 2024 19:33:32 +0200 (CEST)
Received: by mail-pf1-f225.google.com with SMTP id
 d2e1a72fcca58-6f489e64eb3so1223804b3a.1
 for <test-report@dpdk.org>; Tue, 07 May 2024 10:33:32 -0700 (PDT)
DKIM-Signature: v=1; a=rsa-sha256; c=relaxed/relaxed;
 d=iol.unh.edu; s=unh-iol; t=1715103212; x=1715708012; darn=dpdk.org;
 h=references:in-reply-to:cc:to:from:subject:message-id:date:from:to
 :cc:subject:date:message-id:reply-to;
 bh=I0dhkEYpDz/g7R13EeBoPLmkMN1T06Enhi88sn1kbco=;
 b=Bt1ZM0BStHRY180KFx3hibqmK5URaNj8mmDA+dgwEx7Q4nxgm1a7WcNrxwmhA26t0H
 O9Wa3wUcDbVB/swAgf6oBG6bOH3d/p8XhFkQ4dJN00o50IBNt6782mZ1rBrm3U2UyQIF
 gE5e5xCmaBikK+Y0PsejFS++dxhcrU3kyNdIo=
X-Google-DKIM-Signature: v=1; a=rsa-sha256; c=relaxed/relaxed;
 d=1e100.net; s=20230601; t=1715103212; x=1715708012;
 h=references:in-reply-to:cc:to:from:subject:message-id:date
 :x-gm-message-state:from:to:cc:subject:date:message-id:reply-to;
 bh=I0dhkEYpDz/g7R13EeBoPLmkMN1T06Enhi88sn1kbco=;
 b=bo93C14pXMpBycAnjOOjDvBVw8GrMAkGI5egXwF0hm7HbJSCa1uEEIYRwV8OHYH6NR
 vIWapY66ytY4r6opyNK71+xc8z83igr1jIO37bWgWxKXd4uHAon84KuWZqCgl/PQdEmA
 IFf7UBshCTnCmXZVA8LAb+tRr8+xMTCBeiz3KG9TxafRkzcXSFGQsC5siVZtGHoqqZw1
 nzAn347fKEb/NhUU2nuzMXkj/iTVfbvAaV+S5aYhq1n7wCHtm77amAW6YC8Ej+YW35fQ
 IbCLmfN4ozE566uhLW01fnJsKP9RMVwU7rQ59HwqJx5VDs8pO1EI9yRSf1HZoUEuNRic
 kbsg==
X-Gm-Message-State: AOJu0Yxx4nXwBqItVkXPZsGlLJSu4dUsD/bayrbLvePe3QeE4AekSpsd
 leRLMU3ixqIWPoho1l5pRi9uB8+izuKAwBIQzYq5Ptjz73Q0eE+pfF+GcigbgKlYYOqnlVjOHgj
 fwuRQboMp8HNhuvYKOXyWfkQJ2QYxwU7wv237P5OJ2uYAq1oGBDIfhMGR
X-Google-Smtp-Source: AGHT+IErw4P5poMMIovX2jOjZ9mL/oGbonQixhfd8MvP7t5MbLj56Fe/QAMrjfffna8N4k2JRJSrsAzC0kqc
X-Received: by 2002:a62:e704:0:b0:6ed:caf6:6e4b with SMTP id
 d2e1a72fcca58-6f49c21d025mr375676b3a.18.1715103212129; 
 Tue, 07 May 2024 10:33:32 -0700 (PDT)
Received: from postal.iol.unh.edu (postal.iol.unh.edu.
 [2606:4100:3880:1234::84]) by smtp-relay.gmail.com with ESMTPS id
 m5-20020a632605000000b005f096d37086sm1204168pgm.22.2024.05.07.10.33.32
 (version=TLS1_2 cipher=ECDHE-ECDSA-AES128-GCM-SHA256 bits=128/128);
 Tue, 07 May 2024 10:33:32 -0700 (PDT)
X-Relaying-Domain: iol.unh.edu
Date: Tue, 07 May 2024 10:33:32 -0700 (PDT)
Message-ID: <663a65ec.630a0220.95dfc.523dSMTPIN_ADDED_MISSING@mx.google.com>
Received: from [172.17.0.2] (unknown [172.18.0.217])
 by postal.iol.unh.edu (Postfix) with ESMTP id 96AF5605C373;
 Tue,  7 May 2024 13:33:31 -0400 (EDT)
Subject: |SUCCESS| pw139989-139990 [PATCH] [v6,2/2] dts: Change hugepage 'amo
From: dpdklab@iol.unh.edu
To: Test Report <test-report@dpdk.org>
Cc: dpdk-test-reports@iol.unh.edu
In-Reply-To: <20240507163752.305-3-npratte@iol.unh.edu>
References: <20240507163752.305-3-npratte@iol.unh.edu>
Content-Type: text/plain
X-BeenThere: test-report@dpdk.org
X-Mailman-Version: 2.1.29
Precedence: list
List-Id: automatic DPDK test reports <test-report.dpdk.org>
List-Unsubscribe: <https://mails.dpdk.org/options/test-report>,
 <mailto:test-report-request@dpdk.org?subject=unsubscribe>
List-Archive: <http://mails.dpdk.org/archives/test-report/>
List-Post: <mailto:test-report@dpdk.org>
List-Help: <mailto:test-report-request@dpdk.org?subject=help>
List-Subscribe: <https://mails.dpdk.org/listinfo/test-report>,
 <mailto:test-report-request@dpdk.org?subject=subscribe>
Errors-To: test-report-bounces@dpdk.org

Test-Label: iol-abi-testing
Test-Status: SUCCESS
http://dpdk.org/patch/139990

_Testing PASS_

Submitter: Nicholas Pratte <npratte@iol.unh.edu>
Date: Tuesday, May 07 2024 16:37:52 
DPDK git baseline: Repo:dpdk
  Branch: master
  CommitID:7e06c0de1952d3109a5b0c4779d7e7d8059c9d78

139989-139990 --> testing pass

Test environment and result as below:

+------------------+----------+
|   Environment    | abi_test |
+==================+==========+
| CentOS Stream 8  | PASS     |
+------------------+----------+
| Debian Bullseye  | PASS     |
+------------------+----------+
| Debian 12        | PASS     |
+------------------+----------+
| Fedora 38        | PASS     |
+------------------+----------+
| openSUSE Leap 15 | PASS     |
+------------------+----------+
| CentOS Stream 9  | PASS     |
+------------------+----------+
| Fedora 39        | PASS     |
+------------------+----------+


CentOS Stream 8
	Kernel: 5.4.0-167-generic
	Compiler: gcc 8.5.0 20210514

Debian Bullseye
	Kernel: 5.4.0-167-generic
	Compiler: gcc 10.2.1-6

Debian 12
	Kernel: Container Host Kernel
	Compiler: gcc 10.2.1

Fedora 38
	Kernel: Depends on container host
	Compiler: clang 16.0.6

openSUSE Leap 15
	Kernel: 5.4.0-167-generic
	Compiler: gcc 7.5.0

CentOS Stream 9
	Kernel: 5.4.0-167-generic
	Compiler: gcc 11.4.1 20230605

Fedora 39
	Kernel: Depends on container host
	Compiler: clang 17.0.6

To view detailed results, visit:
https://lab.dpdk.org/results/dashboard/patchsets/29924/

UNH-IOL DPDK Community Lab

To manage your email subscriptions, visit: 
https://lab.dpdk.org/results/dashboard/preferences/subscriptions/