From mboxrd@z Thu Jan  1 00:00:00 1970
Return-Path: <test-report-bounces@dpdk.org>
Received: from mails.dpdk.org (mails.dpdk.org [217.70.189.124])
	by inbox.dpdk.org (Postfix) with ESMTP id 63E6943FCC
	for <public@inbox.dpdk.org>; Tue,  7 May 2024 19:37:50 +0200 (CEST)
Received: from mails.dpdk.org (localhost [127.0.0.1])
	by mails.dpdk.org (Postfix) with ESMTP id 5F5B0402DF;
	Tue,  7 May 2024 19:37:50 +0200 (CEST)
Received: from mail-qk1-f228.google.com (mail-qk1-f228.google.com
 [209.85.222.228])
 by mails.dpdk.org (Postfix) with ESMTP id 25BBB402A9
 for <test-report@dpdk.org>; Tue,  7 May 2024 19:37:49 +0200 (CEST)
Received: by mail-qk1-f228.google.com with SMTP id
 af79cd13be357-792706dbdc6so339394285a.0
 for <test-report@dpdk.org>; Tue, 07 May 2024 10:37:49 -0700 (PDT)
DKIM-Signature: v=1; a=rsa-sha256; c=relaxed/relaxed;
 d=iol.unh.edu; s=unh-iol; t=1715103468; x=1715708268; darn=dpdk.org;
 h=references:in-reply-to:cc:to:from:subject:message-id:date:from:to
 :cc:subject:date:message-id:reply-to;
 bh=0zRN9p8B74Ysn/uC2071/QZYwY5MCM0E2Tplw9ugIjc=;
 b=a+aOLq2QK2myb1mcHN0l6pc23cAnik584ZReBLzm5R59ALjGTPL6A6q/8RWrPpk5hU
 NOaee4jK1TrOlOB2Mtw/F4KIeOl7bMalG/KgRfMfhvbSGArz9DX3aSZPVBSRyHn3Cdvq
 apGRHa5REgJpvcSXPf7+E9VkALFJqGLGa2Pb4=
X-Google-DKIM-Signature: v=1; a=rsa-sha256; c=relaxed/relaxed;
 d=1e100.net; s=20230601; t=1715103468; x=1715708268;
 h=references:in-reply-to:cc:to:from:subject:message-id:date
 :x-gm-message-state:from:to:cc:subject:date:message-id:reply-to;
 bh=0zRN9p8B74Ysn/uC2071/QZYwY5MCM0E2Tplw9ugIjc=;
 b=vfVuQMg8OLIU9b7vjmW1SRASSXQUUp7+H9HJ97EKmy2DR97eLwJfpuh3FpxzrTJGuY
 g0AnlCifpV8En/i5V+qbAfpJTBKXZyK3u+80gvQXvopRce2tbZRnErSZsYPpKhqW50mP
 bV6Hl1dqzU+GZINcON1aGOH0bJku9l+eXOix0aoXcSFRivpnGYqdEiVtOqC/CBEhFQHs
 0gM9oleqP9cME892q14za/BQ4Vt9pcu8/JfBjGs135CBZms0OASGxIUscE+T7FssDPH3
 kXbXU0MGG7AaZxkNDBz4sjyXE5MbS4yt1nEyn4584aYrgCIa7ic271QyXcOqACANxDm1
 Eu9A==
X-Gm-Message-State: AOJu0Yy8LD03fbM6y+pDqn3qS5AhPebT4isAOXq/ZPWap/SzAxOCd+kc
 rrpHKnlaw1dI9+EZid8vRLCfWs6E4xeo4NUEgQwXqhHWFrmWIetdNDbPTeio+iKqcRA6x++qaXe
 BzcoI4TARtKEjtbhXZ98wB5VO8eqq0nxEHoN+Xad2
X-Google-Smtp-Source: AGHT+IFpaWftZivcO2U5hIPcsWROFlPKFSxwl38Sto55U9sIEOSKP81lRC4fnRc9vRXiVtjqr8nWqWbyFIB1
X-Received: by 2002:a05:620a:24c5:b0:792:9526:ab4b with SMTP id
 af79cd13be357-792a64acb19mr572408685a.26.1715103468557; 
 Tue, 07 May 2024 10:37:48 -0700 (PDT)
Received: from postal.iol.unh.edu (postal.iol.unh.edu. [132.177.123.84])
 by smtp-relay.gmail.com with ESMTPS id
 bp36-20020a05620a45a400b00790fbb1f5b7sm684455qkb.1.2024.05.07.10.37.48
 (version=TLS1_2 cipher=ECDHE-ECDSA-AES128-GCM-SHA256 bits=128/128);
 Tue, 07 May 2024 10:37:48 -0700 (PDT)
X-Relaying-Domain: iol.unh.edu
Date: Tue, 07 May 2024 10:37:48 -0700 (PDT)
Message-ID: <663a66ec.050a0220.bcdb9.84dfSMTPIN_ADDED_MISSING@mx.google.com>
Received: from [172.21.0.6] (unknown [172.18.0.240])
 by postal.iol.unh.edu (Postfix) with ESMTP id 3FEA4605C373;
 Tue,  7 May 2024 13:37:48 -0400 (EDT)
Subject: |SUCCESS| pw139989-139990 [PATCH] [v6,2/2] dts: Change hugepage 'amo
From: dpdklab@iol.unh.edu
To: Test Report <test-report@dpdk.org>
Cc: dpdk-test-reports@iol.unh.edu
In-Reply-To: <20240507163752.305-3-npratte@iol.unh.edu>
References: <20240507163752.305-3-npratte@iol.unh.edu>
Content-Type: text/plain
X-BeenThere: test-report@dpdk.org
X-Mailman-Version: 2.1.29
Precedence: list
List-Id: automatic DPDK test reports <test-report.dpdk.org>
List-Unsubscribe: <https://mails.dpdk.org/options/test-report>,
 <mailto:test-report-request@dpdk.org?subject=unsubscribe>
List-Archive: <http://mails.dpdk.org/archives/test-report/>
List-Post: <mailto:test-report@dpdk.org>
List-Help: <mailto:test-report-request@dpdk.org?subject=help>
List-Subscribe: <https://mails.dpdk.org/listinfo/test-report>,
 <mailto:test-report-request@dpdk.org?subject=subscribe>
Errors-To: test-report-bounces@dpdk.org

Test-Label: iol-unit-arm64-testing
Test-Status: SUCCESS
http://dpdk.org/patch/139990

_Testing PASS_

Submitter: Nicholas Pratte <npratte@iol.unh.edu>
Date: Tuesday, May 07 2024 16:37:52 
DPDK git baseline: Repo:dpdk
  Branch: master
  CommitID:7e06c0de1952d3109a5b0c4779d7e7d8059c9d78

139989-139990 --> testing pass

Test environment and result as below:

+--------------------------+---------------------------+------------------------------+----------------+
|       Environment        | cryptodev_sw_zuc_autotest | cryptodev_sw_snow3g_autotest | dpdk_unit_test |
+==========================+===========================+==============================+================+
| Debian 12 (arm)          | PASS                      | PASS                         | PASS           |
+--------------------------+---------------------------+------------------------------+----------------+
| CentOS Stream 9 (ARM)    | SKIPPED                   | SKIPPED                      | PASS           |
+--------------------------+---------------------------+------------------------------+----------------+
| Debian 11 (Buster) (ARM) | SKIPPED                   | SKIPPED                      | PASS           |
+--------------------------+---------------------------+------------------------------+----------------+
| Fedora 38 (ARM)          | SKIPPED                   | SKIPPED                      | PASS           |
+--------------------------+---------------------------+------------------------------+----------------+
| Fedora 37 (ARM)          | SKIPPED                   | SKIPPED                      | PASS           |
+--------------------------+---------------------------+------------------------------+----------------+
| Ubuntu 20.04 (ARM)       | SKIPPED                   | SKIPPED                      | PASS           |
+--------------------------+---------------------------+------------------------------+----------------+


Debian 12 (arm)
	Kernel: Container Host Kernel
	Compiler: gcc 12.2.0

CentOS Stream 9 (ARM)
	Kernel: Container Host Kernel
	Compiler: gcc 11.4.1

Debian 11 (Buster) (ARM)
	Kernel: Container Host Kernel
	Compiler: gcc 10.2.1

Fedora 38 (ARM)
	Kernel: Depends on container host
	Compiler: gcc 13.2.1

Fedora 37 (ARM)
	Kernel: Depends on container host
	Compiler: gcc 12.3.1

Ubuntu 20.04 (ARM)
	Kernel: Container Host Kernel
	Compiler: gcc 9.4.0

To view detailed results, visit:
https://lab.dpdk.org/results/dashboard/patchsets/29924/

UNH-IOL DPDK Community Lab

To manage your email subscriptions, visit: 
https://lab.dpdk.org/results/dashboard/preferences/subscriptions/