From mboxrd@z Thu Jan  1 00:00:00 1970
Return-Path: <test-report-bounces@dpdk.org>
Received: from mails.dpdk.org (mails.dpdk.org [217.70.189.124])
	by inbox.dpdk.org (Postfix) with ESMTP id 2EA5C43FCD
	for <public@inbox.dpdk.org>; Tue,  7 May 2024 20:12:54 +0200 (CEST)
Received: from mails.dpdk.org (localhost [127.0.0.1])
	by mails.dpdk.org (Postfix) with ESMTP id 2A57E43460;
	Tue,  7 May 2024 20:12:54 +0200 (CEST)
Received: from mail-pl1-f228.google.com (mail-pl1-f228.google.com
 [209.85.214.228])
 by mails.dpdk.org (Postfix) with ESMTP id 5D9CA402DF
 for <test-report@dpdk.org>; Tue,  7 May 2024 20:12:53 +0200 (CEST)
Received: by mail-pl1-f228.google.com with SMTP id
 d9443c01a7336-1edf506b216so17287105ad.2
 for <test-report@dpdk.org>; Tue, 07 May 2024 11:12:53 -0700 (PDT)
DKIM-Signature: v=1; a=rsa-sha256; c=relaxed/relaxed;
 d=iol.unh.edu; s=unh-iol; t=1715105572; x=1715710372; darn=dpdk.org;
 h=references:in-reply-to:cc:to:from:subject:message-id:date:from:to
 :cc:subject:date:message-id:reply-to;
 bh=1jSUMDvqiG8orFft+pvIFWHtxaaaSirZdv/wxNIBj1Y=;
 b=LxAl4ECzmm49xnkPcCZZT07Du14FMh44Dw2A37iVo38uras488tkETWtCW/BrzKOlz
 RxwvscV/oDq8a87DS4POeEwPwGLKf4TgapFMCK06VKFsV30ZHKzVIDF+nz25SIdHbK6z
 D7mpGGDsQ7QghPjGorEpltupQkjp4/NtXxDio=
X-Google-DKIM-Signature: v=1; a=rsa-sha256; c=relaxed/relaxed;
 d=1e100.net; s=20230601; t=1715105572; x=1715710372;
 h=references:in-reply-to:cc:to:from:subject:message-id:date
 :x-gm-message-state:from:to:cc:subject:date:message-id:reply-to;
 bh=1jSUMDvqiG8orFft+pvIFWHtxaaaSirZdv/wxNIBj1Y=;
 b=Kga4xj60v6DTuzdZ7wjV2MZOYFtMPtJUPHTXGhZxMmOvLBtGk3/YAohNodwd1DF6dV
 ghSgMu4dCrEtnJovBkfCztPiGBKIelkbcMTPy777b4as/qmDEXSSyEFaFkGn+DajbKpX
 Ow14r2R2cjLElJAi0K/LiH+2ILUfTKqwef3FvLsl42KjXI7IbVSB5dFZcknTqVhU1+Ep
 2/+B1qnz47dWXgbV8bw5yUtNcys4jB748PSTxsz057JrYJLE4jx6hUqJD8TyVxjfeFle
 ZGwwx68zy36L/wm+Qy/jc4uvxpa0FNSc40Rq0iYkIG+hgR7a/pVD/KHWzFnrDBaJP6oP
 N5PQ==
X-Gm-Message-State: AOJu0YyV/j7pKxMfyWx5mSpKr1p0voKK+RmDt1/FjD7e1r5vWaUzWf5r
 LPppVsXlMfZJIIRa8MaXSRcP6a6iDBSvE2MDhz3Y08KWjcdCDYkHlvkFxusfdmZXb3DV4DhiptF
 O/jMAfVkfbbZfa1+b7TveV3XqNeMLp6SOOeXvS00A
X-Google-Smtp-Source: AGHT+IHZdMiBbwAbzNW0p8RGGxMcf2/caGm1IAC81rtTV5uFaXu7qKX8zcyzD1I8fEq9XAsNlOwilgqXpDSz
X-Received: by 2002:a17:902:daca:b0:1e3:c4c2:efa9 with SMTP id
 d9443c01a7336-1eeb059745emr4333205ad.31.1715105572603; 
 Tue, 07 May 2024 11:12:52 -0700 (PDT)
Received: from postal.iol.unh.edu (postal.iol.unh.edu. [132.177.123.84])
 by smtp-relay.gmail.com with ESMTPS id
 kq15-20020a170903284f00b001ec659c95fasm631005plb.19.2024.05.07.11.12.52
 (version=TLS1_2 cipher=ECDHE-ECDSA-AES128-GCM-SHA256 bits=128/128);
 Tue, 07 May 2024 11:12:52 -0700 (PDT)
X-Relaying-Domain: iol.unh.edu
Date: Tue, 07 May 2024 11:12:52 -0700 (PDT)
Message-ID: <663a6f24.170a0220.588ca.be1fSMTPIN_ADDED_MISSING@mx.google.com>
Received: from [172.21.0.6] (unknown [172.18.0.240])
 by postal.iol.unh.edu (Postfix) with ESMTP id 9EB54605C373;
 Tue,  7 May 2024 14:12:51 -0400 (EDT)
Subject: |SUCCESS| pw139964-139988 [PATCH] [v2,25/25] net/axgbe: modify debug
From: dpdklab@iol.unh.edu
To: Test Report <test-report@dpdk.org>
Cc: dpdk-test-reports@iol.unh.edu
In-Reply-To: <20240507124305.2318-25-venkatkumar.ande@amd.com>
References: <20240507124305.2318-25-venkatkumar.ande@amd.com>
Content-Type: text/plain
X-BeenThere: test-report@dpdk.org
X-Mailman-Version: 2.1.29
Precedence: list
List-Id: automatic DPDK test reports <test-report.dpdk.org>
List-Unsubscribe: <https://mails.dpdk.org/options/test-report>,
 <mailto:test-report-request@dpdk.org?subject=unsubscribe>
List-Archive: <http://mails.dpdk.org/archives/test-report/>
List-Post: <mailto:test-report@dpdk.org>
List-Help: <mailto:test-report-request@dpdk.org?subject=help>
List-Subscribe: <https://mails.dpdk.org/listinfo/test-report>,
 <mailto:test-report-request@dpdk.org?subject=subscribe>
Errors-To: test-report-bounces@dpdk.org

Test-Label: iol-compile-arm64-testing
Test-Status: SUCCESS
http://dpdk.org/patch/139988

_Testing PASS_

Submitter: Venkat Kumar Ande <venkatkumar.ande@amd.com>
Date: Tuesday, May 07 2024 12:43:05 
DPDK git baseline: Repo:dpdk
  Branch: master
  CommitID:baa8e2c6b4d7ce289e891b9c96fb3193311c0f01

139964-139988 --> testing pass

Test environment and result as below:

+-----------------------+--------------------+
|      Environment      | dpdk_meson_compile |
+=======================+====================+
| Ubuntu 20.04 ARM SVE  | PASS               |
+-----------------------+--------------------+
| Debian 12 with MUSDK  | PASS               |
+-----------------------+--------------------+
| Ubuntu 20.04 (ARM)    | PASS               |
+-----------------------+--------------------+
| Fedora 37 (ARM)       | PASS               |
+-----------------------+--------------------+
| Debian 12 (arm)       | PASS               |
+-----------------------+--------------------+
| CentOS Stream 9 (ARM) | PASS               |
+-----------------------+--------------------+
| Fedora 38 (ARM)       | PASS               |
+-----------------------+--------------------+
| Fedora 39 (ARM)       | PASS               |
+-----------------------+--------------------+


Ubuntu 20.04 ARM SVE
	Kernel: 5.4.0-167-generic
	Compiler: gcc (Ubuntu 10.5.0-1ubuntu1~20.04) 10.5.0

Debian 12 with MUSDK
	Kernel: Container Host Kernel
	Compiler: gcc 12.2.0

Ubuntu 20.04 (ARM)
	Kernel: Container Host Kernel
	Compiler: gcc 9.4.0

Fedora 37 (ARM)
	Kernel: Depends on container host
	Compiler: gcc 12.3.1

Debian 12 (arm)
	Kernel: Container Host Kernel
	Compiler: gcc 12.2.0

CentOS Stream 9 (ARM)
	Kernel: Container Host Kernel
	Compiler: gcc 11.4.1

Fedora 38 (ARM)
	Kernel: Depends on container host
	Compiler: gcc 13.2.1

Fedora 39 (ARM)
	Kernel: Depends on container host
	Compiler: gcc 13.2.1

To view detailed results, visit:
https://lab.dpdk.org/results/dashboard/patchsets/29923/

UNH-IOL DPDK Community Lab

To manage your email subscriptions, visit: 
https://lab.dpdk.org/results/dashboard/preferences/subscriptions/