From mboxrd@z Thu Jan  1 00:00:00 1970
Return-Path: <test-report-bounces@dpdk.org>
Received: from mails.dpdk.org (mails.dpdk.org [217.70.189.124])
	by inbox.dpdk.org (Postfix) with ESMTP id 95AA943FCD
	for <public@inbox.dpdk.org>; Tue,  7 May 2024 20:14:39 +0200 (CEST)
Received: from mails.dpdk.org (localhost [127.0.0.1])
	by mails.dpdk.org (Postfix) with ESMTP id 91CC543460;
	Tue,  7 May 2024 20:14:39 +0200 (CEST)
Received: from mail-yw1-f227.google.com (mail-yw1-f227.google.com
 [209.85.128.227])
 by mails.dpdk.org (Postfix) with ESMTP id A5584402DF
 for <test-report@dpdk.org>; Tue,  7 May 2024 20:14:38 +0200 (CEST)
Received: by mail-yw1-f227.google.com with SMTP id
 00721157ae682-61af74a010aso32931987b3.0
 for <test-report@dpdk.org>; Tue, 07 May 2024 11:14:38 -0700 (PDT)
DKIM-Signature: v=1; a=rsa-sha256; c=relaxed/relaxed;
 d=iol.unh.edu; s=unh-iol; t=1715105678; x=1715710478; darn=dpdk.org;
 h=references:in-reply-to:cc:to:from:subject:message-id:date:from:to
 :cc:subject:date:message-id:reply-to;
 bh=QHw7ddWI6hkAPGRp5Bzf+SQjJ/xvUhbkL47q2eqQdfc=;
 b=TZFXWe4vEd1bPlrFSXK3Osz4Bg3IZhw1UvSbJccx/stRN4FOnEbSq87ulD/7Hs7+MB
 B+Y26vkwg+vpPB9MTgI633vxZEDQoExI0aHiu2kzBb8OLl9GuV5idnq7KS+fjpXDUS9Y
 KARmf+yK63litXF4l2AcHT1JEBTp7pYRjFdTk=
X-Google-DKIM-Signature: v=1; a=rsa-sha256; c=relaxed/relaxed;
 d=1e100.net; s=20230601; t=1715105678; x=1715710478;
 h=references:in-reply-to:cc:to:from:subject:message-id:date
 :x-gm-message-state:from:to:cc:subject:date:message-id:reply-to;
 bh=QHw7ddWI6hkAPGRp5Bzf+SQjJ/xvUhbkL47q2eqQdfc=;
 b=aAj/4MgIJ3QUML2Dxd+k7GF47qLzPWeKXgiqS+kzC0Q3kE96mPA0gJDoku263C20xu
 MAqIJpzWOpLq6FTaVQqAN45RTheAi65o4H66utFtN5kJyOAVrpDNy7fs9llLQebwezTf
 KQLs57qkfFzxR3g6KFNA3Lie4Xs93m8nPaqo166yJZ5VQnjshs22BYXhteOl59DwYdT6
 BnELvMnNWzmDIQYtK5BdIkRoXMDNQmXM8Z1bEzZ/GoXr342aqPNY9z3tmmlrC3fFElOF
 18SWrLukshY7487NW4JE/HBOEreDtHZQh1Y5IxDd5y/TPHlDLGDBESg/NUvUZnMF0pWk
 crOg==
X-Gm-Message-State: AOJu0Yw0FIf3PykkCRWqaEUZlr7V/YnPGcp3rkkrnGs8ZXhW5igmejeI
 5jy4VAA3YftD9+JIdGGe5N7BT8pa6PCO0U6WOFcFQKrmmhj/kW1msupGmXgHvHj5jHvf5gUMQb9
 LVRygZBFF2yToAHuxmRfunKixwwIJN9BfrmMmgx9M
X-Google-Smtp-Source: AGHT+IH3T/z20MkXjFE3HYVRHWa6cNSwCQ8C0DxkJLtm+Bvl5fgxrGn/+vWXETOIrcV+1S3OSxaOaC8N5+rs
X-Received: by 2002:a0d:cbd7:0:b0:618:8a27:f06 with SMTP id
 00721157ae682-62085a32c97mr7348037b3.9.1715105678031; 
 Tue, 07 May 2024 11:14:38 -0700 (PDT)
Received: from postal.iol.unh.edu (postal.iol.unh.edu. [132.177.123.84])
 by smtp-relay.gmail.com with ESMTPS id
 m66-20020a817145000000b006143dc5533dsm1088132ywc.56.2024.05.07.11.14.37
 (version=TLS1_2 cipher=ECDHE-ECDSA-AES128-GCM-SHA256 bits=128/128);
 Tue, 07 May 2024 11:14:38 -0700 (PDT)
X-Relaying-Domain: iol.unh.edu
Date: Tue, 07 May 2024 11:14:38 -0700 (PDT)
Message-ID: <663a6f8e.810a0220.52ac1.2af6SMTPIN_ADDED_MISSING@mx.google.com>
Received: from [172.21.0.6] (unknown [172.18.0.240])
 by postal.iol.unh.edu (Postfix) with ESMTP id A0614605C373;
 Tue,  7 May 2024 14:14:37 -0400 (EDT)
Subject: |SUCCESS| pw139989-139990 [PATCH] [v6,2/2] dts: Change hugepage 'amo
From: dpdklab@iol.unh.edu
To: Test Report <test-report@dpdk.org>
Cc: dpdk-test-reports@iol.unh.edu
In-Reply-To: <20240507163752.305-3-npratte@iol.unh.edu>
References: <20240507163752.305-3-npratte@iol.unh.edu>
Content-Type: text/plain
X-BeenThere: test-report@dpdk.org
X-Mailman-Version: 2.1.29
Precedence: list
List-Id: automatic DPDK test reports <test-report.dpdk.org>
List-Unsubscribe: <https://mails.dpdk.org/options/test-report>,
 <mailto:test-report-request@dpdk.org?subject=unsubscribe>
List-Archive: <http://mails.dpdk.org/archives/test-report/>
List-Post: <mailto:test-report@dpdk.org>
List-Help: <mailto:test-report-request@dpdk.org?subject=help>
List-Subscribe: <https://mails.dpdk.org/listinfo/test-report>,
 <mailto:test-report-request@dpdk.org?subject=subscribe>
Errors-To: test-report-bounces@dpdk.org

Test-Label: iol-unit-amd64-testing
Test-Status: SUCCESS
http://dpdk.org/patch/139990

_Testing PASS_

Submitter: Nicholas Pratte <npratte@iol.unh.edu>
Date: Tuesday, May 07 2024 16:37:52 
DPDK git baseline: Repo:dpdk
  Branch: master
  CommitID:7e06c0de1952d3109a5b0c4779d7e7d8059c9d78

139989-139990 --> testing pass

Test environment and result as below:

+---------------------+----------------+
|     Environment     | dpdk_unit_test |
+=====================+================+
| Windows Server 2019 | PASS           |
+---------------------+----------------+
| CentOS Stream 8     | PASS           |
+---------------------+----------------+
| Debian Bullseye     | PASS           |
+---------------------+----------------+
| Fedora 38           | PASS           |
+---------------------+----------------+
| CentOS Stream 9     | PASS           |
+---------------------+----------------+
| Fedora 37           | PASS           |
+---------------------+----------------+
| Fedora 39           | PASS           |
+---------------------+----------------+
| openSUSE Leap 15    | PASS           |
+---------------------+----------------+
| Windows Server 2022 | PASS           |
+---------------------+----------------+
| Ubuntu 20.04        | PASS           |
+---------------------+----------------+
| Ubuntu 22.04        | PASS           |
+---------------------+----------------+
| Debian 12           | PASS           |
+---------------------+----------------+
| RHEL8               | PASS           |
+---------------------+----------------+


Windows Server 2019
	Kernel: 10.0.17763
	Compiler: clang 14.0 and gcc 8.1.0 (MinGW)

CentOS Stream 8
	Kernel: 5.4.0-167-generic
	Compiler: gcc 8.5.0 20210514

Debian Bullseye
	Kernel: 5.4.0-167-generic
	Compiler: gcc 10.2.1-6

Fedora 38
	Kernel: Depends on container host
	Compiler: gcc 13.2.1

CentOS Stream 9
	Kernel: 5.4.0-167-generic
	Compiler: gcc 11.4.1 20230605

Fedora 37
	Kernel: Depends on container host system
	Compiler: gcc 12.3.1

Fedora 39
	Kernel: Depends on container host
	Compiler: gcc 13.2.1

openSUSE Leap 15
	Kernel: 5.4.0-167-generic
	Compiler: gcc 7.5.0

Windows Server 2022
	Kernel: 10.0.20348.2031
	Compiler: clang 15.0.7, gcc 8.1.0 (MinGW), and MSVC VS 17.9

Ubuntu 20.04
	Kernel: 5.4.0-167-generic
	Compiler: gcc 9.4.0-1ubuntu1~20.04.1

Ubuntu 22.04
	Kernel: 5.4.0-167-generic
	Compiler: gcc 11.4.0

Debian 12
	Kernel: Container Host Kernel
	Compiler: gcc 10.2.1

RHEL8
	Kernel: 5.4.0-167-generic
	Compiler: gcc 8.5.0 20210514 (Red Hat 8.5.0-20)

To view detailed results, visit:
https://lab.dpdk.org/results/dashboard/patchsets/29924/

UNH-IOL DPDK Community Lab

To manage your email subscriptions, visit: 
https://lab.dpdk.org/results/dashboard/preferences/subscriptions/