From mboxrd@z Thu Jan  1 00:00:00 1970
Return-Path: <test-report-bounces@dpdk.org>
Received: from mails.dpdk.org (mails.dpdk.org [217.70.189.124])
	by inbox.dpdk.org (Postfix) with ESMTP id 3A8EE43FCF
	for <public@inbox.dpdk.org>; Tue,  7 May 2024 20:16:15 +0200 (CEST)
Received: from mails.dpdk.org (localhost [127.0.0.1])
	by mails.dpdk.org (Postfix) with ESMTP id 3713743460;
	Tue,  7 May 2024 20:16:15 +0200 (CEST)
Received: from mail-pf1-f225.google.com (mail-pf1-f225.google.com
 [209.85.210.225])
 by mails.dpdk.org (Postfix) with ESMTP id EB113402DF
 for <test-report@dpdk.org>; Tue,  7 May 2024 20:16:13 +0200 (CEST)
Received: by mail-pf1-f225.google.com with SMTP id
 d2e1a72fcca58-6f4302187c0so9084b3a.1
 for <test-report@dpdk.org>; Tue, 07 May 2024 11:16:13 -0700 (PDT)
DKIM-Signature: v=1; a=rsa-sha256; c=relaxed/relaxed;
 d=iol.unh.edu; s=unh-iol; t=1715105773; x=1715710573; darn=dpdk.org;
 h=references:in-reply-to:cc:to:from:subject:message-id:date:from:to
 :cc:subject:date:message-id:reply-to;
 bh=QHw7ddWI6hkAPGRp5Bzf+SQjJ/xvUhbkL47q2eqQdfc=;
 b=CtwzxEJlEVvpTJ8DzE2yNd5ORt/U37r9G42ImbmKHICIAJM0p8IYA5q0bzZm5iQai3
 DA2zkUBaOP9X4A5n9LMd5Gj7bAV8g5pzW8lbdRvcOzdhvl7A93U4qicNN+OkMHHCjHwa
 /qKiNJImCjCom0ASJ3V1wdey3us/agsWF7a6o=
X-Google-DKIM-Signature: v=1; a=rsa-sha256; c=relaxed/relaxed;
 d=1e100.net; s=20230601; t=1715105773; x=1715710573;
 h=references:in-reply-to:cc:to:from:subject:message-id:date
 :x-gm-message-state:from:to:cc:subject:date:message-id:reply-to;
 bh=QHw7ddWI6hkAPGRp5Bzf+SQjJ/xvUhbkL47q2eqQdfc=;
 b=B8vYJEf4sUnFpX15Tj5C23GdjF+LMReR6r8xqF0eQe10wiJf28lcZMox1LQ43JEqK8
 GducU1+pD6/ZFfIpDBKCXwecWpLL2xuxCtdtFZy13Y75yR6b+ZmTKibhgA5q+9LTASp1
 3uuYfFEGuYmeIlg0hovcPzu1+5wogYa4E2oQpNn2ScIb5lcuXBoLGmHYi4R0/Yce7VWX
 2r/dvD3sWZZGbWk2jryVCi6CfkUPmDGHA1tNvbWOsttrz9LEY88yxuNcbvTzxtTyLGi4
 QaRMbAD0aB/pT0rrLxf/9nv2Lhtu7XMltNNboD1p+BI0LvhOA6tOgTEfWGta6rMWguA8
 JumQ==
X-Gm-Message-State: AOJu0Yw1GZFETrUa/dm1dCU7I7FJsKhqzJNmbvbj9JzN42DqFkM8VNp0
 hD0up5RvVZ6zUyoic32oxOGy4avxIWUUS9No2DfNSFAEan/3DUSMn3WdMw8c0s0B2qxA2ibotIH
 CRJwV55JZkhoM3zrQpuoGUk26F3bug/bNM3yV0FUN
X-Google-Smtp-Source: AGHT+IFZIA25mCecvArTmEh2YroPXbFstHamVzNWiX60G8pz/7nrW2LF0ZT0NLAu+eugkSLpTWoz/gJNX5aY
X-Received: by 2002:a05:6a20:c88b:b0:1a3:a821:f297 with SMTP id
 adf61e73a8af0-1afc8726fb1mr825394637.2.1715105773179; 
 Tue, 07 May 2024 11:16:13 -0700 (PDT)
Received: from postal.iol.unh.edu (postal.iol.unh.edu. [132.177.123.84])
 by smtp-relay.gmail.com with ESMTPS id
 a20-20020a634d14000000b005dc4202b40bsm1203064pgb.6.2024.05.07.11.16.13
 (version=TLS1_2 cipher=ECDHE-ECDSA-AES128-GCM-SHA256 bits=128/128);
 Tue, 07 May 2024 11:16:13 -0700 (PDT)
X-Relaying-Domain: iol.unh.edu
Date: Tue, 07 May 2024 11:16:13 -0700 (PDT)
Message-ID: <663a6fed.630a0220.90a19.7ef5SMTPIN_ADDED_MISSING@mx.google.com>
Received: from [172.21.0.6] (unknown [172.18.0.240])
 by postal.iol.unh.edu (Postfix) with ESMTP id 6C01D605C373;
 Tue,  7 May 2024 14:16:12 -0400 (EDT)
Subject: |SUCCESS| pw139989-139990 [PATCH] [v6,2/2] dts: Change hugepage 'amo
From: dpdklab@iol.unh.edu
To: Test Report <test-report@dpdk.org>
Cc: dpdk-test-reports@iol.unh.edu
In-Reply-To: <20240507163752.305-3-npratte@iol.unh.edu>
References: <20240507163752.305-3-npratte@iol.unh.edu>
Content-Type: text/plain
X-BeenThere: test-report@dpdk.org
X-Mailman-Version: 2.1.29
Precedence: list
List-Id: automatic DPDK test reports <test-report.dpdk.org>
List-Unsubscribe: <https://mails.dpdk.org/options/test-report>,
 <mailto:test-report-request@dpdk.org?subject=unsubscribe>
List-Archive: <http://mails.dpdk.org/archives/test-report/>
List-Post: <mailto:test-report@dpdk.org>
List-Help: <mailto:test-report-request@dpdk.org?subject=help>
List-Subscribe: <https://mails.dpdk.org/listinfo/test-report>,
 <mailto:test-report-request@dpdk.org?subject=subscribe>
Errors-To: test-report-bounces@dpdk.org

Test-Label: iol-unit-amd64-testing
Test-Status: SUCCESS
http://dpdk.org/patch/139990

_Testing PASS_

Submitter: Nicholas Pratte <npratte@iol.unh.edu>
Date: Tuesday, May 07 2024 16:37:52 
DPDK git baseline: Repo:dpdk
  Branch: master
  CommitID:7e06c0de1952d3109a5b0c4779d7e7d8059c9d78

139989-139990 --> testing pass

Test environment and result as below:

+---------------------+----------------+
|     Environment     | dpdk_unit_test |
+=====================+================+
| Windows Server 2019 | PASS           |
+---------------------+----------------+
| CentOS Stream 8     | PASS           |
+---------------------+----------------+
| Debian Bullseye     | PASS           |
+---------------------+----------------+
| Fedora 38           | PASS           |
+---------------------+----------------+
| CentOS Stream 9     | PASS           |
+---------------------+----------------+
| Fedora 37           | PASS           |
+---------------------+----------------+
| Fedora 39           | PASS           |
+---------------------+----------------+
| openSUSE Leap 15    | PASS           |
+---------------------+----------------+
| Windows Server 2022 | PASS           |
+---------------------+----------------+
| Ubuntu 20.04        | PASS           |
+---------------------+----------------+
| Ubuntu 22.04        | PASS           |
+---------------------+----------------+
| Debian 12           | PASS           |
+---------------------+----------------+
| RHEL8               | PASS           |
+---------------------+----------------+


Windows Server 2019
	Kernel: 10.0.17763
	Compiler: clang 14.0 and gcc 8.1.0 (MinGW)

CentOS Stream 8
	Kernel: 5.4.0-167-generic
	Compiler: gcc 8.5.0 20210514

Debian Bullseye
	Kernel: 5.4.0-167-generic
	Compiler: gcc 10.2.1-6

Fedora 38
	Kernel: Depends on container host
	Compiler: gcc 13.2.1

CentOS Stream 9
	Kernel: 5.4.0-167-generic
	Compiler: gcc 11.4.1 20230605

Fedora 37
	Kernel: Depends on container host system
	Compiler: gcc 12.3.1

Fedora 39
	Kernel: Depends on container host
	Compiler: gcc 13.2.1

openSUSE Leap 15
	Kernel: 5.4.0-167-generic
	Compiler: gcc 7.5.0

Windows Server 2022
	Kernel: 10.0.20348.2031
	Compiler: clang 15.0.7, gcc 8.1.0 (MinGW), and MSVC VS 17.9

Ubuntu 20.04
	Kernel: 5.4.0-167-generic
	Compiler: gcc 9.4.0-1ubuntu1~20.04.1

Ubuntu 22.04
	Kernel: 5.4.0-167-generic
	Compiler: gcc 11.4.0

Debian 12
	Kernel: Container Host Kernel
	Compiler: gcc 10.2.1

RHEL8
	Kernel: 5.4.0-167-generic
	Compiler: gcc 8.5.0 20210514 (Red Hat 8.5.0-20)

To view detailed results, visit:
https://lab.dpdk.org/results/dashboard/patchsets/29924/

UNH-IOL DPDK Community Lab

To manage your email subscriptions, visit: 
https://lab.dpdk.org/results/dashboard/preferences/subscriptions/