From mboxrd@z Thu Jan  1 00:00:00 1970
Return-Path: <test-report-bounces@dpdk.org>
Received: from mails.dpdk.org (mails.dpdk.org [217.70.189.124])
	by inbox.dpdk.org (Postfix) with ESMTP id 728F943FCF
	for <public@inbox.dpdk.org>; Tue,  7 May 2024 20:22:51 +0200 (CEST)
Received: from mails.dpdk.org (localhost [127.0.0.1])
	by mails.dpdk.org (Postfix) with ESMTP id 6222A43460;
	Tue,  7 May 2024 20:22:51 +0200 (CEST)
Received: from mail-io1-f99.google.com (mail-io1-f99.google.com
 [209.85.166.99]) by mails.dpdk.org (Postfix) with ESMTP id 6A97B402DF
 for <test-report@dpdk.org>; Tue,  7 May 2024 20:22:49 +0200 (CEST)
Received: by mail-io1-f99.google.com with SMTP id
 ca18e2360f4ac-7d9c2096c29so187155639f.0
 for <test-report@dpdk.org>; Tue, 07 May 2024 11:22:49 -0700 (PDT)
DKIM-Signature: v=1; a=rsa-sha256; c=relaxed/relaxed;
 d=iol.unh.edu; s=unh-iol; t=1715106169; x=1715710969; darn=dpdk.org;
 h=references:in-reply-to:cc:to:from:subject:message-id:date:from:to
 :cc:subject:date:message-id:reply-to;
 bh=KW2eJkpQcQBpW2j3OHOXjIXK/6u3Go5YOqIMM/VoQJ8=;
 b=MOKkntB/IGTlkA2pno2pdgwBWV63nr6hEnM33D/vhIiInHrQHFeK7Keh6U1ZuH9rTx
 3XIQubnQlcbc9xFfuDDC4GRD5v6HiiVOhssrcgEwM6scBrnqQK5uj05eCVv4LGs2PyAu
 iKrXlxyzn/2WRNbLfj8i9V3WJJHB9DCZgxniM=
X-Google-DKIM-Signature: v=1; a=rsa-sha256; c=relaxed/relaxed;
 d=1e100.net; s=20230601; t=1715106169; x=1715710969;
 h=references:in-reply-to:cc:to:from:subject:message-id:date
 :x-gm-message-state:from:to:cc:subject:date:message-id:reply-to;
 bh=KW2eJkpQcQBpW2j3OHOXjIXK/6u3Go5YOqIMM/VoQJ8=;
 b=xFZQuSR2psRr80IexWuFpKMyRNrHSTvrO1KVJZesJc8ta1kpu3r1utkJtprQRE2q63
 HBko9uQ+7eZ2V8o8vKMaDuusXSWA6xAY5NW2a6IRkM0KMfUI/klhPQkMc376StOb7B/m
 5pNmEOw3ie9xxOb7D9hkljDNWsC/xVxUPsEmattAIUyz5Mco92QcMJnEanBAjI6DoXmq
 V6Ydpf5NiWmKsDQoHKXhrRdBcla6zIyviWPoV62HqPQH7EQjRdp7xwWfEDb95iTyudLp
 P+le+OHItQGIx97T8zIo4+nIaMMCFGGaaAQLQ+oE6E10zlqw966yrgfmS3LjHHkrzIEZ
 Vo/A==
X-Gm-Message-State: AOJu0YxnsJAp7Law67+m/n6DkE+Kfp7gzVF/4HOXh+zFFog6e3soqjWc
 EjL3KhJQ7Ed6TnFro0EvIJh9pXtUiqG6CIgXK1yBO5WD4B/AJMqRzO2ks6hAretSdhkw8I7q8Ak
 JEWaAmSv2+a7glcySt+lcfz05FtOoUlHEezZHjUFDu1GcOj+pVhND54S8
X-Google-Smtp-Source: AGHT+IFi6EOAnrDf7HNclQdfjzuA3ZKHDO0OCImOgsEyA6Re2eRpfHql1ukuCWaifE4U5hcDW00QNPKSJMC4
X-Received: by 2002:a05:6e02:1687:b0:36c:5023:2334 with SMTP id
 e9e14a558f8ab-36caed57a8amr2795535ab.30.1715106168844; 
 Tue, 07 May 2024 11:22:48 -0700 (PDT)
Received: from postal.iol.unh.edu (postal.iol.unh.edu.
 [2606:4100:3880:1234::84]) by smtp-relay.gmail.com with ESMTPS id
 dv9-20020a056638608900b00487bd40586fsm1065787jab.25.2024.05.07.11.22.48
 (version=TLS1_2 cipher=ECDHE-ECDSA-AES128-GCM-SHA256 bits=128/128);
 Tue, 07 May 2024 11:22:48 -0700 (PDT)
X-Relaying-Domain: iol.unh.edu
Date: Tue, 07 May 2024 11:22:48 -0700 (PDT)
Message-ID: <663a7178.050a0220.8c48b.fa2bSMTPIN_ADDED_MISSING@mx.google.com>
Received: from [172.21.0.7] (unknown [172.18.0.240])
 by postal.iol.unh.edu (Postfix) with ESMTP id 099C0605C373;
 Tue,  7 May 2024 14:22:48 -0400 (EDT)
Subject: |SUCCESS| pw139964-139988 [PATCH] [v2,25/25] net/axgbe: modify debug
From: dpdklab@iol.unh.edu
To: Test Report <test-report@dpdk.org>
Cc: dpdk-test-reports@iol.unh.edu
In-Reply-To: <20240507124305.2318-25-venkatkumar.ande@amd.com>
References: <20240507124305.2318-25-venkatkumar.ande@amd.com>
Content-Type: text/plain
X-BeenThere: test-report@dpdk.org
X-Mailman-Version: 2.1.29
Precedence: list
List-Id: automatic DPDK test reports <test-report.dpdk.org>
List-Unsubscribe: <https://mails.dpdk.org/options/test-report>,
 <mailto:test-report-request@dpdk.org?subject=unsubscribe>
List-Archive: <http://mails.dpdk.org/archives/test-report/>
List-Post: <mailto:test-report@dpdk.org>
List-Help: <mailto:test-report-request@dpdk.org?subject=help>
List-Subscribe: <https://mails.dpdk.org/listinfo/test-report>,
 <mailto:test-report-request@dpdk.org?subject=subscribe>
Errors-To: test-report-bounces@dpdk.org

Test-Label: iol-compile-amd64-testing
Test-Status: SUCCESS
http://dpdk.org/patch/139988

_Testing PASS_

Submitter: Venkat Kumar Ande <venkatkumar.ande@amd.com>
Date: Tuesday, May 07 2024 12:43:05 
DPDK git baseline: Repo:dpdk
  Branch: master
  CommitID:baa8e2c6b4d7ce289e891b9c96fb3193311c0f01

139964-139988 --> testing pass

Test environment and result as below:

+---------------------+--------------------+-------------------+----------------------+
|     Environment     | dpdk_meson_compile | dpdk_msvc_compile | dpdk_mingw64_compile |
+=====================+====================+===================+======================+
| FreeBSD 13.3        | PASS               | SKIPPED           | SKIPPED              |
+---------------------+--------------------+-------------------+----------------------+
| Windows Server 2019 | PASS               | SKIPPED           | PASS                 |
+---------------------+--------------------+-------------------+----------------------+
| FreeBSD 14.0        | PASS               | SKIPPED           | SKIPPED              |
+---------------------+--------------------+-------------------+----------------------+
| Windows Server 2022 | PASS               | PASS              | PASS                 |
+---------------------+--------------------+-------------------+----------------------+
| CentOS Stream 9     | PASS               | SKIPPED           | SKIPPED              |
+---------------------+--------------------+-------------------+----------------------+
| CentOS Stream 8     | PASS               | SKIPPED           | SKIPPED              |
+---------------------+--------------------+-------------------+----------------------+
| Debian Bullseye     | PASS               | SKIPPED           | SKIPPED              |
+---------------------+--------------------+-------------------+----------------------+
| Fedora 38           | PASS               | SKIPPED           | SKIPPED              |
+---------------------+--------------------+-------------------+----------------------+
| Debian 12           | PASS               | SKIPPED           | SKIPPED              |
+---------------------+--------------------+-------------------+----------------------+
| Ubuntu 20.04        | PASS               | SKIPPED           | SKIPPED              |
+---------------------+--------------------+-------------------+----------------------+


FreeBSD 13.3
	Kernel: 13.3-RELEASE-p1
	Compiler: clang 17.0.6

Windows Server 2019
	Kernel: 10.0.17763
	Compiler: clang 14.0 and gcc 8.1.0 (MinGW)

FreeBSD 14.0
	Kernel: 14.0
	Compiler: clang 16.0.6

Windows Server 2022
	Kernel: 10.0.20348.2031
	Compiler: clang 15.0.7, gcc 8.1.0 (MinGW), and MSVC VS 17.9

CentOS Stream 9
	Kernel: 5.4.0-167-generic
	Compiler: gcc 11.4.1 20230605

CentOS Stream 8
	Kernel: 5.4.0-167-generic
	Compiler: gcc 8.5.0 20210514

Debian Bullseye
	Kernel: 5.4.0-167-generic
	Compiler: gcc 10.2.1-6

Fedora 38
	Kernel: Depends on container host
	Compiler: gcc 13.2.1

Debian 12
	Kernel: Container Host Kernel
	Compiler: gcc 10.2.1

Ubuntu 20.04
	Kernel: 5.4.0-167-generic
	Compiler: gcc 9.4.0-1ubuntu1~20.04.1

To view detailed results, visit:
https://lab.dpdk.org/results/dashboard/patchsets/29923/

UNH-IOL DPDK Community Lab

To manage your email subscriptions, visit: 
https://lab.dpdk.org/results/dashboard/preferences/subscriptions/