From mboxrd@z Thu Jan  1 00:00:00 1970
Return-Path: <test-report-bounces@dpdk.org>
Received: from mails.dpdk.org (mails.dpdk.org [217.70.189.124])
	by inbox.dpdk.org (Postfix) with ESMTP id B830243FCF
	for <public@inbox.dpdk.org>; Tue,  7 May 2024 20:23:37 +0200 (CEST)
Received: from mails.dpdk.org (localhost [127.0.0.1])
	by mails.dpdk.org (Postfix) with ESMTP id B466243460;
	Tue,  7 May 2024 20:23:37 +0200 (CEST)
Received: from mail-oi1-f226.google.com (mail-oi1-f226.google.com
 [209.85.167.226])
 by mails.dpdk.org (Postfix) with ESMTP id 944C2402DF
 for <test-report@dpdk.org>; Tue,  7 May 2024 20:23:36 +0200 (CEST)
Received: by mail-oi1-f226.google.com with SMTP id
 5614622812f47-3c97066a668so799054b6e.0
 for <test-report@dpdk.org>; Tue, 07 May 2024 11:23:36 -0700 (PDT)
DKIM-Signature: v=1; a=rsa-sha256; c=relaxed/relaxed;
 d=iol.unh.edu; s=unh-iol; t=1715106216; x=1715711016; darn=dpdk.org;
 h=references:in-reply-to:cc:to:from:subject:message-id:date:from:to
 :cc:subject:date:message-id:reply-to;
 bh=KW2eJkpQcQBpW2j3OHOXjIXK/6u3Go5YOqIMM/VoQJ8=;
 b=eflYyWBhrwubKvBRv5WapBY7mK2pppVr4nIb5xFZSjU5TWrnxAevDVUMh5dUj4xoDO
 0icek0GlkqBTSjAMrYFEWaw2hnA4S75eme28NXdG766ghOrkeRDWRn/7do6CEDmxpdYw
 FwRCLrNHzOKhuD5DdwGsVTThVtpg7rtNFmQGU=
X-Google-DKIM-Signature: v=1; a=rsa-sha256; c=relaxed/relaxed;
 d=1e100.net; s=20230601; t=1715106216; x=1715711016;
 h=references:in-reply-to:cc:to:from:subject:message-id:date
 :x-gm-message-state:from:to:cc:subject:date:message-id:reply-to;
 bh=KW2eJkpQcQBpW2j3OHOXjIXK/6u3Go5YOqIMM/VoQJ8=;
 b=HSDpFNQbjlHjdkOenATiRzhQVc5RJ10J0RA58yEsbH3a8e9aahc//RV4dBMdITXTnE
 AHSAYaaEUylbbkN4ZWlupEahcUZfhixM1g7uQacTXD9hoQDv1I1/LinjFNi952AqqvmU
 RP/SySF0PTw7fTYPqD1FFo7uIUFdUBwm17ThLLIG2/g1lDCmiApMb2FJ/2UFzCZ0hyle
 gJMBXfo5lwqi/CLsSsAeSKpXp76E0PFBfJKZAnb2QaTtIu0TTSChbEmTmcwEugMkDqHk
 ypZX76FucJanDzbEJqFCLf6mdKBGIJbgf/C49b3zWfFlNKhiVYktfK965+sQ+64IhdOU
 P6mA==
X-Gm-Message-State: AOJu0Yw2dq+SeJbv+Nkt70ErloBPXCSP5Se7fcsK0kPUUVQ/f1DDhFML
 56Wll34zU/4PrCmD4Ws0/UsI7oZhXwtnnSQi9VfHEunKzLSBqTP07XwNm+uRbpiYX8Onqy11g/b
 wcugrrIocVZLSuukjb9VT/oCHflgJcdUVh+5RjiAl
X-Google-Smtp-Source: AGHT+IGJ2Tm0RYwpqawnaBvSp1bhAVF/cmQCFKqRds5O5xKjCxcuEeahUnEoar2DacyrhXGWCR6iaLRSkirF
X-Received: by 2002:a05:6808:4395:b0:3c9:68fd:b0ae with SMTP id
 5614622812f47-3c9852d8d04mr396134b6e.35.1715106215874; 
 Tue, 07 May 2024 11:23:35 -0700 (PDT)
Received: from postal.iol.unh.edu (postal.iol.unh.edu. [132.177.123.84])
 by smtp-relay.gmail.com with ESMTPS id
 cv8-20020ad44d88000000b006a0e84de22dsm791678qvb.65.2024.05.07.11.23.35
 (version=TLS1_2 cipher=ECDHE-ECDSA-AES128-GCM-SHA256 bits=128/128);
 Tue, 07 May 2024 11:23:35 -0700 (PDT)
X-Relaying-Domain: iol.unh.edu
Date: Tue, 07 May 2024 11:23:35 -0700 (PDT)
Message-ID: <663a71a7.d40a0220.11abb.f6cbSMTPIN_ADDED_MISSING@mx.google.com>
Received: from [172.21.0.6] (unknown [172.18.0.240])
 by postal.iol.unh.edu (Postfix) with ESMTP id 44B2F605C373;
 Tue,  7 May 2024 14:23:35 -0400 (EDT)
Subject: |SUCCESS| pw139964-139988 [PATCH] [v2,25/25] net/axgbe: modify debug
From: dpdklab@iol.unh.edu
To: Test Report <test-report@dpdk.org>
Cc: dpdk-test-reports@iol.unh.edu
In-Reply-To: <20240507124305.2318-25-venkatkumar.ande@amd.com>
References: <20240507124305.2318-25-venkatkumar.ande@amd.com>
Content-Type: text/plain
X-BeenThere: test-report@dpdk.org
X-Mailman-Version: 2.1.29
Precedence: list
List-Id: automatic DPDK test reports <test-report.dpdk.org>
List-Unsubscribe: <https://mails.dpdk.org/options/test-report>,
 <mailto:test-report-request@dpdk.org?subject=unsubscribe>
List-Archive: <http://mails.dpdk.org/archives/test-report/>
List-Post: <mailto:test-report@dpdk.org>
List-Help: <mailto:test-report-request@dpdk.org?subject=help>
List-Subscribe: <https://mails.dpdk.org/listinfo/test-report>,
 <mailto:test-report-request@dpdk.org?subject=subscribe>
Errors-To: test-report-bounces@dpdk.org

Test-Label: iol-compile-amd64-testing
Test-Status: SUCCESS
http://dpdk.org/patch/139988

_Testing PASS_

Submitter: Venkat Kumar Ande <venkatkumar.ande@amd.com>
Date: Tuesday, May 07 2024 12:43:05 
DPDK git baseline: Repo:dpdk
  Branch: master
  CommitID:baa8e2c6b4d7ce289e891b9c96fb3193311c0f01

139964-139988 --> testing pass

Test environment and result as below:

+---------------------+--------------------+-------------------+----------------------+
|     Environment     | dpdk_meson_compile | dpdk_msvc_compile | dpdk_mingw64_compile |
+=====================+====================+===================+======================+
| FreeBSD 13.3        | PASS               | SKIPPED           | SKIPPED              |
+---------------------+--------------------+-------------------+----------------------+
| Windows Server 2019 | PASS               | SKIPPED           | PASS                 |
+---------------------+--------------------+-------------------+----------------------+
| FreeBSD 14.0        | PASS               | SKIPPED           | SKIPPED              |
+---------------------+--------------------+-------------------+----------------------+
| Windows Server 2022 | PASS               | PASS              | PASS                 |
+---------------------+--------------------+-------------------+----------------------+
| CentOS Stream 9     | PASS               | SKIPPED           | SKIPPED              |
+---------------------+--------------------+-------------------+----------------------+
| CentOS Stream 8     | PASS               | SKIPPED           | SKIPPED              |
+---------------------+--------------------+-------------------+----------------------+
| Debian Bullseye     | PASS               | SKIPPED           | SKIPPED              |
+---------------------+--------------------+-------------------+----------------------+
| Fedora 38           | PASS               | SKIPPED           | SKIPPED              |
+---------------------+--------------------+-------------------+----------------------+
| Debian 12           | PASS               | SKIPPED           | SKIPPED              |
+---------------------+--------------------+-------------------+----------------------+
| Ubuntu 20.04        | PASS               | SKIPPED           | SKIPPED              |
+---------------------+--------------------+-------------------+----------------------+


FreeBSD 13.3
	Kernel: 13.3-RELEASE-p1
	Compiler: clang 17.0.6

Windows Server 2019
	Kernel: 10.0.17763
	Compiler: clang 14.0 and gcc 8.1.0 (MinGW)

FreeBSD 14.0
	Kernel: 14.0
	Compiler: clang 16.0.6

Windows Server 2022
	Kernel: 10.0.20348.2031
	Compiler: clang 15.0.7, gcc 8.1.0 (MinGW), and MSVC VS 17.9

CentOS Stream 9
	Kernel: 5.4.0-167-generic
	Compiler: gcc 11.4.1 20230605

CentOS Stream 8
	Kernel: 5.4.0-167-generic
	Compiler: gcc 8.5.0 20210514

Debian Bullseye
	Kernel: 5.4.0-167-generic
	Compiler: gcc 10.2.1-6

Fedora 38
	Kernel: Depends on container host
	Compiler: gcc 13.2.1

Debian 12
	Kernel: Container Host Kernel
	Compiler: gcc 10.2.1

Ubuntu 20.04
	Kernel: 5.4.0-167-generic
	Compiler: gcc 9.4.0-1ubuntu1~20.04.1

To view detailed results, visit:
https://lab.dpdk.org/results/dashboard/patchsets/29923/

UNH-IOL DPDK Community Lab

To manage your email subscriptions, visit: 
https://lab.dpdk.org/results/dashboard/preferences/subscriptions/