From mboxrd@z Thu Jan  1 00:00:00 1970
Return-Path: <test-report-bounces@dpdk.org>
Received: from mails.dpdk.org (mails.dpdk.org [217.70.189.124])
	by inbox.dpdk.org (Postfix) with ESMTP id 6A92A43FCF
	for <public@inbox.dpdk.org>; Tue,  7 May 2024 20:45:13 +0200 (CEST)
Received: from mails.dpdk.org (localhost [127.0.0.1])
	by mails.dpdk.org (Postfix) with ESMTP id 6671643460;
	Tue,  7 May 2024 20:45:13 +0200 (CEST)
Received: from mail-io1-f100.google.com (mail-io1-f100.google.com
 [209.85.166.100])
 by mails.dpdk.org (Postfix) with ESMTP id 5AAD8402DF
 for <test-report@dpdk.org>; Tue,  7 May 2024 20:45:09 +0200 (CEST)
Received: by mail-io1-f100.google.com with SMTP id
 ca18e2360f4ac-7e18348733fso39472339f.3
 for <test-report@dpdk.org>; Tue, 07 May 2024 11:45:09 -0700 (PDT)
DKIM-Signature: v=1; a=rsa-sha256; c=relaxed/relaxed;
 d=iol.unh.edu; s=unh-iol; t=1715107508; x=1715712308; darn=dpdk.org;
 h=references:in-reply-to:cc:to:from:subject:message-id:date:from:to
 :cc:subject:date:message-id:reply-to;
 bh=8tdzd/Rnd9QhLPFuoFyCMEKs3Agps5pTxyRf78Szf0w=;
 b=aC+6hWdXMOggiDDW+sbfFdQq3Uc394C4LqN++mUWN7aOVjHg87TGgBIdZfBO+5N8CN
 EPJhAPdwCP9qYrl8k7strEcHNI5dcK67Ys7skDnY27r6tzOgkPQLosJZOL+wQxxlwFJJ
 HAq6GOMEa4QyIf52+lg9xB/OfWkeZr0iGnDlk=
X-Google-DKIM-Signature: v=1; a=rsa-sha256; c=relaxed/relaxed;
 d=1e100.net; s=20230601; t=1715107508; x=1715712308;
 h=references:in-reply-to:cc:to:from:subject:message-id:date
 :x-gm-message-state:from:to:cc:subject:date:message-id:reply-to;
 bh=8tdzd/Rnd9QhLPFuoFyCMEKs3Agps5pTxyRf78Szf0w=;
 b=Mwzp7JxuPd4UFHo3GTqaqOD5BQGEmdaCK8crQ/HSfJWRQmbzuqaxM/8cctwG7yB0Uy
 yzChsra7w6O9TbI0lH11R5YOQdHYiKLDsQSCEQatsrVnVM8402yMVngykhll7hAKtWhD
 78JZjSN+TaGmADMsHJFHXsR1SqxD+87VjCw90Q844AYIcRCd60JlMYQq3rKQtLs0yt2x
 y1KKp8BxckO+9LEONBcZWvC77lJGiRqbB4lIiN9o7nEKuJmQr9r/aPBIoV24bNe2P7BR
 G+hnfT2+WfpUGKO0oa07fvdAPyQGX8a5RNFjb5uEXEppBG3CPx1o9NmZpZWwDaXgiP1c
 zx+A==
X-Gm-Message-State: AOJu0Yxmk4VPxQT2tw6YkxJtg7uPbYG9D1wLc4+5WRi65AXnOwyONgow
 3FgmiCVn5KJ+YDk6kL3kKmI1s5jQI8WBmyDhksqUH0nZZfdXuLxx7Q9SiXMgDpZ5DQmj1A09SWE
 BKFahq3kpMGHOWIPEY+WgUZiU3mvUep+VBnhJSwsP
X-Google-Smtp-Source: AGHT+IGNbIk3D/yXcp97scq5sUS899qMsBm71ygCWkxV9eY7AJKbV94CJO1JTxGVdCkghghNA6q15/FQBzZr
X-Received: by 2002:a6b:5116:0:b0:7da:19a5:625a with SMTP id
 ca18e2360f4ac-7e18fdc6e72mr33858739f.21.1715107508729; 
 Tue, 07 May 2024 11:45:08 -0700 (PDT)
Received: from postal.iol.unh.edu (postal.iol.unh.edu. [132.177.123.84])
 by smtp-relay.gmail.com with ESMTPS id
 bp14-20020a056638440e00b004887d0e9373sm711300jab.74.2024.05.07.11.45.08
 (version=TLS1_2 cipher=ECDHE-ECDSA-AES128-GCM-SHA256 bits=128/128);
 Tue, 07 May 2024 11:45:08 -0700 (PDT)
X-Relaying-Domain: iol.unh.edu
Date: Tue, 07 May 2024 11:45:08 -0700 (PDT)
Message-ID: <663a76b4.050a0220.1d53b.8210SMTPIN_ADDED_MISSING@mx.google.com>
Received: from [172.17.0.4] (unknown [172.18.0.217])
 by postal.iol.unh.edu (Postfix) with ESMTP id 569EB605C373;
 Tue,  7 May 2024 14:45:08 -0400 (EDT)
Subject: |SUCCESS| pw139964-139988 [PATCH] [v2,25/25] net/axgbe: modify debug
From: dpdklab@iol.unh.edu
To: Test Report <test-report@dpdk.org>
Cc: dpdk-test-reports@iol.unh.edu
In-Reply-To: <20240507124305.2318-25-venkatkumar.ande@amd.com>
References: <20240507124305.2318-25-venkatkumar.ande@amd.com>
Content-Type: text/plain
X-BeenThere: test-report@dpdk.org
X-Mailman-Version: 2.1.29
Precedence: list
List-Id: automatic DPDK test reports <test-report.dpdk.org>
List-Unsubscribe: <https://mails.dpdk.org/options/test-report>,
 <mailto:test-report-request@dpdk.org?subject=unsubscribe>
List-Archive: <http://mails.dpdk.org/archives/test-report/>
List-Post: <mailto:test-report@dpdk.org>
List-Help: <mailto:test-report-request@dpdk.org?subject=help>
List-Subscribe: <https://mails.dpdk.org/listinfo/test-report>,
 <mailto:test-report-request@dpdk.org?subject=subscribe>
Errors-To: test-report-bounces@dpdk.org

Test-Label: iol-unit-amd64-testing
Test-Status: SUCCESS
http://dpdk.org/patch/139988

_Testing PASS_

Submitter: Venkat Kumar Ande <venkatkumar.ande@amd.com>
Date: Tuesday, May 07 2024 12:43:05 
DPDK git baseline: Repo:dpdk
  Branch: master
  CommitID:baa8e2c6b4d7ce289e891b9c96fb3193311c0f01

139964-139988 --> testing pass

Test environment and result as below:

+---------------------+----------------+
|     Environment     | dpdk_unit_test |
+=====================+================+
| CentOS Stream 8     | PASS           |
+---------------------+----------------+
| Windows Server 2019 | PASS           |
+---------------------+----------------+
| CentOS Stream 9     | PASS           |
+---------------------+----------------+
| Debian Bullseye     | PASS           |
+---------------------+----------------+
| Debian 12           | PASS           |
+---------------------+----------------+
| Fedora 37           | PASS           |
+---------------------+----------------+
| Windows Server 2022 | PASS           |
+---------------------+----------------+
| Fedora 38           | PASS           |
+---------------------+----------------+
| Fedora 39           | PASS           |
+---------------------+----------------+


CentOS Stream 8
	Kernel: 5.4.0-167-generic
	Compiler: gcc 8.5.0 20210514

Windows Server 2019
	Kernel: 10.0.17763
	Compiler: clang 14.0 and gcc 8.1.0 (MinGW)

CentOS Stream 9
	Kernel: 5.4.0-167-generic
	Compiler: gcc 11.4.1 20230605

Debian Bullseye
	Kernel: 5.4.0-167-generic
	Compiler: gcc 10.2.1-6

Debian 12
	Kernel: Container Host Kernel
	Compiler: gcc 10.2.1

Fedora 37
	Kernel: Depends on container host system
	Compiler: gcc 12.3.1

Windows Server 2022
	Kernel: 10.0.20348.2031
	Compiler: clang 15.0.7, gcc 8.1.0 (MinGW), and MSVC VS 17.9

Fedora 38
	Kernel: Depends on container host
	Compiler: gcc 13.2.1

Fedora 39
	Kernel: Depends on container host
	Compiler: gcc 13.2.1

To view detailed results, visit:
https://lab.dpdk.org/results/dashboard/patchsets/29923/

UNH-IOL DPDK Community Lab

To manage your email subscriptions, visit: 
https://lab.dpdk.org/results/dashboard/preferences/subscriptions/