From mboxrd@z Thu Jan  1 00:00:00 1970
Return-Path: <test-report-bounces@dpdk.org>
Received: from mails.dpdk.org (mails.dpdk.org [217.70.189.124])
	by inbox.dpdk.org (Postfix) with ESMTP id 8026C43F7C
	for <public@inbox.dpdk.org>; Thu,  9 May 2024 13:52:16 +0200 (CEST)
Received: from mails.dpdk.org (localhost [127.0.0.1])
	by mails.dpdk.org (Postfix) with ESMTP id 7CDA240A73;
	Thu,  9 May 2024 13:52:16 +0200 (CEST)
Received: from mail-pl1-f225.google.com (mail-pl1-f225.google.com
 [209.85.214.225])
 by mails.dpdk.org (Postfix) with ESMTP id 8DE35402ED
 for <test-report@dpdk.org>; Thu,  9 May 2024 13:52:15 +0200 (CEST)
Received: by mail-pl1-f225.google.com with SMTP id
 d9443c01a7336-1edf506b216so5341595ad.2
 for <test-report@dpdk.org>; Thu, 09 May 2024 04:52:15 -0700 (PDT)
DKIM-Signature: v=1; a=rsa-sha256; c=relaxed/relaxed;
 d=iol.unh.edu; s=unh-iol; t=1715255535; x=1715860335; darn=dpdk.org;
 h=references:in-reply-to:cc:to:from:subject:message-id:date:from:to
 :cc:subject:date:message-id:reply-to;
 bh=I+WIjqxVBkPpm4/AhBE9PV5rbRQi2R0Ykl0F7MUYP2g=;
 b=D3se9hof3OzvgKg7aUff+1zW8IzhnyWrUDTWGrNouI869aFbZpcnicTM2lZUxP08NC
 Dwsf1A+pTQ7Cm7jXXPtDrUYDTyw46bQm7XOLQxhFzkw/TNKdzn+s1dROLYogaGoZKXHL
 d9999/gjELoXA3AYnOIWsFrV7I7d7ccMnfPZI=
X-Google-DKIM-Signature: v=1; a=rsa-sha256; c=relaxed/relaxed;
 d=1e100.net; s=20230601; t=1715255535; x=1715860335;
 h=references:in-reply-to:cc:to:from:subject:message-id:date
 :x-gm-message-state:from:to:cc:subject:date:message-id:reply-to;
 bh=I+WIjqxVBkPpm4/AhBE9PV5rbRQi2R0Ykl0F7MUYP2g=;
 b=i3VVZk5AD//jXKKiMg4Q0mrOu7EADZA1dZHVNpIiCTNDb6bhEDOJiEGLvhD2CYUP0Z
 kenSzla9OuzAudwk/MqP+8ttb3Dtlww/MrGLBxsZYvwILp0y6dzJgoMpArXSaLZjWA+z
 FeeHHXKE/RAVLPy8pK063QITV2EZU5BYhoi85anDNe3dcf8W6Js2SjibMZUQoRu4TN7K
 7EiBiumsVKPH1K7iXMwa8nsOOkLD2QRmLFGAUxF1Dq+FuIyCQlzOp9tti1X/klYBC59J
 yjen0cIsHRCkC3h10DvVKdrp+wnrgcm8v71NAeW4dT8KudoahnBCW1KnG0GkkeoGGHet
 cgKg==
X-Gm-Message-State: AOJu0Yya/9srSbNNL3mjppWnaC9CHT9Ff9z9h0QUMSn98r0kRzgFBlGZ
 7y/CbMpuEHYFJj4+1FsfUeTs9RvZ6scG49GVCFoi6wi+4OKBtdvlun1yqOyOS24tKrNoNM484xH
 RlpwU++jp+oXEs8tcxg2kIAt8XX8QXH3Nmw/7eJ3W
X-Google-Smtp-Source: AGHT+IHOfhzSc98T+sqbfdFSCbmWPhjSB1l/RLKzgPR+ooltIsWpOGGgsRriSOXfdCaAYn0OlRngNGfFYKVY
X-Received: by 2002:a17:902:e806:b0:1e4:17e4:3a1f with SMTP id
 d9443c01a7336-1eeb03a568fmr65172355ad.4.1715255534769; 
 Thu, 09 May 2024 04:52:14 -0700 (PDT)
Received: from postal.iol.unh.edu (postal.iol.unh.edu. [132.177.123.84])
 by smtp-relay.gmail.com with ESMTPS id
 d9443c01a7336-1ef0bbede24sm435285ad.64.2024.05.09.04.52.14
 (version=TLS1_2 cipher=ECDHE-ECDSA-AES128-GCM-SHA256 bits=128/128);
 Thu, 09 May 2024 04:52:14 -0700 (PDT)
X-Relaying-Domain: iol.unh.edu
Date: Thu, 09 May 2024 04:52:14 -0700 (PDT)
Message-ID: <663cb8ee.170a0220.57fa6.2768SMTPIN_ADDED_MISSING@mx.google.com>
Received: from [172.17.0.2] (unknown [172.18.0.217])
 by postal.iol.unh.edu (Postfix) with ESMTP id EF2A960524C2;
 Thu,  9 May 2024 07:52:13 -0400 (EDT)
Subject: |SUCCESS| pw139997-139998 [PATCH] [2/2] dts: clean up config types
From: dpdklab@iol.unh.edu
To: Test Report <test-report@dpdk.org>
Cc: dpdk-test-reports@iol.unh.edu
In-Reply-To: <20240509105704.1162449-3-luca.vizzarro@arm.com>
References: <20240509105704.1162449-3-luca.vizzarro@arm.com>
Content-Type: text/plain
X-BeenThere: test-report@dpdk.org
X-Mailman-Version: 2.1.29
Precedence: list
List-Id: automatic DPDK test reports <test-report.dpdk.org>
List-Unsubscribe: <https://mails.dpdk.org/options/test-report>,
 <mailto:test-report-request@dpdk.org?subject=unsubscribe>
List-Archive: <http://mails.dpdk.org/archives/test-report/>
List-Post: <mailto:test-report@dpdk.org>
List-Help: <mailto:test-report-request@dpdk.org?subject=help>
List-Subscribe: <https://mails.dpdk.org/listinfo/test-report>,
 <mailto:test-report-request@dpdk.org?subject=subscribe>
Errors-To: test-report-bounces@dpdk.org

Test-Label: iol-compile-amd64-testing
Test-Status: SUCCESS
http://dpdk.org/patch/139998

_Testing PASS_

Submitter: Luca Vizzarro <luca.vizzarro@arm.com>
Date: Thursday, May 09 2024 10:57:04 
DPDK git baseline: Repo:dpdk
  Branch: master
  CommitID:7e06c0de1952d3109a5b0c4779d7e7d8059c9d78

139997-139998 --> testing pass

Test environment and result as below:

+---------------------+--------------------+----------------------+-------------------+
|     Environment     | dpdk_meson_compile | dpdk_mingw64_compile | dpdk_msvc_compile |
+=====================+====================+======================+===================+
| Debian 12           | PASS               | SKIPPED              | SKIPPED           |
+---------------------+--------------------+----------------------+-------------------+
| Debian Bullseye     | PASS               | SKIPPED              | SKIPPED           |
+---------------------+--------------------+----------------------+-------------------+
| CentOS Stream 8     | PASS               | SKIPPED              | SKIPPED           |
+---------------------+--------------------+----------------------+-------------------+
| Fedora 37           | PASS               | SKIPPED              | SKIPPED           |
+---------------------+--------------------+----------------------+-------------------+
| Fedora 39           | PASS               | SKIPPED              | SKIPPED           |
+---------------------+--------------------+----------------------+-------------------+
| FreeBSD 13.3        | PASS               | SKIPPED              | SKIPPED           |
+---------------------+--------------------+----------------------+-------------------+
| CentOS Stream 9     | PASS               | SKIPPED              | SKIPPED           |
+---------------------+--------------------+----------------------+-------------------+
| Ubuntu 20.04        | PASS               | SKIPPED              | SKIPPED           |
+---------------------+--------------------+----------------------+-------------------+
| RHEL8               | PASS               | SKIPPED              | SKIPPED           |
+---------------------+--------------------+----------------------+-------------------+
| Ubuntu 22.04        | PASS               | SKIPPED              | SKIPPED           |
+---------------------+--------------------+----------------------+-------------------+
| Windows Server 2019 | PASS               | PASS                 | SKIPPED           |
+---------------------+--------------------+----------------------+-------------------+
| Fedora 38           | PASS               | SKIPPED              | SKIPPED           |
+---------------------+--------------------+----------------------+-------------------+
| Windows Server 2022 | PASS               | PASS                 | PASS              |
+---------------------+--------------------+----------------------+-------------------+
| FreeBSD 14.0        | PASS               | SKIPPED              | SKIPPED           |
+---------------------+--------------------+----------------------+-------------------+
| openSUSE Leap 15    | PASS               | SKIPPED              | SKIPPED           |
+---------------------+--------------------+----------------------+-------------------+


Debian 12
	Kernel: Container Host Kernel
	Compiler: gcc 10.2.1

Debian Bullseye
	Kernel: 5.4.0-167-generic
	Compiler: gcc 10.2.1-6

CentOS Stream 8
	Kernel: 5.4.0-167-generic
	Compiler: gcc 8.5.0 20210514

Fedora 37
	Kernel: Depends on container host system
	Compiler: gcc 12.3.1

Fedora 39
	Kernel: Depends on container host
	Compiler: gcc 13.2.1

FreeBSD 13.3
	Kernel: 13.3-RELEASE-p1
	Compiler: clang 17.0.6

CentOS Stream 9
	Kernel: 5.4.0-167-generic
	Compiler: gcc 11.4.1 20230605

Ubuntu 20.04
	Kernel: 5.4.0-167-generic
	Compiler: gcc 9.4.0-1ubuntu1~20.04.1

RHEL8
	Kernel: 5.4.0-167-generic
	Compiler: gcc 8.5.0 20210514 (Red Hat 8.5.0-20)

Ubuntu 22.04
	Kernel: 5.4.0-167-generic
	Compiler: gcc 11.4.0

Windows Server 2019
	Kernel: 10.0.17763
	Compiler: clang 14.0 and gcc 8.1.0 (MinGW)

Fedora 38
	Kernel: Depends on container host
	Compiler: gcc 13.2.1

Windows Server 2022
	Kernel: 10.0.20348.2031
	Compiler: clang 15.0.7, gcc 8.1.0 (MinGW), and MSVC VS 17.9

FreeBSD 14.0
	Kernel: 14.0
	Compiler: clang 16.0.6

openSUSE Leap 15
	Kernel: 5.4.0-167-generic
	Compiler: gcc 7.5.0

To view detailed results, visit:
https://lab.dpdk.org/results/dashboard/patchsets/29929/

UNH-IOL DPDK Community Lab

To manage your email subscriptions, visit: 
https://lab.dpdk.org/results/dashboard/preferences/subscriptions/