From mboxrd@z Thu Jan  1 00:00:00 1970
Return-Path: <test-report-bounces@dpdk.org>
Received: from mails.dpdk.org (mails.dpdk.org [217.70.189.124])
	by inbox.dpdk.org (Postfix) with ESMTP id 16FEC43F27
	for <public@inbox.dpdk.org>; Fri, 10 May 2024 13:12:29 +0200 (CEST)
Received: from mails.dpdk.org (localhost [127.0.0.1])
	by mails.dpdk.org (Postfix) with ESMTP id 0F10C402C4;
	Fri, 10 May 2024 13:12:29 +0200 (CEST)
Received: from mail-yw1-f225.google.com (mail-yw1-f225.google.com
 [209.85.128.225])
 by mails.dpdk.org (Postfix) with ESMTP id 1FDD9402BB
 for <test-report@dpdk.org>; Fri, 10 May 2024 13:12:28 +0200 (CEST)
Received: by mail-yw1-f225.google.com with SMTP id
 00721157ae682-61be4b986aaso20630187b3.3
 for <test-report@dpdk.org>; Fri, 10 May 2024 04:12:28 -0700 (PDT)
DKIM-Signature: v=1; a=rsa-sha256; c=relaxed/relaxed;
 d=iol.unh.edu; s=unh-iol; t=1715339547; x=1715944347; darn=dpdk.org;
 h=references:in-reply-to:cc:to:from:subject:message-id:date:from:to
 :cc:subject:date:message-id:reply-to;
 bh=4NpdkvWrQho7LCkko/JxpOH5dfgLhRgmInhibUb2EVQ=;
 b=hviRWvlizfrCWGAMypQKg5wvigRS4l0vQiM/DwJzvHmHMtrNPAYZyQSmF2PKFVQca0
 lL3P6VndhEiXbsd2xUcLOZrrAOXCQbq+httG5dF5yY/IYR6ibQmLyohijlfk7d3mLNyV
 ZDSyCKQFmGoOmekINuji/vFJKZRuBp0SnuFbA=
X-Google-DKIM-Signature: v=1; a=rsa-sha256; c=relaxed/relaxed;
 d=1e100.net; s=20230601; t=1715339547; x=1715944347;
 h=references:in-reply-to:cc:to:from:subject:message-id:date
 :x-gm-message-state:from:to:cc:subject:date:message-id:reply-to;
 bh=4NpdkvWrQho7LCkko/JxpOH5dfgLhRgmInhibUb2EVQ=;
 b=PHsJ1o1Q+m9LqFcX+wgXtsqKRPvGsKAIGumiTdHQ/knhfe9lqG4EbYNZWk/40cJDRU
 QdEw3/FYgw4WAawY9Pb0f50U/AguvKkQcaZf8XCIoLSOCjbqhiyRBim4u7cyGLf6oyTu
 s6WhQtLjAmIZ5nIaFQ4hI+nHfbXycZoeYw050m8kYqtsiN3srwB1im1D3ar5ptc8+oEv
 2pIQJCXDf66Qi4Dn9hQxQA1T/1pk8Pq/6mHsinNfVaSE3fUSuM0i3Y6J4Gyx07Pbmit2
 SPoZVwgG54Ch26QzrSlKoQuvEZRnwcwiAJC9Mkp3qLc6I9ym95TbGe8ns/QRHnSjgiKV
 IY0Q==
X-Gm-Message-State: AOJu0YzfjlIbN4Wd4nTE7TVRte09/YkTXl2+pSgzU4zQmE6pqDthXRQR
 AFAT3x20Szo/kxP/mxyO5ZgXAUDbbADncN/ZlJmoBTLLF8shdViViMXCmD+Czg5caBDPbno7WNO
 7FuNpk6Z+X2d1ffnkJ4AiF4pA2pDhT/w/O41xnPuaAEtW6tLaITzM0snA
X-Google-Smtp-Source: AGHT+IEDpcTCrFAOqn4qblBOl+bMPEYwDxzSSk8Zc01DrUHGWoaqKGGbLdxzMJBTPCfeHOLXbM6YLEbOBhiU
X-Received: by 2002:a81:83c5:0:b0:61a:af95:9fcc with SMTP id
 00721157ae682-622b013c4eemr21718867b3.39.1715339546007; 
 Fri, 10 May 2024 04:12:26 -0700 (PDT)
Received: from postal.iol.unh.edu (postal.iol.unh.edu.
 [2606:4100:3880:1234::84]) by smtp-relay.gmail.com with ESMTPS id
 00721157ae682-6209e2330a7sm2251557b3.13.2024.05.10.04.12.25
 (version=TLS1_2 cipher=ECDHE-ECDSA-AES128-GCM-SHA256 bits=128/128);
 Fri, 10 May 2024 04:12:25 -0700 (PDT)
X-Relaying-Domain: iol.unh.edu
Date: Fri, 10 May 2024 04:12:25 -0700 (PDT)
Message-ID: <663e0119.0d0a0220.3a7e6.c38eSMTPIN_ADDED_MISSING@mx.google.com>
Received: from [172.21.0.9] (unknown [172.18.0.240])
 by postal.iol.unh.edu (Postfix) with ESMTP id A5A3A605C374;
 Fri, 10 May 2024 07:12:25 -0400 (EDT)
Subject: |SUCCESS| pw140020-140022 [PATCH] [3/3] net/af_xdp: Fix stats reset
From: dpdklab@iol.unh.edu
To: Test Report <test-report@dpdk.org>
Cc: dpdk-test-reports@iol.unh.edu
In-Reply-To: <20240510100358.18815-3-ciara.loftus@intel.com>
References: <20240510100358.18815-3-ciara.loftus@intel.com>
Content-Type: text/plain
X-BeenThere: test-report@dpdk.org
X-Mailman-Version: 2.1.29
Precedence: list
List-Id: automatic DPDK test reports <test-report.dpdk.org>
List-Unsubscribe: <https://mails.dpdk.org/options/test-report>,
 <mailto:test-report-request@dpdk.org?subject=unsubscribe>
List-Archive: <http://mails.dpdk.org/archives/test-report/>
List-Post: <mailto:test-report@dpdk.org>
List-Help: <mailto:test-report-request@dpdk.org?subject=help>
List-Subscribe: <https://mails.dpdk.org/listinfo/test-report>,
 <mailto:test-report-request@dpdk.org?subject=subscribe>
Errors-To: test-report-bounces@dpdk.org

Test-Label: iol-abi-testing
Test-Status: SUCCESS
http://dpdk.org/patch/140022

_Testing PASS_

Submitter: Ciara Loftus <ciara.loftus@intel.com>
Date: Friday, May 10 2024 10:03:58 
DPDK git baseline: Repo:dpdk
  Branch: master
  CommitID:baa8e2c6b4d7ce289e891b9c96fb3193311c0f01

140020-140022 --> testing pass

Test environment and result as below:

+------------------+----------+
|   Environment    | abi_test |
+==================+==========+
| Fedora 37        | PASS     |
+------------------+----------+
| RHEL8            | PASS     |
+------------------+----------+
| openSUSE Leap 15 | PASS     |
+------------------+----------+
| Fedora 39        | PASS     |
+------------------+----------+
| Fedora 38        | PASS     |
+------------------+----------+
| Debian Bullseye  | PASS     |
+------------------+----------+
| Debian 12        | PASS     |
+------------------+----------+
| CentOS Stream 8  | PASS     |
+------------------+----------+


Fedora 37
	Kernel: Depends on container host system
	Compiler: gcc 12.3.1

RHEL8
	Kernel: 5.4.0-167-generic
	Compiler: gcc 8.5.0 20210514 (Red Hat 8.5.0-20)

openSUSE Leap 15
	Kernel: 5.4.0-167-generic
	Compiler: gcc 7.5.0

Fedora 39
	Kernel: Depends on container host
	Compiler: clang 17.0.6

Fedora 38
	Kernel: Depends on container host
	Compiler: clang 16.0.6

Debian Bullseye
	Kernel: 5.4.0-167-generic
	Compiler: gcc 10.2.1-6

Debian 12
	Kernel: Container Host Kernel
	Compiler: gcc 10.2.1

CentOS Stream 8
	Kernel: 5.4.0-167-generic
	Compiler: gcc 8.5.0 20210514

To view detailed results, visit:
https://lab.dpdk.org/results/dashboard/patchsets/29938/

UNH-IOL DPDK Community Lab

To manage your email subscriptions, visit: 
https://lab.dpdk.org/results/dashboard/preferences/subscriptions/