From mboxrd@z Thu Jan  1 00:00:00 1970
Return-Path: <test-report-bounces@dpdk.org>
Received: from mails.dpdk.org (mails.dpdk.org [217.70.189.124])
	by inbox.dpdk.org (Postfix) with ESMTP id 3176E43FB3
	for <public@inbox.dpdk.org>; Fri, 10 May 2024 14:35:59 +0200 (CEST)
Received: from mails.dpdk.org (localhost [127.0.0.1])
	by mails.dpdk.org (Postfix) with ESMTP id 2802A402ED;
	Fri, 10 May 2024 14:35:59 +0200 (CEST)
Received: from mail-io1-f97.google.com (mail-io1-f97.google.com
 [209.85.166.97]) by mails.dpdk.org (Postfix) with ESMTP id AB37D402BB
 for <test-report@dpdk.org>; Fri, 10 May 2024 14:35:57 +0200 (CEST)
Received: by mail-io1-f97.google.com with SMTP id
 ca18e2360f4ac-7e182550dd1so75178539f.0
 for <test-report@dpdk.org>; Fri, 10 May 2024 05:35:57 -0700 (PDT)
DKIM-Signature: v=1; a=rsa-sha256; c=relaxed/relaxed;
 d=iol.unh.edu; s=unh-iol; t=1715344557; x=1715949357; darn=dpdk.org;
 h=references:in-reply-to:cc:to:from:subject:message-id:date:from:to
 :cc:subject:date:message-id:reply-to;
 bh=cBrR6SvIXEvSovBBqIXece+lQato7dPvEkjmdeTxKlQ=;
 b=VIqpFUewHBs2Jry4zRL748qpX3bs/I1WDD0RzxfqdEjNkSuCn7UtuEVyPba3LJhRpo
 CEVEKw5WvL3y6r3UK8gQwEW4GCh1ePyx61c0iPrY93GABKOeExRKKbLaLAbxUwJ/czz3
 5Ek8IHqosxQ0YhiGxWg4+nkLtyHWIdJSzVmWs=
X-Google-DKIM-Signature: v=1; a=rsa-sha256; c=relaxed/relaxed;
 d=1e100.net; s=20230601; t=1715344557; x=1715949357;
 h=references:in-reply-to:cc:to:from:subject:message-id:date
 :x-gm-message-state:from:to:cc:subject:date:message-id:reply-to;
 bh=cBrR6SvIXEvSovBBqIXece+lQato7dPvEkjmdeTxKlQ=;
 b=hQ6IJbQYv+YsUTdyburn/6baJwAqBu/I875EWqk8NxkaKRVSYnl2rrH0J2y2ugFQqh
 jvrSkN9eZ5kA6cBNIrBZXM/Sw2d08gzPQcIJMADFMlJLrF0n5w3n87bkmYBnnUETF5P4
 5q96HzFZR3LTYnvmDVHqXm5O/vXLEvlg7lwIrY9DrpzytB66Ot6auOCzphMSXajK0IGf
 XtwlQ11JkYZBfA7ANfP6qXWes3963fgfMOEwGWT5rDOLErW1g0BcQ7Sy1N6n/KK0HWo7
 Xqel144B8jyDw2FVpJk5fjvn22Y1V/DTUi7YnrssT/uOenSzYalHKdx70OeOtexuInlV
 Yn5w==
X-Gm-Message-State: AOJu0YxLFXhkMhHoVqKOTZP6ai6cel+0iSh67Kaf4O6TI7kj1vrG1vRP
 rZn6vmoommeM+AxGADF0Jy8QOaegoDiGnUfV7PglvsJSEFj9wI8DSU9LTmXDdkbbXGuaaiZJMny
 pHI+8VC40QAHBgwnKRZycll+6PVTNiOVi9G1ZSaQ4H3G2iw//PYPHXAiU
X-Google-Smtp-Source: AGHT+IFhJHBVCKUw2kL0dlv7zPWgkvN2jKvJcDB8xl49oyNR8XsrMWNOQrVtJMnIRkZKSpG0Dzu/OvLaz3h5
X-Received: by 2002:a5d:8355:0:b0:7e1:8150:ce8b with SMTP id
 ca18e2360f4ac-7e1b520c46emr280140139f.14.1715344556116; 
 Fri, 10 May 2024 05:35:56 -0700 (PDT)
Received: from postal.iol.unh.edu (postal.iol.unh.edu.
 [2606:4100:3880:1234::84]) by smtp-relay.gmail.com with ESMTPS id
 ca18e2360f4ac-7e1a882aa82sm15339539f.21.2024.05.10.05.35.56
 (version=TLS1_2 cipher=ECDHE-ECDSA-AES128-GCM-SHA256 bits=128/128);
 Fri, 10 May 2024 05:35:56 -0700 (PDT)
X-Relaying-Domain: iol.unh.edu
Date: Fri, 10 May 2024 05:35:56 -0700 (PDT)
Message-ID: <663e14ac.5d0a0220.8e697.78faSMTPIN_ADDED_MISSING@mx.google.com>
Received: from [172.21.0.6] (unknown [172.18.0.240])
 by postal.iol.unh.edu (Postfix) with ESMTP id A5463605C373;
 Fri, 10 May 2024 08:35:55 -0400 (EDT)
Subject: |SUCCESS| pw140020-140022 [PATCH] [3/3] net/af_xdp: Fix stats reset
From: dpdklab@iol.unh.edu
To: Test Report <test-report@dpdk.org>
Cc: dpdk-test-reports@iol.unh.edu
In-Reply-To: <20240510100358.18815-3-ciara.loftus@intel.com>
References: <20240510100358.18815-3-ciara.loftus@intel.com>
Content-Type: text/plain
X-BeenThere: test-report@dpdk.org
X-Mailman-Version: 2.1.29
Precedence: list
List-Id: automatic DPDK test reports <test-report.dpdk.org>
List-Unsubscribe: <https://mails.dpdk.org/options/test-report>,
 <mailto:test-report-request@dpdk.org?subject=unsubscribe>
List-Archive: <http://mails.dpdk.org/archives/test-report/>
List-Post: <mailto:test-report@dpdk.org>
List-Help: <mailto:test-report-request@dpdk.org?subject=help>
List-Subscribe: <https://mails.dpdk.org/listinfo/test-report>,
 <mailto:test-report-request@dpdk.org?subject=subscribe>
Errors-To: test-report-bounces@dpdk.org

Test-Label: iol-compile-arm64-testing
Test-Status: SUCCESS
http://dpdk.org/patch/140022

_Testing PASS_

Submitter: Ciara Loftus <ciara.loftus@intel.com>
Date: Friday, May 10 2024 10:03:58 
DPDK git baseline: Repo:dpdk
  Branch: master
  CommitID:baa8e2c6b4d7ce289e891b9c96fb3193311c0f01

140020-140022 --> testing pass

Test environment and result as below:

+----------------------------------------+--------------------+
|              Environment               | dpdk_meson_compile |
+========================================+====================+
| Debian 12 with MUSDK                   | PASS               |
+----------------------------------------+--------------------+
| Ubuntu 20.04 ARM SVE                   | PASS               |
+----------------------------------------+--------------------+
| Fedora 37 (ARM)                        | PASS               |
+----------------------------------------+--------------------+
| CentOS Stream 9 (ARM)                  | PASS               |
+----------------------------------------+--------------------+
| Ubuntu 20.04 (ARM)                     | PASS               |
+----------------------------------------+--------------------+
| Debian 12 (arm)                        | PASS               |
+----------------------------------------+--------------------+
| Debian 11 (Buster) (ARM)               | PASS               |
+----------------------------------------+--------------------+
| Ubuntu 20.04 ARM Clang Cross Compile   | PASS               |
+----------------------------------------+--------------------+
| Ubuntu 20.04 aarch32 GCC Cross Compile | PASS               |
+----------------------------------------+--------------------+
| Ubuntu 20.04 ARM GCC Cross Compile     | PASS               |
+----------------------------------------+--------------------+
| Fedora 39 (ARM Clang)                  | PASS               |
+----------------------------------------+--------------------+


Debian 12 with MUSDK
	Kernel: Container Host Kernel
	Compiler: gcc 12.2.0

Ubuntu 20.04 ARM SVE
	Kernel: 5.4.0-167-generic
	Compiler: gcc (Ubuntu 10.5.0-1ubuntu1~20.04) 10.5.0

Fedora 37 (ARM)
	Kernel: Depends on container host
	Compiler: gcc 12.3.1

CentOS Stream 9 (ARM)
	Kernel: Container Host Kernel
	Compiler: gcc 11.4.1

Ubuntu 20.04 (ARM)
	Kernel: Container Host Kernel
	Compiler: gcc 9.4.0

Debian 12 (arm)
	Kernel: Container Host Kernel
	Compiler: gcc 12.2.0

Debian 11 (Buster) (ARM)
	Kernel: Container Host Kernel
	Compiler: gcc 10.2.1

Ubuntu 20.04 ARM Clang Cross Compile
	Kernel: 5.4.0-72-generic
	Compiler: clang 10.0.0-4ubuntu1

Ubuntu 20.04 aarch32 GCC Cross Compile
	Kernel: 5.4.0-167-generic
	Compiler: gcc 9.4.0

Ubuntu 20.04 ARM GCC Cross Compile
	Kernel: 5.4.0-167-generic
	Compiler: aarch64-linux-gnu-gcc (Ubuntu 9.4.0-1ubuntu1~20.04.2) 9.4.0

Fedora 39 (ARM Clang)
	Kernel: Depends on container host
	Compiler: clang 17.0.6

To view detailed results, visit:
https://lab.dpdk.org/results/dashboard/patchsets/29938/

UNH-IOL DPDK Community Lab

To manage your email subscriptions, visit: 
https://lab.dpdk.org/results/dashboard/preferences/subscriptions/