From mboxrd@z Thu Jan  1 00:00:00 1970
Return-Path: <test-report-bounces@dpdk.org>
Received: from mails.dpdk.org (mails.dpdk.org [217.70.189.124])
	by inbox.dpdk.org (Postfix) with ESMTP id 8A83543FB3
	for <public@inbox.dpdk.org>; Fri, 10 May 2024 14:36:41 +0200 (CEST)
Received: from mails.dpdk.org (localhost [127.0.0.1])
	by mails.dpdk.org (Postfix) with ESMTP id 852B2402E4;
	Fri, 10 May 2024 14:36:41 +0200 (CEST)
Received: from mail-yw1-f228.google.com (mail-yw1-f228.google.com
 [209.85.128.228])
 by mails.dpdk.org (Postfix) with ESMTP id EE5C0402BB
 for <test-report@dpdk.org>; Fri, 10 May 2024 14:36:39 +0200 (CEST)
Received: by mail-yw1-f228.google.com with SMTP id
 00721157ae682-61be4b986aaso21420497b3.3
 for <test-report@dpdk.org>; Fri, 10 May 2024 05:36:39 -0700 (PDT)
DKIM-Signature: v=1; a=rsa-sha256; c=relaxed/relaxed;
 d=iol.unh.edu; s=unh-iol; t=1715344599; x=1715949399; darn=dpdk.org;
 h=references:in-reply-to:cc:to:from:subject:message-id:date:from:to
 :cc:subject:date:message-id:reply-to;
 bh=G9ZWx4y9tqicRZrwhpi/Jgkt8XXpJam7pkVjyTnbTdY=;
 b=GQE1cp30Dbftara1lzwT4QjCqxhkt6VjizJXlZWVc1dvvY+zT1PSjcgOxC1XPP4qHp
 bOHA9CbN7XDdsZjugngDmSAtfn7w/hJpjnbcrm7Ib6NdZ44CMq/LzdTJqRfkqTrWq0ds
 6yY6XITn4F/yb+z/3OJAi6wCPX/rAnrZGw9G0=
X-Google-DKIM-Signature: v=1; a=rsa-sha256; c=relaxed/relaxed;
 d=1e100.net; s=20230601; t=1715344599; x=1715949399;
 h=references:in-reply-to:cc:to:from:subject:message-id:date
 :x-gm-message-state:from:to:cc:subject:date:message-id:reply-to;
 bh=G9ZWx4y9tqicRZrwhpi/Jgkt8XXpJam7pkVjyTnbTdY=;
 b=rbjz3I7J2+8B2OCPaxC1K2J7q7mRZmXPHHPHFAb0nR6lLyNnFC/O/S9bH+QdRTi3c3
 p/r3oi2YOPnfOuZUf+qDJsAwPxONfDPSJNogEYtLch/ZZ050C8nOPhAzDQ+O/pu9lPRZ
 ImzJKiRftRPg7TY318Ngtr8WtTBF56N0w8y1QZYPHNTwRgKOuOfjL6ujCklyZj365wWF
 RUXs9nxfbIX6ITZsacLFejXl4jss5pVhBnuAM1OtKnK6GKdBZ3RqUed2cKMjCOPEaQO5
 rNlGeoSqeK/JtNdMG9ZHtYmz8M7v6Ia77oJ6yreSNrCLFAb8ye+8v0KUMnQwCtkLLWZI
 kDTA==
X-Gm-Message-State: AOJu0YxCavqBwXtIDE9LOn6+ZLkhwDhJqg1D2JNLonXd/GGbAYB5wMl/
 ZKnVlwPLTFHc1+aD0CjC7nggGvwq4biL9F1WJ4YDd5ExvSSwRrr8UoTzULOPuPcGlrUyqcEjJPB
 dSuefXLrqfvpF8rH8rl5Vp2nNJODnaHkHAJqpz5pu
X-Google-Smtp-Source: AGHT+IH4JBpQ0gkOHlnmn15NQg1z/3BjoIp21IUClCfkn8Mk2jcScoQm1kyYNDf3PetXtn/sXqKa9N05eBY9
X-Received: by 2002:a81:ac66:0:b0:609:bfdf:8a32 with SMTP id
 00721157ae682-622b016392dmr23285517b3.44.1715344597940; 
 Fri, 10 May 2024 05:36:37 -0700 (PDT)
Received: from postal.iol.unh.edu (postal.iol.unh.edu. [132.177.123.84])
 by smtp-relay.gmail.com with ESMTPS id
 00721157ae682-6209e24f1f3sm2337007b3.18.2024.05.10.05.36.37
 (version=TLS1_2 cipher=ECDHE-ECDSA-AES128-GCM-SHA256 bits=128/128);
 Fri, 10 May 2024 05:36:37 -0700 (PDT)
X-Relaying-Domain: iol.unh.edu
Date: Fri, 10 May 2024 05:36:37 -0700 (PDT)
Message-ID: <663e14d5.810a0220.30ed9.d34eSMTPIN_ADDED_MISSING@mx.google.com>
Received: from [172.21.0.6] (unknown [172.18.0.240])
 by postal.iol.unh.edu (Postfix) with ESMTP id 8BA76605C373;
 Fri, 10 May 2024 08:36:37 -0400 (EDT)
Subject: |SUCCESS| pw140018 [PATCH] [v2] graph: fix does not return the uniqu
From: dpdklab@iol.unh.edu
To: Test Report <test-report@dpdk.org>
Cc: dpdk-test-reports@iol.unh.edu
In-Reply-To: <TYAP286MB06492336688E0855A00ADFF7D8E72@TYAP286MB0649.JPNP286.PROD.OUTLOOK.COM>
References: <TYAP286MB06492336688E0855A00ADFF7D8E72@TYAP286MB0649.JPNP286.PROD.OUTLOOK.COM>
Content-Type: text/plain
X-BeenThere: test-report@dpdk.org
X-Mailman-Version: 2.1.29
Precedence: list
List-Id: automatic DPDK test reports <test-report.dpdk.org>
List-Unsubscribe: <https://mails.dpdk.org/options/test-report>,
 <mailto:test-report-request@dpdk.org?subject=unsubscribe>
List-Archive: <http://mails.dpdk.org/archives/test-report/>
List-Post: <mailto:test-report@dpdk.org>
List-Help: <mailto:test-report-request@dpdk.org?subject=help>
List-Subscribe: <https://mails.dpdk.org/listinfo/test-report>,
 <mailto:test-report-request@dpdk.org?subject=subscribe>
Errors-To: test-report-bounces@dpdk.org

Test-Label: iol-compile-amd64-testing
Test-Status: SUCCESS
http://dpdk.org/patch/140018

_Testing PASS_

Submitter: Gongming Chen <chengongming1900@outlook.com>
Date: Friday, May 10 2024 06:47:47 
DPDK git baseline: Repo:dpdk
  Branch: master
  CommitID:7e06c0de1952d3109a5b0c4779d7e7d8059c9d78

140018 --> testing pass

Test environment and result as below:

+---------------------+--------------------+----------------------+-------------------+
|     Environment     | dpdk_meson_compile | dpdk_mingw64_compile | dpdk_msvc_compile |
+=====================+====================+======================+===================+
| FreeBSD 13.3        | PASS               | SKIPPED              | SKIPPED           |
+---------------------+--------------------+----------------------+-------------------+
| Windows Server 2019 | PASS               | PASS                 | SKIPPED           |
+---------------------+--------------------+----------------------+-------------------+
| FreeBSD 14.0        | PASS               | SKIPPED              | SKIPPED           |
+---------------------+--------------------+----------------------+-------------------+
| Windows Server 2022 | SKIPPED            | PASS                 | PASS              |
+---------------------+--------------------+----------------------+-------------------+


FreeBSD 13.3
	Kernel: 13.3-RELEASE-p1
	Compiler: clang 17.0.6

Windows Server 2019
	Kernel: 10.0.17763
	Compiler: clang 14.0 and gcc 8.1.0 (MinGW)

FreeBSD 14.0
	Kernel: 14.0
	Compiler: clang 16.0.6

Windows Server 2022
	Kernel: 10.0.20348.2031
	Compiler: clang 15.0.7, gcc 8.1.0 (MinGW), and MSVC VS 17.9

To view detailed results, visit:
https://lab.dpdk.org/results/dashboard/patchsets/29936/

UNH-IOL DPDK Community Lab

To manage your email subscriptions, visit: 
https://lab.dpdk.org/results/dashboard/preferences/subscriptions/