From mboxrd@z Thu Jan  1 00:00:00 1970
Return-Path: <test-report-bounces@dpdk.org>
Received: from mails.dpdk.org (mails.dpdk.org [217.70.189.124])
	by inbox.dpdk.org (Postfix) with ESMTP id 9039A4400A
	for <public@inbox.dpdk.org>; Sun, 12 May 2024 08:50:11 +0200 (CEST)
Received: from mails.dpdk.org (localhost [127.0.0.1])
	by mails.dpdk.org (Postfix) with ESMTP id 8B986402BD;
	Sun, 12 May 2024 08:50:11 +0200 (CEST)
Received: from mail-qk1-f225.google.com (mail-qk1-f225.google.com
 [209.85.222.225])
 by mails.dpdk.org (Postfix) with ESMTP id 9F830402BC
 for <test-report@dpdk.org>; Sun, 12 May 2024 08:50:09 +0200 (CEST)
Received: by mail-qk1-f225.google.com with SMTP id
 af79cd13be357-792b8bf806fso281329185a.0
 for <test-report@dpdk.org>; Sat, 11 May 2024 23:50:09 -0700 (PDT)
DKIM-Signature: v=1; a=rsa-sha256; c=relaxed/relaxed;
 d=iol.unh.edu; s=unh-iol; t=1715496609; x=1716101409; darn=dpdk.org;
 h=references:in-reply-to:cc:to:from:subject:message-id:date:from:to
 :cc:subject:date:message-id:reply-to;
 bh=y5r5wKDyJ94SZMel6q6ZkFluQuOQbNKie2RWoCqSsEs=;
 b=e8Oa9IuBhVn275BvfrUI3nGLdcMD2IyMLCxV2eVhOFSTlgLK7bl38XCfdr+w56tzeH
 IP0CzdWGY7ee2FL6Fch44ceh48RyRRL2AQTVexbue2Mh3fwZtOTueH7Zn9a4WR0ueOEC
 +cSD2klUdGad1s2mqlm52+UO1R60QxNkFxFfU=
X-Google-DKIM-Signature: v=1; a=rsa-sha256; c=relaxed/relaxed;
 d=1e100.net; s=20230601; t=1715496609; x=1716101409;
 h=references:in-reply-to:cc:to:from:subject:message-id:date
 :x-gm-message-state:from:to:cc:subject:date:message-id:reply-to;
 bh=y5r5wKDyJ94SZMel6q6ZkFluQuOQbNKie2RWoCqSsEs=;
 b=nf8bk+hhm2Rw36Cw+dznJCC982DUeD+eXYdHq0UVwQSvn5A6HVVWa62WmWT9HLPwqc
 ZXR5TFjawQ3MXVcQ859Wp2G8IlNRoLn7/TwK93ydy3xQdSkg5h0Z4H6teQDOYCSlBTme
 4KuNUsTocFtUO1frAPq99pIui+TGY8cCSyOBrefApT+4oAehYp+pmwJhOauALf5JYXge
 8Ga6lmtdhtMtP0/te8mVqxYTA2YROzkb6ak0mc56HpJk97y5w8QDT8/P2r+iT/WmsYjq
 Lv1zbqgmaQB/7lZJWXH//UOhGoAw/PzTCclOyxTT0vQpYg2PY8YppFeTx6a/ahNwsqWT
 JQeA==
X-Gm-Message-State: AOJu0YybzsKY4PMsjUZhRmWnwbeDOMJJvr/XpA+S52JTtikHlhRluHJc
 s03zVNH5NsgMvDWeqvz4DmlcHpf3lJ73WJjstmpsF/u7dpYbJE6syUnZj9CpqOrn1v+dejYhjxJ
 Ud7tVja9jWi38Vf01pHlrbAM5OET1Jn80TjIsofq4X7fsMj7da3h1a4TN
X-Google-Smtp-Source: AGHT+IE8VuMgLtk2QgeSBqE8hqzTJDikDm6PU4Tbt70o/y7OFVXc5mCoK9uJ3kOToLhYrSW78lShTIWYbOyp
X-Received: by 2002:a05:620a:430c:b0:792:dcc8:7ab5 with SMTP id
 af79cd13be357-792dcc87af9mr47095485a.31.1715496609016; 
 Sat, 11 May 2024 23:50:09 -0700 (PDT)
Received: from postal.iol.unh.edu (postal.iol.unh.edu.
 [2606:4100:3880:1234::84]) by smtp-relay.gmail.com with ESMTPS id
 71dfb90a1353d-4df7c0431f5sm281191e0c.11.2024.05.11.23.50.08
 (version=TLS1_2 cipher=ECDHE-ECDSA-AES128-GCM-SHA256 bits=128/128);
 Sat, 11 May 2024 23:50:09 -0700 (PDT)
X-Relaying-Domain: iol.unh.edu
Date: Sat, 11 May 2024 23:50:09 -0700 (PDT)
Message-ID: <664066a1.050a0220.1b580.cdc2SMTPIN_ADDED_MISSING@mx.google.com>
Received: from [172.21.0.7] (unknown [172.18.0.240])
 by postal.iol.unh.edu (Postfix) with ESMTP id A34DF604A954;
 Sun, 12 May 2024 02:50:08 -0400 (EDT)
Subject: |SUCCESS| pw140024 [PATCH] bpf: don't verify classic bpfs
From: dpdklab@iol.unh.edu
To: Test Report <test-report@dpdk.org>
Cc: dpdk-test-reports@iol.unh.edu
In-Reply-To: <20240512053542.88416-1-yoav.w@claroty.com>
References: <20240512053542.88416-1-yoav.w@claroty.com>
Content-Type: text/plain
X-BeenThere: test-report@dpdk.org
X-Mailman-Version: 2.1.29
Precedence: list
List-Id: automatic DPDK test reports <test-report.dpdk.org>
List-Unsubscribe: <https://mails.dpdk.org/options/test-report>,
 <mailto:test-report-request@dpdk.org?subject=unsubscribe>
List-Archive: <http://mails.dpdk.org/archives/test-report/>
List-Post: <mailto:test-report@dpdk.org>
List-Help: <mailto:test-report-request@dpdk.org?subject=help>
List-Subscribe: <https://mails.dpdk.org/listinfo/test-report>,
 <mailto:test-report-request@dpdk.org?subject=subscribe>
Errors-To: test-report-bounces@dpdk.org

Test-Label: iol-compile-amd64-testing
Test-Status: SUCCESS
http://dpdk.org/patch/140024

_Testing PASS_

Submitter: Yoav Winstein <yoav.w@claroty.com>
Date: Sunday, May 12 2024 05:35:42 
DPDK git baseline: Repo:dpdk
  Branch: master
  CommitID:7e06c0de1952d3109a5b0c4779d7e7d8059c9d78

140024 --> testing pass

Test environment and result as below:

+---------------------+--------------------+----------------------+-------------------+
|     Environment     | dpdk_meson_compile | dpdk_mingw64_compile | dpdk_msvc_compile |
+=====================+====================+======================+===================+
| FreeBSD 13.3        | PASS               | SKIPPED              | SKIPPED           |
+---------------------+--------------------+----------------------+-------------------+
| FreeBSD 14.0        | PASS               | SKIPPED              | SKIPPED           |
+---------------------+--------------------+----------------------+-------------------+
| Windows Server 2019 | PASS               | PASS                 | SKIPPED           |
+---------------------+--------------------+----------------------+-------------------+
| CentOS Stream 9     | PASS               | SKIPPED              | SKIPPED           |
+---------------------+--------------------+----------------------+-------------------+
| Windows Server 2022 | PASS               | PASS                 | PASS              |
+---------------------+--------------------+----------------------+-------------------+
| RHEL8               | PASS               | SKIPPED              | SKIPPED           |
+---------------------+--------------------+----------------------+-------------------+
| Ubuntu 20.04        | PASS               | SKIPPED              | SKIPPED           |
+---------------------+--------------------+----------------------+-------------------+
| Fedora 38           | PASS               | SKIPPED              | SKIPPED           |
+---------------------+--------------------+----------------------+-------------------+
| Debian 12           | PASS               | SKIPPED              | SKIPPED           |
+---------------------+--------------------+----------------------+-------------------+
| Fedora 37           | PASS               | SKIPPED              | SKIPPED           |
+---------------------+--------------------+----------------------+-------------------+
| Ubuntu 22.04        | PASS               | SKIPPED              | SKIPPED           |
+---------------------+--------------------+----------------------+-------------------+
| Debian Bullseye     | PASS               | SKIPPED              | SKIPPED           |
+---------------------+--------------------+----------------------+-------------------+
| openSUSE Leap 15    | PASS               | SKIPPED              | SKIPPED           |
+---------------------+--------------------+----------------------+-------------------+
| Fedora 39           | PASS               | SKIPPED              | SKIPPED           |
+---------------------+--------------------+----------------------+-------------------+


FreeBSD 13.3
	Kernel: 13.3-RELEASE-p1
	Compiler: clang 17.0.6

FreeBSD 14.0
	Kernel: 14.0
	Compiler: clang 16.0.6

Windows Server 2019
	Kernel: 10.0.17763
	Compiler: clang 14.0 and gcc 8.1.0 (MinGW)

CentOS Stream 9
	Kernel: 5.4.0-167-generic
	Compiler: gcc 11.4.1 20230605

Windows Server 2022
	Kernel: 10.0.20348.2031
	Compiler: clang 15.0.7, gcc 8.1.0 (MinGW), and MSVC VS 17.9

RHEL8
	Kernel: 5.4.0-167-generic
	Compiler: gcc 8.5.0 20210514 (Red Hat 8.5.0-20)

Ubuntu 20.04
	Kernel: 5.4.0-167-generic
	Compiler: gcc 9.4.0-1ubuntu1~20.04.1

Fedora 38
	Kernel: Depends on container host
	Compiler: gcc 13.2.1

Debian 12
	Kernel: Container Host Kernel
	Compiler: gcc 10.2.1

Fedora 37
	Kernel: Depends on container host system
	Compiler: gcc 12.3.1

Ubuntu 22.04
	Kernel: 5.4.0-167-generic
	Compiler: gcc 11.4.0

Debian Bullseye
	Kernel: 5.4.0-167-generic
	Compiler: gcc 10.2.1-6

openSUSE Leap 15
	Kernel: 5.4.0-167-generic
	Compiler: gcc 7.5.0

Fedora 39
	Kernel: Depends on container host
	Compiler: clang 17.0.6

To view detailed results, visit:
https://lab.dpdk.org/results/dashboard/patchsets/29940/

UNH-IOL DPDK Community Lab

To manage your email subscriptions, visit: 
https://lab.dpdk.org/results/dashboard/preferences/subscriptions/