From mboxrd@z Thu Jan  1 00:00:00 1970
Return-Path: <test-report-bounces@dpdk.org>
Received: from mails.dpdk.org (mails.dpdk.org [217.70.189.124])
	by inbox.dpdk.org (Postfix) with ESMTP id 1CAAD44019
	for <public@inbox.dpdk.org>; Mon, 13 May 2024 13:34:30 +0200 (CEST)
Received: from mails.dpdk.org (localhost [127.0.0.1])
	by mails.dpdk.org (Postfix) with ESMTP id 17FE4402D1;
	Mon, 13 May 2024 13:34:30 +0200 (CEST)
Received: from mail-yw1-f225.google.com (mail-yw1-f225.google.com
 [209.85.128.225])
 by mails.dpdk.org (Postfix) with ESMTP id 844094003C
 for <test-report@dpdk.org>; Mon, 13 May 2024 13:34:28 +0200 (CEST)
Received: by mail-yw1-f225.google.com with SMTP id
 00721157ae682-61e01d5ea74so43558657b3.2
 for <test-report@dpdk.org>; Mon, 13 May 2024 04:34:28 -0700 (PDT)
DKIM-Signature: v=1; a=rsa-sha256; c=relaxed/relaxed;
 d=iol.unh.edu; s=unh-iol; t=1715600068; x=1716204868; darn=dpdk.org;
 h=references:in-reply-to:cc:to:from:subject:message-id:date:from:to
 :cc:subject:date:message-id:reply-to;
 bh=1g2t9gwh1KeQ4yEMKdPux1epEsqCSIglqmSxiUbTTnM=;
 b=POEE4cEBStTxHEX3BdlpZuM0gCnlHLmJ+pHTW9oPWGzobm2U0DiL1MW9Zk2RUBjYxs
 5f5848f62/uu+9mHWe+ofKkMS6zTdik0mP/zROLUpADc4Inbqr4CEyd/qkbpVUf0+F9J
 zh/WARmDPwCpw4p/pf7vx5A9IZDUmd8tlp9Jo=
X-Google-DKIM-Signature: v=1; a=rsa-sha256; c=relaxed/relaxed;
 d=1e100.net; s=20230601; t=1715600068; x=1716204868;
 h=references:in-reply-to:cc:to:from:subject:message-id:date
 :x-gm-message-state:from:to:cc:subject:date:message-id:reply-to;
 bh=1g2t9gwh1KeQ4yEMKdPux1epEsqCSIglqmSxiUbTTnM=;
 b=PXL1G1ZUIonDoacufymm3JsnJZZskFVYKvKh5SfUTCZYX4M4les6zQM8iIXeEKa+QV
 r5Sj/YktPavQ1grjvyHBUnrk/upIW53a85G7BZCc9APIrLWh7ksmHCuXJ/gVqU3w/jBI
 LsBKBVc9hmFOQ8Jt+h0sB8WzDzgmohevkDo5QwHrBgtwxEenWv+aJteQyj4BHKfHrX81
 8yk0/DWXefWFFTTcnkj0HEfk0nyba8z3WyDql8PZyGBOkc5MJMQkYsPWL+dwIpOEAZ/9
 xBfuxdyAqr6lK9PRd2QM59L5811PeOMIKSIgw/rWQ2lNV2mjpZF25u4JyVSac7a1udy/
 QK+w==
X-Gm-Message-State: AOJu0YyDEBt0T5OXCiAOsfvq+BU5vcBm7k2DZkWtzcpTz+JNxGBGoq7b
 Loc7NPd4V4Z2lyIm+m1wwIsmgBeyMIOgsaMlaRwhrdt+qiWpyLFH8rWXH32XOMot++H/OrOHp0f
 RC+t529aw9yxdyNI4a6Nxa131JaCU0jvsbUShnFiO
X-Google-Smtp-Source: AGHT+IHcyjLJUOmzxqAz4f6abdKY5cBNM0ZbsdIYuj0PM3iY8g+awktQr1211RrEwW1INIBTtJ3kGlnBtNk3
X-Received: by 2002:a0d:db14:0:b0:610:1cd9:8c37 with SMTP id
 00721157ae682-622affac286mr87991467b3.30.1715600067557; 
 Mon, 13 May 2024 04:34:27 -0700 (PDT)
Received: from postal.iol.unh.edu (postal.iol.unh.edu. [132.177.123.84])
 by smtp-relay.gmail.com with ESMTPS id
 00721157ae682-6209e24f7dasm6800857b3.23.2024.05.13.04.34.27
 (version=TLS1_2 cipher=ECDHE-ECDSA-AES128-GCM-SHA256 bits=128/128);
 Mon, 13 May 2024 04:34:27 -0700 (PDT)
X-Relaying-Domain: iol.unh.edu
Date: Mon, 13 May 2024 04:34:27 -0700 (PDT)
Message-ID: <6641fac3.810a0220.2a373.8e07SMTPIN_ADDED_MISSING@mx.google.com>
Received: from [172.21.0.8] (unknown [172.18.0.240])
 by postal.iol.unh.edu (Postfix) with ESMTP id 344A2605C373;
 Mon, 13 May 2024 07:34:26 -0400 (EDT)
Subject: |SUCCESS| pw140027 [PATCH] bpf: don't verify classic bpfs
From: dpdklab@iol.unh.edu
To: Test Report <test-report@dpdk.org>
Cc: dpdk-test-reports@iol.unh.edu
In-Reply-To: <20240512060041.100723-1-yoav.w@claroty.com>
References: <20240512060041.100723-1-yoav.w@claroty.com>
Content-Type: text/plain
X-BeenThere: test-report@dpdk.org
X-Mailman-Version: 2.1.29
Precedence: list
List-Id: automatic DPDK test reports <test-report.dpdk.org>
List-Unsubscribe: <https://mails.dpdk.org/options/test-report>,
 <mailto:test-report-request@dpdk.org?subject=unsubscribe>
List-Archive: <http://mails.dpdk.org/archives/test-report/>
List-Post: <mailto:test-report@dpdk.org>
List-Help: <mailto:test-report-request@dpdk.org?subject=help>
List-Subscribe: <https://mails.dpdk.org/listinfo/test-report>,
 <mailto:test-report-request@dpdk.org?subject=subscribe>
Errors-To: test-report-bounces@dpdk.org

Test-Label: iol-compile-arm64-testing
Test-Status: SUCCESS
http://dpdk.org/patch/140027

_Testing PASS_

Submitter: Yoav Winstein <yoav.w@claroty.com>
Date: Sunday, May 12 2024 06:00:41 
DPDK git baseline: Repo:dpdk
  Branch: master
  CommitID:7e06c0de1952d3109a5b0c4779d7e7d8059c9d78

140027 --> testing pass

Test environment and result as below:

+--------------------------+--------------------+
|       Environment        | dpdk_meson_compile |
+==========================+====================+
| Ubuntu 20.04 ARM SVE     | PASS               |
+--------------------------+--------------------+
| Debian 12 with MUSDK     | PASS               |
+--------------------------+--------------------+
| Fedora 38 (ARM)          | PASS               |
+--------------------------+--------------------+
| Fedora 37 (ARM)          | PASS               |
+--------------------------+--------------------+
| Fedora 39 (ARM)          | PASS               |
+--------------------------+--------------------+
| Debian 12 (arm)          | PASS               |
+--------------------------+--------------------+
| Ubuntu 20.04 (ARM)       | PASS               |
+--------------------------+--------------------+
| Debian 11 (Buster) (ARM) | PASS               |
+--------------------------+--------------------+
| CentOS Stream 9 (ARM)    | PASS               |
+--------------------------+--------------------+


Ubuntu 20.04 ARM SVE
	Kernel: 5.4.0-167-generic
	Compiler: gcc (Ubuntu 10.5.0-1ubuntu1~20.04) 10.5.0

Debian 12 with MUSDK
	Kernel: Container Host Kernel
	Compiler: gcc 12.2.0

Fedora 38 (ARM)
	Kernel: Depends on container host
	Compiler: gcc 13.2.1

Fedora 37 (ARM)
	Kernel: Depends on container host
	Compiler: gcc 12.3.1

Fedora 39 (ARM)
	Kernel: Depends on container host
	Compiler: gcc 13.2.1

Debian 12 (arm)
	Kernel: Container Host Kernel
	Compiler: gcc 12.2.0

Ubuntu 20.04 (ARM)
	Kernel: Container Host Kernel
	Compiler: gcc 9.4.0

Debian 11 (Buster) (ARM)
	Kernel: Container Host Kernel
	Compiler: gcc 10.2.1

CentOS Stream 9 (ARM)
	Kernel: Container Host Kernel
	Compiler: gcc 11.4.1

To view detailed results, visit:
https://lab.dpdk.org/results/dashboard/patchsets/29943/

UNH-IOL DPDK Community Lab

To manage your email subscriptions, visit: 
https://lab.dpdk.org/results/dashboard/preferences/subscriptions/