From mboxrd@z Thu Jan  1 00:00:00 1970
Return-Path: <test-report-bounces@dpdk.org>
Received: from mails.dpdk.org (mails.dpdk.org [217.70.189.124])
	by inbox.dpdk.org (Postfix) with ESMTP id 8523344019
	for <public@inbox.dpdk.org>; Mon, 13 May 2024 13:37:34 +0200 (CEST)
Received: from mails.dpdk.org (localhost [127.0.0.1])
	by mails.dpdk.org (Postfix) with ESMTP id 817C7402D1;
	Mon, 13 May 2024 13:37:34 +0200 (CEST)
Received: from mail-qv1-f99.google.com (mail-qv1-f99.google.com
 [209.85.219.99]) by mails.dpdk.org (Postfix) with ESMTP id 8EA604003C
 for <test-report@dpdk.org>; Mon, 13 May 2024 13:37:33 +0200 (CEST)
Received: by mail-qv1-f99.google.com with SMTP id
 6a1803df08f44-69b5de48126so20004566d6.3
 for <test-report@dpdk.org>; Mon, 13 May 2024 04:37:33 -0700 (PDT)
DKIM-Signature: v=1; a=rsa-sha256; c=relaxed/relaxed;
 d=iol.unh.edu; s=unh-iol; t=1715600253; x=1716205053; darn=dpdk.org;
 h=references:in-reply-to:cc:to:from:subject:message-id:date:from:to
 :cc:subject:date:message-id:reply-to;
 bh=1g2t9gwh1KeQ4yEMKdPux1epEsqCSIglqmSxiUbTTnM=;
 b=iYd33IzEXrpg2IW/N5cmLaVNy1bfMJrgdquUNVVTHG4+r0RKjZ54fyOrnFffaOvY3y
 t8+JGPo2pQA2TQN0tURTY6xzDa8q46kf4KXYsymksP4Y8FUPZvKaW41kp1k2+jlQiCwA
 2zDJEuW+NIDHWlW3X1mzkYqGE5UA4ieLJGdRI=
X-Google-DKIM-Signature: v=1; a=rsa-sha256; c=relaxed/relaxed;
 d=1e100.net; s=20230601; t=1715600253; x=1716205053;
 h=references:in-reply-to:cc:to:from:subject:message-id:date
 :x-gm-message-state:from:to:cc:subject:date:message-id:reply-to;
 bh=1g2t9gwh1KeQ4yEMKdPux1epEsqCSIglqmSxiUbTTnM=;
 b=kGl5gUA9SRaHQyq/um+z0Jp3jKLHtrh5EDJkGmDANA4PezQgXu+WHVEW+y8MFI9lrg
 MMsqw4jXBVaIBSP6yVsV6uLObj+neMoceXZJ4uCJpWKLA+HZ9jy5mEWCPgqhzGoAe937
 26AGqJt9YkjCAA4Varqe6UObnWgemCaVty6hR9LZ7Y1EVFcKdC11oHsLMSut6grPg+Js
 pgenMDIiYvPkhVS3THOYCvbTOf7AEIu8sxpUcqhdmVTCzjjt72mkp2mE8SK15+k1mQ6z
 D0f4VWT67icca1npo166yT0yV/sqtJOxlL5MPKBh55DXvGI/4wlO6ujIMpXzqOrtPXk5
 FQtA==
X-Gm-Message-State: AOJu0YwMJJpOc6T885wbGeq6WabpSC6AHQQZaDIZfT5SDiLlfH3YdqNA
 XUK+EetwYW2IP9qNl8fxremHQBzr2Vd6mqPOVm5xDdmYdgr/3+tRWpQDUJl7IA1LIErEX7tnmem
 iFcC1hJW0ojNOlo1ym6bMvHdTGvpuAzbLRdWQAQyuoy4hiHfDdpcX1OYN
X-Google-Smtp-Source: AGHT+IEGvCwxFWxDA3mK+8Q7Y4fIJ08ISQ9PdBM+WIc/TDfO/zPOJsSPRMthdvqjcUVN5wJR6PauixSL2sWU
X-Received: by 2002:a05:6214:5345:b0:6a0:b465:6c95 with SMTP id
 6a1803df08f44-6a168140c92mr113295276d6.4.1715600253004; 
 Mon, 13 May 2024 04:37:33 -0700 (PDT)
Received: from postal.iol.unh.edu (postal.iol.unh.edu.
 [2606:4100:3880:1234::84]) by smtp-relay.gmail.com with ESMTPS id
 6a1803df08f44-6a15f23d59fsm6122146d6.57.2024.05.13.04.37.32
 (version=TLS1_2 cipher=ECDHE-ECDSA-AES128-GCM-SHA256 bits=128/128);
 Mon, 13 May 2024 04:37:32 -0700 (PDT)
X-Relaying-Domain: iol.unh.edu
Date: Mon, 13 May 2024 04:37:32 -0700 (PDT)
Message-ID: <6641fb7c.d40a0220.5a869.2f96SMTPIN_ADDED_MISSING@mx.google.com>
Received: from [172.21.0.6] (unknown [172.18.0.240])
 by postal.iol.unh.edu (Postfix) with ESMTP id B1E8C605C373;
 Mon, 13 May 2024 07:37:32 -0400 (EDT)
Subject: |SUCCESS| pw140027 [PATCH] bpf: don't verify classic bpfs
From: dpdklab@iol.unh.edu
To: Test Report <test-report@dpdk.org>
Cc: dpdk-test-reports@iol.unh.edu
In-Reply-To: <20240512060041.100723-1-yoav.w@claroty.com>
References: <20240512060041.100723-1-yoav.w@claroty.com>
Content-Type: text/plain
X-BeenThere: test-report@dpdk.org
X-Mailman-Version: 2.1.29
Precedence: list
List-Id: automatic DPDK test reports <test-report.dpdk.org>
List-Unsubscribe: <https://mails.dpdk.org/options/test-report>,
 <mailto:test-report-request@dpdk.org?subject=unsubscribe>
List-Archive: <http://mails.dpdk.org/archives/test-report/>
List-Post: <mailto:test-report@dpdk.org>
List-Help: <mailto:test-report-request@dpdk.org?subject=help>
List-Subscribe: <https://mails.dpdk.org/listinfo/test-report>,
 <mailto:test-report-request@dpdk.org?subject=subscribe>
Errors-To: test-report-bounces@dpdk.org

Test-Label: iol-compile-arm64-testing
Test-Status: SUCCESS
http://dpdk.org/patch/140027

_Testing PASS_

Submitter: Yoav Winstein <yoav.w@claroty.com>
Date: Sunday, May 12 2024 06:00:41 
DPDK git baseline: Repo:dpdk
  Branch: master
  CommitID:7e06c0de1952d3109a5b0c4779d7e7d8059c9d78

140027 --> testing pass

Test environment and result as below:

+--------------------------+--------------------+
|       Environment        | dpdk_meson_compile |
+==========================+====================+
| Ubuntu 20.04 ARM SVE     | PASS               |
+--------------------------+--------------------+
| Debian 12 with MUSDK     | PASS               |
+--------------------------+--------------------+
| Fedora 38 (ARM)          | PASS               |
+--------------------------+--------------------+
| Fedora 37 (ARM)          | PASS               |
+--------------------------+--------------------+
| Fedora 39 (ARM)          | PASS               |
+--------------------------+--------------------+
| Debian 12 (arm)          | PASS               |
+--------------------------+--------------------+
| Ubuntu 20.04 (ARM)       | PASS               |
+--------------------------+--------------------+
| Debian 11 (Buster) (ARM) | PASS               |
+--------------------------+--------------------+
| CentOS Stream 9 (ARM)    | PASS               |
+--------------------------+--------------------+


Ubuntu 20.04 ARM SVE
	Kernel: 5.4.0-167-generic
	Compiler: gcc (Ubuntu 10.5.0-1ubuntu1~20.04) 10.5.0

Debian 12 with MUSDK
	Kernel: Container Host Kernel
	Compiler: gcc 12.2.0

Fedora 38 (ARM)
	Kernel: Depends on container host
	Compiler: gcc 13.2.1

Fedora 37 (ARM)
	Kernel: Depends on container host
	Compiler: gcc 12.3.1

Fedora 39 (ARM)
	Kernel: Depends on container host
	Compiler: gcc 13.2.1

Debian 12 (arm)
	Kernel: Container Host Kernel
	Compiler: gcc 12.2.0

Ubuntu 20.04 (ARM)
	Kernel: Container Host Kernel
	Compiler: gcc 9.4.0

Debian 11 (Buster) (ARM)
	Kernel: Container Host Kernel
	Compiler: gcc 10.2.1

CentOS Stream 9 (ARM)
	Kernel: Container Host Kernel
	Compiler: gcc 11.4.1

To view detailed results, visit:
https://lab.dpdk.org/results/dashboard/patchsets/29943/

UNH-IOL DPDK Community Lab

To manage your email subscriptions, visit: 
https://lab.dpdk.org/results/dashboard/preferences/subscriptions/