From mboxrd@z Thu Jan  1 00:00:00 1970
Return-Path: <test-report-bounces@dpdk.org>
Received: from mails.dpdk.org (mails.dpdk.org [217.70.189.124])
	by inbox.dpdk.org (Postfix) with ESMTP id 605AB44019
	for <public@inbox.dpdk.org>; Mon, 13 May 2024 13:43:45 +0200 (CEST)
Received: from mails.dpdk.org (localhost [127.0.0.1])
	by mails.dpdk.org (Postfix) with ESMTP id 56C0D402D1;
	Mon, 13 May 2024 13:43:45 +0200 (CEST)
Received: from mail-oi1-f228.google.com (mail-oi1-f228.google.com
 [209.85.167.228])
 by mails.dpdk.org (Postfix) with ESMTP id 6D7994003C
 for <test-report@dpdk.org>; Mon, 13 May 2024 13:43:44 +0200 (CEST)
Received: by mail-oi1-f228.google.com with SMTP id
 5614622812f47-3c968f64cdeso1646782b6e.0
 for <test-report@dpdk.org>; Mon, 13 May 2024 04:43:44 -0700 (PDT)
DKIM-Signature: v=1; a=rsa-sha256; c=relaxed/relaxed;
 d=iol.unh.edu; s=unh-iol; t=1715600624; x=1716205424; darn=dpdk.org;
 h=references:in-reply-to:cc:to:from:subject:message-id:date:from:to
 :cc:subject:date:message-id:reply-to;
 bh=CVTzkCX/8zZzA66oTshJ/4IM8C2XaAffdKV/boBOC30=;
 b=gB9AXMqvz2w5tuvliXKoUu0CCCUvSXFG1W2+M93m4VNUtFuY23qcFOIwIV/faLEW9I
 YD+yo7z6A2hLYCb8iIRxSSQSr664/E6rV9ZxPlYsPqBAGR/pBK2ZjDIA36AFjXdlmM1p
 NPIRHvVdmVABPitm9szp5w98atm2qKaSiGGq8=
X-Google-DKIM-Signature: v=1; a=rsa-sha256; c=relaxed/relaxed;
 d=1e100.net; s=20230601; t=1715600624; x=1716205424;
 h=references:in-reply-to:cc:to:from:subject:message-id:date
 :x-gm-message-state:from:to:cc:subject:date:message-id:reply-to;
 bh=CVTzkCX/8zZzA66oTshJ/4IM8C2XaAffdKV/boBOC30=;
 b=cuE6Cx0gFUxxd9r3oaghiFX9Fotr87ue4N/TBq6TSI+v3KFleo773n3ZJqzjjAoLGU
 gnN0nU+WbSV2J8kZ5s2jJIidpX3LDgcBTbA6VjzhW8wmO4nHGyuaDbVXI4n1mm1pbIld
 wXVvhDYcyI9OPfrWXKyg1RvvIN3aXv1YXnBs1BcXffQeP/pqzbnz8jxDfVcm81HFuntc
 7YN92vuIVIe/vPgOhE585XLSOKt5SNgFYjOks2fDwerhYsJlEkMxxOZw3WAkhHNjq8PD
 n+yrkiWXZEP9gEryjzeuTBcR4Y7rQ+3K2ix35hY4s31s+dckiAYYOYTe8G1xbrWpbKkW
 VRqw==
X-Gm-Message-State: AOJu0YxxJUw2NcSZ9wx0ajhV69Qlg9sKa62SJu72UT5nIEZmIF5ti06Y
 JuqeP9Z5NiSrKXfKZs0k4W4v84g5t2b84AMklYyTJq6ioZZTbXYN5V6g7KDXeu5mLs+jvI0i9jm
 AsJQsaw/lJgd+1IoFriY7ue/bZ6kjk+L4WnA/tTK2zrYZ4S19E45cpdSR
X-Google-Smtp-Source: AGHT+IGgPe8jOPKqcdKXtApDlHODx/QqXqiLaVseolJZA1nVmy5G284sV7arSXxlV4TI+G3nMhTfpjTu3IXW
X-Received: by 2002:a05:6808:148f:b0:3c7:52da:2055 with SMTP id
 5614622812f47-3c997035756mr13697024b6e.2.1715600623839; 
 Mon, 13 May 2024 04:43:43 -0700 (PDT)
Received: from postal.iol.unh.edu (postal.iol.unh.edu.
 [2606:4100:3880:1234::84]) by smtp-relay.gmail.com with ESMTPS id
 6a1803df08f44-6a15f1ac543sm5787946d6.12.2024.05.13.04.43.43
 (version=TLS1_2 cipher=ECDHE-ECDSA-AES128-GCM-SHA256 bits=128/128);
 Mon, 13 May 2024 04:43:43 -0700 (PDT)
X-Relaying-Domain: iol.unh.edu
Date: Mon, 13 May 2024 04:43:43 -0700 (PDT)
Message-ID: <6641fcef.050a0220.c1aff.0a5eSMTPIN_ADDED_MISSING@mx.google.com>
Received: from [172.21.0.7] (unknown [172.18.0.240])
 by postal.iol.unh.edu (Postfix) with ESMTP id 8757D605C373;
 Mon, 13 May 2024 07:43:43 -0400 (EDT)
Subject: |SUCCESS| pw140027 [PATCH] bpf: don't verify classic bpfs
From: dpdklab@iol.unh.edu
To: Test Report <test-report@dpdk.org>
Cc: dpdk-test-reports@iol.unh.edu
In-Reply-To: <20240512060041.100723-1-yoav.w@claroty.com>
References: <20240512060041.100723-1-yoav.w@claroty.com>
Content-Type: text/plain
X-BeenThere: test-report@dpdk.org
X-Mailman-Version: 2.1.29
Precedence: list
List-Id: automatic DPDK test reports <test-report.dpdk.org>
List-Unsubscribe: <https://mails.dpdk.org/options/test-report>,
 <mailto:test-report-request@dpdk.org?subject=unsubscribe>
List-Archive: <http://mails.dpdk.org/archives/test-report/>
List-Post: <mailto:test-report@dpdk.org>
List-Help: <mailto:test-report-request@dpdk.org?subject=help>
List-Subscribe: <https://mails.dpdk.org/listinfo/test-report>,
 <mailto:test-report-request@dpdk.org?subject=subscribe>
Errors-To: test-report-bounces@dpdk.org

Test-Label: iol-compile-amd64-testing
Test-Status: SUCCESS
http://dpdk.org/patch/140027

_Testing PASS_

Submitter: Yoav Winstein <yoav.w@claroty.com>
Date: Sunday, May 12 2024 06:00:41 
DPDK git baseline: Repo:dpdk
  Branch: master
  CommitID:7e06c0de1952d3109a5b0c4779d7e7d8059c9d78

140027 --> testing pass

Test environment and result as below:

+---------------------+-------------------+--------------------+----------------------+
|     Environment     | dpdk_msvc_compile | dpdk_meson_compile | dpdk_mingw64_compile |
+=====================+===================+====================+======================+
| Windows Server 2022 | PASS              | PASS               | PASS                 |
+---------------------+-------------------+--------------------+----------------------+
| FreeBSD 13.3        | SKIPPED           | PASS               | SKIPPED              |
+---------------------+-------------------+--------------------+----------------------+
| Windows Server 2019 | SKIPPED           | PASS               | PASS                 |
+---------------------+-------------------+--------------------+----------------------+
| FreeBSD 14.0        | SKIPPED           | PASS               | SKIPPED              |
+---------------------+-------------------+--------------------+----------------------+
| CentOS Stream 8     | SKIPPED           | PASS               | SKIPPED              |
+---------------------+-------------------+--------------------+----------------------+
| Fedora 37           | SKIPPED           | PASS               | SKIPPED              |
+---------------------+-------------------+--------------------+----------------------+
| Fedora 38           | SKIPPED           | PASS               | SKIPPED              |
+---------------------+-------------------+--------------------+----------------------+
| CentOS Stream 9     | SKIPPED           | PASS               | SKIPPED              |
+---------------------+-------------------+--------------------+----------------------+
| Ubuntu 20.04        | SKIPPED           | PASS               | SKIPPED              |
+---------------------+-------------------+--------------------+----------------------+
| Fedora 39           | SKIPPED           | PASS               | SKIPPED              |
+---------------------+-------------------+--------------------+----------------------+
| Ubuntu 22.04        | SKIPPED           | PASS               | SKIPPED              |
+---------------------+-------------------+--------------------+----------------------+
| RHEL8               | SKIPPED           | PASS               | SKIPPED              |
+---------------------+-------------------+--------------------+----------------------+
| openSUSE Leap 15    | SKIPPED           | PASS               | SKIPPED              |
+---------------------+-------------------+--------------------+----------------------+


Windows Server 2022
	Kernel: 10.0.20348.2031
	Compiler: clang 15.0.7, gcc 8.1.0 (MinGW), and MSVC VS 17.9

FreeBSD 13.3
	Kernel: 13.3-RELEASE-p1
	Compiler: clang 17.0.6

Windows Server 2019
	Kernel: 10.0.17763
	Compiler: clang 14.0 and gcc 8.1.0 (MinGW)

FreeBSD 14.0
	Kernel: 14.0
	Compiler: clang 16.0.6

CentOS Stream 8
	Kernel: 5.4.0-167-generic
	Compiler: gcc 8.5.0 20210514

Fedora 37
	Kernel: Depends on container host system
	Compiler: gcc 12.3.1

Fedora 38
	Kernel: Depends on container host
	Compiler: gcc 13.2.1

CentOS Stream 9
	Kernel: 5.4.0-167-generic
	Compiler: gcc 11.4.1 20230605

Ubuntu 20.04
	Kernel: 5.4.0-167-generic
	Compiler: gcc 9.4.0-1ubuntu1~20.04.1

Fedora 39
	Kernel: Depends on container host
	Compiler: gcc 13.2.1

Ubuntu 22.04
	Kernel: 5.4.0-167-generic
	Compiler: gcc 11.4.0

RHEL8
	Kernel: 5.4.0-167-generic
	Compiler: gcc 8.5.0 20210514 (Red Hat 8.5.0-20)

openSUSE Leap 15
	Kernel: 5.4.0-167-generic
	Compiler: gcc 7.5.0

To view detailed results, visit:
https://lab.dpdk.org/results/dashboard/patchsets/29943/

UNH-IOL DPDK Community Lab

To manage your email subscriptions, visit: 
https://lab.dpdk.org/results/dashboard/preferences/subscriptions/