From mboxrd@z Thu Jan  1 00:00:00 1970
Return-Path: <test-report-bounces@dpdk.org>
Received: from mails.dpdk.org (mails.dpdk.org [217.70.189.124])
	by inbox.dpdk.org (Postfix) with ESMTP id 315AC4401A
	for <public@inbox.dpdk.org>; Mon, 13 May 2024 14:02:18 +0200 (CEST)
Received: from mails.dpdk.org (localhost [127.0.0.1])
	by mails.dpdk.org (Postfix) with ESMTP id 2D08240698;
	Mon, 13 May 2024 14:02:18 +0200 (CEST)
Received: from mail-yb1-f228.google.com (mail-yb1-f228.google.com
 [209.85.219.228])
 by mails.dpdk.org (Postfix) with ESMTP id 282D640684
 for <test-report@dpdk.org>; Mon, 13 May 2024 14:02:17 +0200 (CEST)
Received: by mail-yb1-f228.google.com with SMTP id
 3f1490d57ef6-dc236729a2bso4235924276.0
 for <test-report@dpdk.org>; Mon, 13 May 2024 05:02:17 -0700 (PDT)
DKIM-Signature: v=1; a=rsa-sha256; c=relaxed/relaxed;
 d=iol.unh.edu; s=unh-iol; t=1715601736; x=1716206536; darn=dpdk.org;
 h=references:in-reply-to:cc:to:from:subject:message-id:date:from:to
 :cc:subject:date:message-id:reply-to;
 bh=ypMUrNrjCHuEMt+fGWyDC1jApWDpcRvjLk0HYgeWrlk=;
 b=Kc1y5d3SlvSUeOCWfOUCjUev5pwFKjxDUSWtT/GT+TQPjGWPN5IZYhT9zN+VVBFMe7
 pq3hMR3MDQ/65RtPGB7aqUftOaHo6OP5gkAKcdK/ag3j1796Jv5Nnho0BzMrvW4wyJYb
 earLPGPnD7HvNGF84SYMGpejBOUezRDQNWcZQ=
X-Google-DKIM-Signature: v=1; a=rsa-sha256; c=relaxed/relaxed;
 d=1e100.net; s=20230601; t=1715601736; x=1716206536;
 h=references:in-reply-to:cc:to:from:subject:message-id:date
 :x-gm-message-state:from:to:cc:subject:date:message-id:reply-to;
 bh=ypMUrNrjCHuEMt+fGWyDC1jApWDpcRvjLk0HYgeWrlk=;
 b=BmTnKJc2GaIt2jrb1VaIZOdpnXY2dpH1UyEFUnWzSNiXGMQ4THJ1OG2GPETCVHDI3N
 xwiIdE6K7CZxSqjzo9rVAtF+tXFgj3UGBoF0K4rjZCcMz74JmOx12MmRImp14OU5uiPP
 a2mSFKGTsFHPMkB6vSs/7C9ICnGJBfkioCGBWwiszOAMbcGAhCUQNj6MLFKt6ZxA/2SA
 0SCS1Z6+hd4ozAVOiFuv25fk1P2PBW5jgF+KZgMnC54RMcwxnTa0N99HUlkFR7V9wtoN
 FOtCbXlAS0Fb0HuExIPcbi7uzZRjCPhJs2sw+ZkCqookUmkDah5mfvjQU+TCKMRa7i6S
 rzsw==
X-Gm-Message-State: AOJu0YyWkgS8n18WCQav1nNn6XFiNO79Z8ykuwLk2Sv4ZoAe5V5k7o3s
 psmPr7MEB3tvvoc4JWBmlv4e5yj6QF91CzGEm4p8qkOZXSFaafrZVl7718AuBFbuZbXeO9sIjn2
 ma+/X0bCPFPUDVgm3TNvuxHzyQr+XqrB0VYnhFfSo
X-Google-Smtp-Source: AGHT+IFo85XYqdcKsM/XzW5u8SxnWrqP8m0rNrYl+HxWy3wL02RHm7WMOCEJHyx9ZOtscBxgXGbHpLUx89AJ
X-Received: by 2002:a25:c5c1:0:b0:de8:9a4b:47e4 with SMTP id
 3f1490d57ef6-dee4f302a81mr9874185276.35.1715601736532; 
 Mon, 13 May 2024 05:02:16 -0700 (PDT)
Received: from postal.iol.unh.edu (postal.iol.unh.edu. [132.177.123.84])
 by smtp-relay.gmail.com with ESMTPS id
 3f1490d57ef6-dee631a152bsm251298276.24.2024.05.13.05.02.16
 (version=TLS1_2 cipher=ECDHE-ECDSA-AES128-GCM-SHA256 bits=128/128);
 Mon, 13 May 2024 05:02:16 -0700 (PDT)
X-Relaying-Domain: iol.unh.edu
Date: Mon, 13 May 2024 05:02:16 -0700 (PDT)
Message-ID: <66420148.050a0220.e5078.da7fSMTPIN_ADDED_MISSING@mx.google.com>
Received: from [172.21.0.6] (unknown [172.18.0.240])
 by postal.iol.unh.edu (Postfix) with ESMTP id 2CFCD605C373;
 Mon, 13 May 2024 08:02:16 -0400 (EDT)
Subject: |SUCCESS| pw140027 [PATCH] bpf: don't verify classic bpfs
From: dpdklab@iol.unh.edu
To: Test Report <test-report@dpdk.org>
Cc: dpdk-test-reports@iol.unh.edu
In-Reply-To: <20240512060041.100723-1-yoav.w@claroty.com>
References: <20240512060041.100723-1-yoav.w@claroty.com>
Content-Type: text/plain
X-BeenThere: test-report@dpdk.org
X-Mailman-Version: 2.1.29
Precedence: list
List-Id: automatic DPDK test reports <test-report.dpdk.org>
List-Unsubscribe: <https://mails.dpdk.org/options/test-report>,
 <mailto:test-report-request@dpdk.org?subject=unsubscribe>
List-Archive: <http://mails.dpdk.org/archives/test-report/>
List-Post: <mailto:test-report@dpdk.org>
List-Help: <mailto:test-report-request@dpdk.org?subject=help>
List-Subscribe: <https://mails.dpdk.org/listinfo/test-report>,
 <mailto:test-report-request@dpdk.org?subject=subscribe>
Errors-To: test-report-bounces@dpdk.org

Test-Label: iol-unit-amd64-testing
Test-Status: SUCCESS
http://dpdk.org/patch/140027

_Testing PASS_

Submitter: Yoav Winstein <yoav.w@claroty.com>
Date: Sunday, May 12 2024 06:00:41 
DPDK git baseline: Repo:dpdk
  Branch: master
  CommitID:7e06c0de1952d3109a5b0c4779d7e7d8059c9d78

140027 --> testing pass

Test environment and result as below:

+------------------+----------------+
|   Environment    | dpdk_unit_test |
+==================+================+
| CentOS Stream 8  | PASS           |
+------------------+----------------+
| CentOS Stream 9  | PASS           |
+------------------+----------------+
| Debian 12        | PASS           |
+------------------+----------------+
| Fedora 38        | PASS           |
+------------------+----------------+
| Debian Bullseye  | PASS           |
+------------------+----------------+
| Fedora 37        | PASS           |
+------------------+----------------+
| Fedora 39        | PASS           |
+------------------+----------------+
| openSUSE Leap 15 | PASS           |
+------------------+----------------+
| RHEL8            | PASS           |
+------------------+----------------+


CentOS Stream 8
	Kernel: 5.4.0-167-generic
	Compiler: gcc 8.5.0 20210514

CentOS Stream 9
	Kernel: 5.4.0-167-generic
	Compiler: gcc 11.4.1 20230605

Debian 12
	Kernel: Container Host Kernel
	Compiler: gcc 10.2.1

Fedora 38
	Kernel: Depends on container host
	Compiler: gcc 13.2.1

Debian Bullseye
	Kernel: 5.4.0-167-generic
	Compiler: gcc 10.2.1-6

Fedora 37
	Kernel: Depends on container host system
	Compiler: gcc 12.3.1

Fedora 39
	Kernel: Depends on container host
	Compiler: gcc 13.2.1

openSUSE Leap 15
	Kernel: 5.4.0-167-generic
	Compiler: gcc 7.5.0

RHEL8
	Kernel: 5.4.0-167-generic
	Compiler: gcc 8.5.0 20210514 (Red Hat 8.5.0-20)

To view detailed results, visit:
https://lab.dpdk.org/results/dashboard/patchsets/29943/

UNH-IOL DPDK Community Lab

To manage your email subscriptions, visit: 
https://lab.dpdk.org/results/dashboard/preferences/subscriptions/