From mboxrd@z Thu Jan  1 00:00:00 1970
Return-Path: <test-report-bounces@dpdk.org>
Received: from mails.dpdk.org (mails.dpdk.org [217.70.189.124])
	by inbox.dpdk.org (Postfix) with ESMTP id 4CB9E4401A
	for <public@inbox.dpdk.org>; Mon, 13 May 2024 14:45:26 +0200 (CEST)
Received: from mails.dpdk.org (localhost [127.0.0.1])
	by mails.dpdk.org (Postfix) with ESMTP id 49123402EF;
	Mon, 13 May 2024 14:45:26 +0200 (CEST)
Received: from mail-pl1-f225.google.com (mail-pl1-f225.google.com
 [209.85.214.225])
 by mails.dpdk.org (Postfix) with ESMTP id 1A2E9402EC
 for <test-report@dpdk.org>; Mon, 13 May 2024 14:45:25 +0200 (CEST)
Received: by mail-pl1-f225.google.com with SMTP id
 d9443c01a7336-1ecd9a81966so37020565ad.0
 for <test-report@dpdk.org>; Mon, 13 May 2024 05:45:25 -0700 (PDT)
DKIM-Signature: v=1; a=rsa-sha256; c=relaxed/relaxed;
 d=iol.unh.edu; s=unh-iol; t=1715604324; x=1716209124; darn=dpdk.org;
 h=references:in-reply-to:cc:to:from:subject:message-id:date:from:to
 :cc:subject:date:message-id:reply-to;
 bh=XY6gi3kZB6O+/EDLUlXsJIBm86yP/ZX0aINFRrzEMLs=;
 b=Wczm1oTpsVhjx8jPD0IU4l4vQqJphnT4sttWw1e840yaalVBao4A0znUPCZFEDeaTo
 ggoFqZQNJxgGpETdhotorIBvCZgClU8GnO60SLYHZHGUMHPIu/ls7vz24oK3iuCG9Eos
 y/9tyxw7gC1X4ll/ly0Cz7nrdw43Sl5DQLJPY=
X-Google-DKIM-Signature: v=1; a=rsa-sha256; c=relaxed/relaxed;
 d=1e100.net; s=20230601; t=1715604324; x=1716209124;
 h=references:in-reply-to:cc:to:from:subject:message-id:date
 :x-gm-message-state:from:to:cc:subject:date:message-id:reply-to;
 bh=XY6gi3kZB6O+/EDLUlXsJIBm86yP/ZX0aINFRrzEMLs=;
 b=RpNaRmRjjEkqT1xpbsQMafQkDN4PjEo5wxZvy4h1moYnjSQoPaCMOA9rPAjTpb+SvW
 Y0Jx8vCTiynb17vMlWsKdS47jDdE+u4dcyvXwC3Umg6FP9LfzdDcaw34tG9ZCd0UNhVw
 LyFRuiMnQsIAzCc9lA1K14IUWQY/nAZ/YVlDiMjtb4BQMM7Y9TnBBU9s9iY4byqTF3oN
 eHSqorF6FgCq7krNsaNPt7uVW87dCDyhDWM+DoH3Pu1eqPOgKYfZMB5hgDAj4/I6z3Q3
 BBsNJHCmJD6oQWy5tdBvIeQpWnTqYpKwaatfAst0o5o+CCwfPVlEEOBc3qAa+XdfQsJf
 vGxA==
X-Gm-Message-State: AOJu0YzjytWwyCfog+g9kYLifBtIUyGtrPA//mX4cHo5ETqpTGijG4P1
 EeZMte6zAJe1SCJzdH4YoDL+oXh+DYjCgmI0sEEV/CN/mr153h49Sc1nfGor/Li9D59ifZUFLg7
 XV7IvxM75IJFIltmz3r7yCjTZf5nw9cGi/N/m+knH
X-Google-Smtp-Source: AGHT+IGq/PhnieyQ75XQ8vqwMMvkz9DhcvwERkxzd3aQPe9U68Dktw66v2rE9CuRl6EYBgPhVBu07uCTSi//
X-Received: by 2002:a17:903:120d:b0:1e3:cf18:7464 with SMTP id
 d9443c01a7336-1ef42d69b44mr129330495ad.3.1715604324257; 
 Mon, 13 May 2024 05:45:24 -0700 (PDT)
Received: from postal.iol.unh.edu (postal.iol.unh.edu. [132.177.123.84])
 by smtp-relay.gmail.com with ESMTPS id
 d9443c01a7336-1ef0b9dc517sm2808865ad.37.2024.05.13.05.45.24
 (version=TLS1_2 cipher=ECDHE-ECDSA-AES128-GCM-SHA256 bits=128/128);
 Mon, 13 May 2024 05:45:24 -0700 (PDT)
X-Relaying-Domain: iol.unh.edu
Date: Mon, 13 May 2024 05:45:24 -0700 (PDT)
Message-ID: <66420b64.170a0220.29eb2.007fSMTPIN_ADDED_MISSING@mx.google.com>
Received: from [172.17.0.2] (unknown [172.18.0.217])
 by postal.iol.unh.edu (Postfix) with ESMTP id 11EFF605C380;
 Mon, 13 May 2024 08:45:23 -0400 (EDT)
Subject: |SUCCESS| pw140026 [PATCH] bpf: don't verify classic bpfs
From: dpdklab@iol.unh.edu
To: Test Report <test-report@dpdk.org>
Cc: dpdk-test-reports@iol.unh.edu
In-Reply-To: <20240512055545.98297-1-yoav.w@claroty.com>
References: <20240512055545.98297-1-yoav.w@claroty.com>
Content-Type: text/plain
X-BeenThere: test-report@dpdk.org
X-Mailman-Version: 2.1.29
Precedence: list
List-Id: automatic DPDK test reports <test-report.dpdk.org>
List-Unsubscribe: <https://mails.dpdk.org/options/test-report>,
 <mailto:test-report-request@dpdk.org?subject=unsubscribe>
List-Archive: <http://mails.dpdk.org/archives/test-report/>
List-Post: <mailto:test-report@dpdk.org>
List-Help: <mailto:test-report-request@dpdk.org?subject=help>
List-Subscribe: <https://mails.dpdk.org/listinfo/test-report>,
 <mailto:test-report-request@dpdk.org?subject=subscribe>
Errors-To: test-report-bounces@dpdk.org

Test-Label: iol-unit-arm64-testing
Test-Status: SUCCESS
http://dpdk.org/patch/140026

_Testing PASS_

Submitter: Yoav Winstein <yoav.w@claroty.com>
Date: Sunday, May 12 2024 05:55:45 
DPDK git baseline: Repo:dpdk
  Branch: master
  CommitID:7e06c0de1952d3109a5b0c4779d7e7d8059c9d78

140026 --> testing pass

Test environment and result as below:

+-----------------------------+------------------------------+---------------------------+----------------+
|         Environment         | cryptodev_sw_snow3g_autotest | cryptodev_sw_zuc_autotest | dpdk_unit_test |
+=============================+==============================+===========================+================+
| Debian 12 (arm)             | PASS                         | PASS                      | PASS           |
+-----------------------------+------------------------------+---------------------------+----------------+
| CentOS Stream 9 (ARM)       | SKIPPED                      | SKIPPED                   | PASS           |
+-----------------------------+------------------------------+---------------------------+----------------+
| Debian 11 (Buster) (ARM)    | SKIPPED                      | SKIPPED                   | PASS           |
+-----------------------------+------------------------------+---------------------------+----------------+
| Fedora 37 (ARM)             | SKIPPED                      | SKIPPED                   | PASS           |
+-----------------------------+------------------------------+---------------------------+----------------+
| Fedora 38 (ARM)             | SKIPPED                      | SKIPPED                   | PASS           |
+-----------------------------+------------------------------+---------------------------+----------------+
| 32-bit Ubuntu 20.04.4 (ARM) | SKIPPED                      | SKIPPED                   | PASS           |
+-----------------------------+------------------------------+---------------------------+----------------+
| Fedora 39 (ARM)             | SKIPPED                      | SKIPPED                   | PASS           |
+-----------------------------+------------------------------+---------------------------+----------------+
| Ubuntu 20.04 (ARM)          | SKIPPED                      | SKIPPED                   | PASS           |
+-----------------------------+------------------------------+---------------------------+----------------+


Debian 12 (arm)
	Kernel: Container Host Kernel
	Compiler: gcc 12.2.0

CentOS Stream 9 (ARM)
	Kernel: Container Host Kernel
	Compiler: gcc 11.4.1

Debian 11 (Buster) (ARM)
	Kernel: Container Host Kernel
	Compiler: gcc 10.2.1

Fedora 37 (ARM)
	Kernel: Depends on container host
	Compiler: gcc 12.3.1

Fedora 38 (ARM)
	Kernel: Depends on container host
	Compiler: gcc 13.2.1

32-bit Ubuntu 20.04.4 (ARM)
	Kernel: 5.4.0-155-generic aarch64
	Compiler: gcc 9.4

Fedora 39 (ARM)
	Kernel: Depends on container host
	Compiler: gcc 13.2.1

Ubuntu 20.04 (ARM)
	Kernel: Container Host Kernel
	Compiler: gcc 9.4.0

To view detailed results, visit:
https://lab.dpdk.org/results/dashboard/patchsets/29942/

UNH-IOL DPDK Community Lab

To manage your email subscriptions, visit: 
https://lab.dpdk.org/results/dashboard/preferences/subscriptions/