From mboxrd@z Thu Jan  1 00:00:00 1970
Return-Path: <test-report-bounces@dpdk.org>
Received: from mails.dpdk.org (mails.dpdk.org [217.70.189.124])
	by inbox.dpdk.org (Postfix) with ESMTP id 732034401A
	for <public@inbox.dpdk.org>; Mon, 13 May 2024 15:03:17 +0200 (CEST)
Received: from mails.dpdk.org (localhost [127.0.0.1])
	by mails.dpdk.org (Postfix) with ESMTP id 6E84A40A8B;
	Mon, 13 May 2024 15:03:17 +0200 (CEST)
Received: from mail-pf1-f225.google.com (mail-pf1-f225.google.com
 [209.85.210.225])
 by mails.dpdk.org (Postfix) with ESMTP id 431D2402EC
 for <test-report@dpdk.org>; Mon, 13 May 2024 15:03:16 +0200 (CEST)
Received: by mail-pf1-f225.google.com with SMTP id
 d2e1a72fcca58-6f4603237e0so2941235b3a.0
 for <test-report@dpdk.org>; Mon, 13 May 2024 06:03:16 -0700 (PDT)
DKIM-Signature: v=1; a=rsa-sha256; c=relaxed/relaxed;
 d=iol.unh.edu; s=unh-iol; t=1715605395; x=1716210195; darn=dpdk.org;
 h=references:in-reply-to:cc:to:from:subject:message-id:date:from:to
 :cc:subject:date:message-id:reply-to;
 bh=211kxJebi/LP/1vNl9i/4ZcLFuHBMcND+PaORimN+yM=;
 b=Hx0vDXArzvW9G/dtF975/lbo+F5XhbFP8ImdsVt+V2PfDVriv1xFTDTiZ563blKFrA
 21s3vfeXHhXCD1NESVXaX2jPi3HajFT8KP7Dsr+Pfx9Ozp1FNr8uCwR61x8wTL0MoCA3
 V8+ieTfX8LQ3IsZRRYPa0kNc/B2Nm8+aHD5KY=
X-Google-DKIM-Signature: v=1; a=rsa-sha256; c=relaxed/relaxed;
 d=1e100.net; s=20230601; t=1715605395; x=1716210195;
 h=references:in-reply-to:cc:to:from:subject:message-id:date
 :x-gm-message-state:from:to:cc:subject:date:message-id:reply-to;
 bh=211kxJebi/LP/1vNl9i/4ZcLFuHBMcND+PaORimN+yM=;
 b=D4k8e+DifoChr8aAyKSMm1Nxl/Pj3Vcr0hhsOl8W1f74x3Tw0ru6xugBVg3E63o4Yr
 qdXU8KspKLVNlwf0retr94nxYBma4fOHWULsf+22YYxymJvqLXfGmUceqAJxSHoWCy5e
 efcsNSUdZhryAlDZvfwEAcg+HkK+PHZJrgdOEICKThA3+5WsAS434wmN4/kmV5hjCN/d
 9VLB6yq0rhe+HJsACV1VgaVSkem7X0+NAwbyn8H6E8eo9BMUOv0e3T17IITuvDYkj6RL
 2bAChgUq4MpM+71OdBMrgdg6gwH35FZiG8HJ2WNSQcpUT2UQhEYvumSVAerlTXw6ZwH2
 wJkg==
X-Gm-Message-State: AOJu0YxfPU7Sm2E+gjzd96UEcGCwrDi+XCs1Nv2HSYAoOgIeHTcHrEZF
 RoYohzouQtQMNliwxUnJBN6tDvlz+aRSx/EVZnilok0KXMd0b6ktUAQWm01O5orSS1Dg35xuWkh
 ep38AE7xfvBWqV/1j53/Ooaj9G8EPwJcS7lR4Pty9
X-Google-Smtp-Source: AGHT+IFA3uLWutcnIsnLmx5f7+KQP7lMJfzR4bI5dvak1mv1Oe62B/nAjAGtkE4W5rds52uXZAjVqbMTNHm0
X-Received: by 2002:a05:6a21:1f25:b0:1ad:8f18:8625 with SMTP id
 adf61e73a8af0-1afde1c4bdamr13076494637.28.1715605393966; 
 Mon, 13 May 2024 06:03:13 -0700 (PDT)
Received: from postal.iol.unh.edu (postal.iol.unh.edu. [132.177.123.84])
 by smtp-relay.gmail.com with ESMTPS id
 d2e1a72fcca58-6f4d2ac6e68sm537402b3a.13.2024.05.13.06.03.13
 (version=TLS1_2 cipher=ECDHE-ECDSA-AES128-GCM-SHA256 bits=128/128);
 Mon, 13 May 2024 06:03:13 -0700 (PDT)
X-Relaying-Domain: iol.unh.edu
Date: Mon, 13 May 2024 06:03:13 -0700 (PDT)
Message-ID: <66420f91.050a0220.f6b4a.c687SMTPIN_ADDED_MISSING@mx.google.com>
Received: from [172.17.0.3] (unknown [172.18.0.217])
 by postal.iol.unh.edu (Postfix) with ESMTP id 2086E605C380;
 Mon, 13 May 2024 09:03:13 -0400 (EDT)
Subject: |SUCCESS| pw140025 [PATCH] bpf: don't verify classic bpfs
From: dpdklab@iol.unh.edu
To: Test Report <test-report@dpdk.org>
Cc: dpdk-test-reports@iol.unh.edu
In-Reply-To: <20240512055109.96609-1-yoav.w@claroty.com>
References: <20240512055109.96609-1-yoav.w@claroty.com>
Content-Type: text/plain
X-BeenThere: test-report@dpdk.org
X-Mailman-Version: 2.1.29
Precedence: list
List-Id: automatic DPDK test reports <test-report.dpdk.org>
List-Unsubscribe: <https://mails.dpdk.org/options/test-report>,
 <mailto:test-report-request@dpdk.org?subject=unsubscribe>
List-Archive: <http://mails.dpdk.org/archives/test-report/>
List-Post: <mailto:test-report@dpdk.org>
List-Help: <mailto:test-report-request@dpdk.org?subject=help>
List-Subscribe: <https://mails.dpdk.org/listinfo/test-report>,
 <mailto:test-report-request@dpdk.org?subject=subscribe>
Errors-To: test-report-bounces@dpdk.org

Test-Label: iol-compile-amd64-testing
Test-Status: SUCCESS
http://dpdk.org/patch/140025

_Testing PASS_

Submitter: Yoav Winstein <yoav.w@claroty.com>
Date: Sunday, May 12 2024 05:51:09 
DPDK git baseline: Repo:dpdk
  Branch: master
  CommitID:7e06c0de1952d3109a5b0c4779d7e7d8059c9d78

140025 --> testing pass

Test environment and result as below:

+---------------------+--------------------+----------------------+-------------------+
|     Environment     | dpdk_meson_compile | dpdk_mingw64_compile | dpdk_msvc_compile |
+=====================+====================+======================+===================+
| FreeBSD 13.3        | PASS               | SKIPPED              | SKIPPED           |
+---------------------+--------------------+----------------------+-------------------+
| Windows Server 2019 | PASS               | PASS                 | SKIPPED           |
+---------------------+--------------------+----------------------+-------------------+
| FreeBSD 14.0        | PASS               | SKIPPED              | SKIPPED           |
+---------------------+--------------------+----------------------+-------------------+
| Windows Server 2022 | PASS               | PASS                 | PASS              |
+---------------------+--------------------+----------------------+-------------------+
| Debian Bullseye     | PASS               | SKIPPED              | SKIPPED           |
+---------------------+--------------------+----------------------+-------------------+
| Debian 12           | PASS               | SKIPPED              | SKIPPED           |
+---------------------+--------------------+----------------------+-------------------+
| CentOS Stream 8     | PASS               | SKIPPED              | SKIPPED           |
+---------------------+--------------------+----------------------+-------------------+
| Fedora 38           | PASS               | SKIPPED              | SKIPPED           |
+---------------------+--------------------+----------------------+-------------------+
| Fedora 39           | PASS               | SKIPPED              | SKIPPED           |
+---------------------+--------------------+----------------------+-------------------+
| Ubuntu 22.04        | PASS               | SKIPPED              | SKIPPED           |
+---------------------+--------------------+----------------------+-------------------+
| Ubuntu 20.04        | PASS               | SKIPPED              | SKIPPED           |
+---------------------+--------------------+----------------------+-------------------+
| RHEL8               | PASS               | SKIPPED              | SKIPPED           |
+---------------------+--------------------+----------------------+-------------------+


FreeBSD 13.3
	Kernel: 13.3-RELEASE-p1
	Compiler: clang 17.0.6

Windows Server 2019
	Kernel: 10.0.17763
	Compiler: clang 14.0 and gcc 8.1.0 (MinGW)

FreeBSD 14.0
	Kernel: 14.0
	Compiler: clang 16.0.6

Windows Server 2022
	Kernel: 10.0.20348.2031
	Compiler: clang 15.0.7, gcc 8.1.0 (MinGW), and MSVC VS 17.9

Debian Bullseye
	Kernel: 5.4.0-167-generic
	Compiler: gcc 10.2.1-6

Debian 12
	Kernel: Container Host Kernel
	Compiler: gcc 10.2.1

CentOS Stream 8
	Kernel: 5.4.0-167-generic
	Compiler: gcc 8.5.0 20210514

Fedora 38
	Kernel: Depends on container host
	Compiler: gcc 13.2.1

Fedora 39
	Kernel: Depends on container host
	Compiler: gcc 13.2.1

Ubuntu 22.04
	Kernel: 5.4.0-167-generic
	Compiler: gcc 11.4.0

Ubuntu 20.04
	Kernel: 5.4.0-167-generic
	Compiler: gcc 9.4.0-1ubuntu1~20.04.1

RHEL8
	Kernel: 5.4.0-167-generic
	Compiler: gcc 8.5.0 20210514 (Red Hat 8.5.0-20)

To view detailed results, visit:
https://lab.dpdk.org/results/dashboard/patchsets/29941/

UNH-IOL DPDK Community Lab

To manage your email subscriptions, visit: 
https://lab.dpdk.org/results/dashboard/preferences/subscriptions/