From mboxrd@z Thu Jan  1 00:00:00 1970
Return-Path: <test-report-bounces@dpdk.org>
Received: from mails.dpdk.org (mails.dpdk.org [217.70.189.124])
	by inbox.dpdk.org (Postfix) with ESMTP id 948D84401A
	for <public@inbox.dpdk.org>; Mon, 13 May 2024 15:12:33 +0200 (CEST)
Received: from mails.dpdk.org (localhost [127.0.0.1])
	by mails.dpdk.org (Postfix) with ESMTP id 90AC340DF8;
	Mon, 13 May 2024 15:12:33 +0200 (CEST)
Received: from mail-il1-f228.google.com (mail-il1-f228.google.com
 [209.85.166.228])
 by mails.dpdk.org (Postfix) with ESMTP id A50F1402EC
 for <test-report@dpdk.org>; Mon, 13 May 2024 15:12:32 +0200 (CEST)
Received: by mail-il1-f228.google.com with SMTP id
 e9e14a558f8ab-36c80f9c86bso21068395ab.0
 for <test-report@dpdk.org>; Mon, 13 May 2024 06:12:32 -0700 (PDT)
DKIM-Signature: v=1; a=rsa-sha256; c=relaxed/relaxed;
 d=iol.unh.edu; s=unh-iol; t=1715605952; x=1716210752; darn=dpdk.org;
 h=references:in-reply-to:cc:to:from:subject:message-id:date:from:to
 :cc:subject:date:message-id:reply-to;
 bh=ODS5lZ5Nid6bT7swrD2lhSMX4xIot9cprLkglNspqqA=;
 b=IxozxozkTGYYbPIRzIQSWXfxvzebS8tKOI2pAgwD5huZGCHseRlwK1fD7PQqN6IVZb
 wz5fYD7O8igvQhkqtlxWjgjKZX1I3I7VVPPusx7/Hirf7jBNKel9AD+/PVeGKhJpSBbP
 73bsl2r6QIZPB9zh66pTVODY9X8kOppA1mjZ0=
X-Google-DKIM-Signature: v=1; a=rsa-sha256; c=relaxed/relaxed;
 d=1e100.net; s=20230601; t=1715605952; x=1716210752;
 h=references:in-reply-to:cc:to:from:subject:message-id:date
 :x-gm-message-state:from:to:cc:subject:date:message-id:reply-to;
 bh=ODS5lZ5Nid6bT7swrD2lhSMX4xIot9cprLkglNspqqA=;
 b=n7unRp8fA2KMAZeKcKen/QpL2eTZ9Q2eQ2jAG82FDPd8Hm8ZIJ5PhBoLhVXDLHW1t+
 DEamQY0jHb1BkTspuHf50OCJnbddLFkoPmJvLe6vk42tSyFPNNw4hpzJownEOY4/RE9M
 sjwY10c65LKb/ICpHTKX+I+DXYR6y+fAkcxSEifFXkZ9EPtp6DlhMBqliiuPQYbMIYm2
 Mp1fpEBEa3t9peRMshTzVtzN/AGLkFMpuP90aIAWGyqTKvYF0GvzvIM+8VEGvrDDPY0Y
 PL9fgIoBF8w3iLgbol2jF5BwhG5EloRYX/sgpUMOPb6w0tKT7QvLstbv7udOeDxrhL5k
 /8eA==
X-Gm-Message-State: AOJu0YzW3KKM6vi90Dv95nJENEhnPK6F8IVcRx4Wb5bLexSQvqOekX4+
 CedydOyx56yYJAw2lS6EtXkCcZNdxTI2WFKVmZGpgNMiFSypBtjTnZXM1NW2LPUsHAJOYXMgDD8
 Dm71gc1qye+/vowQ9uB0l4EYSV+BwuqpnhzsaEQy1
X-Google-Smtp-Source: AGHT+IEiG95sfzCwuHZBwQCIenlQldZBYzjEzBx3j+IjCRsYxaPcU+xJH1Ba7HjGp+sRZwvM45DrG7iseonP
X-Received: by 2002:a92:cdaf:0:b0:36c:37c1:c72c with SMTP id
 e9e14a558f8ab-36cc143f0d0mr171525655ab.6.1715605952038; 
 Mon, 13 May 2024 06:12:32 -0700 (PDT)
Received: from postal.iol.unh.edu (postal.iol.unh.edu. [132.177.123.84])
 by smtp-relay.gmail.com with ESMTPS id
 e9e14a558f8ab-36cb9e04402sm4002415ab.78.2024.05.13.06.12.31
 (version=TLS1_2 cipher=ECDHE-ECDSA-AES128-GCM-SHA256 bits=128/128);
 Mon, 13 May 2024 06:12:32 -0700 (PDT)
X-Relaying-Domain: iol.unh.edu
Date: Mon, 13 May 2024 06:12:32 -0700 (PDT)
Message-ID: <664211c0.920a0220.486fb.5214SMTPIN_ADDED_MISSING@mx.google.com>
Received: from [172.21.0.7] (unknown [172.18.0.240])
 by postal.iol.unh.edu (Postfix) with ESMTP id 86CB0605C380;
 Mon, 13 May 2024 09:12:31 -0400 (EDT)
Subject: |SUCCESS| pw140026 [PATCH] bpf: don't verify classic bpfs
From: dpdklab@iol.unh.edu
To: Test Report <test-report@dpdk.org>
Cc: dpdk-test-reports@iol.unh.edu
In-Reply-To: <20240512055545.98297-1-yoav.w@claroty.com>
References: <20240512055545.98297-1-yoav.w@claroty.com>
Content-Type: text/plain
X-BeenThere: test-report@dpdk.org
X-Mailman-Version: 2.1.29
Precedence: list
List-Id: automatic DPDK test reports <test-report.dpdk.org>
List-Unsubscribe: <https://mails.dpdk.org/options/test-report>,
 <mailto:test-report-request@dpdk.org?subject=unsubscribe>
List-Archive: <http://mails.dpdk.org/archives/test-report/>
List-Post: <mailto:test-report@dpdk.org>
List-Help: <mailto:test-report-request@dpdk.org?subject=help>
List-Subscribe: <https://mails.dpdk.org/listinfo/test-report>,
 <mailto:test-report-request@dpdk.org?subject=subscribe>
Errors-To: test-report-bounces@dpdk.org

Test-Label: iol-unit-amd64-testing
Test-Status: SUCCESS
http://dpdk.org/patch/140026

_Testing PASS_

Submitter: Yoav Winstein <yoav.w@claroty.com>
Date: Sunday, May 12 2024 05:55:45 
DPDK git baseline: Repo:dpdk
  Branch: master
  CommitID:7e06c0de1952d3109a5b0c4779d7e7d8059c9d78

140026 --> testing pass

Test environment and result as below:

+-----------------+----------------+
|   Environment   | dpdk_unit_test |
+=================+================+
| CentOS Stream 9 | PASS           |
+-----------------+----------------+
| Debian Bullseye | PASS           |
+-----------------+----------------+
| CentOS Stream 8 | PASS           |
+-----------------+----------------+
| Debian 12       | PASS           |
+-----------------+----------------+
| Fedora 37       | PASS           |
+-----------------+----------------+
| Ubuntu 20.04    | PASS           |
+-----------------+----------------+
| Fedora 38       | PASS           |
+-----------------+----------------+
| Fedora 39       | PASS           |
+-----------------+----------------+
| Ubuntu 22.04    | PASS           |
+-----------------+----------------+
| RHEL8           | PASS           |
+-----------------+----------------+


CentOS Stream 9
	Kernel: 5.4.0-167-generic
	Compiler: gcc 11.4.1 20230605

Debian Bullseye
	Kernel: 5.4.0-167-generic
	Compiler: gcc 10.2.1-6

CentOS Stream 8
	Kernel: 5.4.0-167-generic
	Compiler: gcc 8.5.0 20210514

Debian 12
	Kernel: Container Host Kernel
	Compiler: gcc 10.2.1

Fedora 37
	Kernel: Depends on container host system
	Compiler: gcc 12.3.1

Ubuntu 20.04
	Kernel: 5.4.0-167-generic
	Compiler: gcc 9.4.0-1ubuntu1~20.04.1

Fedora 38
	Kernel: Depends on container host
	Compiler: gcc 13.2.1

Fedora 39
	Kernel: Depends on container host
	Compiler: gcc 13.2.1

Ubuntu 22.04
	Kernel: 5.4.0-167-generic
	Compiler: gcc 11.4.0

RHEL8
	Kernel: 5.4.0-167-generic
	Compiler: gcc 8.5.0 20210514 (Red Hat 8.5.0-20)

To view detailed results, visit:
https://lab.dpdk.org/results/dashboard/patchsets/29942/

UNH-IOL DPDK Community Lab

To manage your email subscriptions, visit: 
https://lab.dpdk.org/results/dashboard/preferences/subscriptions/