From mboxrd@z Thu Jan  1 00:00:00 1970
Return-Path: <test-report-bounces@dpdk.org>
Received: from mails.dpdk.org (mails.dpdk.org [217.70.189.124])
	by inbox.dpdk.org (Postfix) with ESMTP id 209AB4401B
	for <public@inbox.dpdk.org>; Mon, 13 May 2024 16:22:02 +0200 (CEST)
Received: from mails.dpdk.org (localhost [127.0.0.1])
	by mails.dpdk.org (Postfix) with ESMTP id EBB30402F2;
	Mon, 13 May 2024 16:22:01 +0200 (CEST)
Received: from mail-io1-f100.google.com (mail-io1-f100.google.com
 [209.85.166.100])
 by mails.dpdk.org (Postfix) with ESMTP id 4E377402EC
 for <test-report@dpdk.org>; Mon, 13 May 2024 16:22:00 +0200 (CEST)
Received: by mail-io1-f100.google.com with SMTP id
 ca18e2360f4ac-7e1d23df7f7so96699139f.2
 for <test-report@dpdk.org>; Mon, 13 May 2024 07:22:00 -0700 (PDT)
DKIM-Signature: v=1; a=rsa-sha256; c=relaxed/relaxed;
 d=iol.unh.edu; s=unh-iol; t=1715610119; x=1716214919; darn=dpdk.org;
 h=references:in-reply-to:cc:to:from:subject:message-id:date:from:to
 :cc:subject:date:message-id:reply-to;
 bh=CwtnDM8cM6ZhBsVzzbM4uM7DBtagwdrT57pvuNvZsp0=;
 b=YnOXCMIbDPb5RVJpO1tR4LIK/ceONr/R22NxLChP1+GX1zecJ8BD1m2twxQRHpcwyW
 8CDwQZyTVEJdQoWukXsLYAWjtNoKjRLiOi0OyZgSBNfTbtOYGKgctBFZbX50AkeVbgGW
 CBa1Z8R6RLp5sxGOXmQKJvfxKk8jR9Dw3zST8=
X-Google-DKIM-Signature: v=1; a=rsa-sha256; c=relaxed/relaxed;
 d=1e100.net; s=20230601; t=1715610119; x=1716214919;
 h=references:in-reply-to:cc:to:from:subject:message-id:date
 :x-gm-message-state:from:to:cc:subject:date:message-id:reply-to;
 bh=CwtnDM8cM6ZhBsVzzbM4uM7DBtagwdrT57pvuNvZsp0=;
 b=rQdIgZli5avTbCElQ4KxAluI8eU1nA5cz0pITbIJc76kl/0tOyflvvgv6flbiwb1Al
 GeVoykAZ2FIvJvNZhNVcutHdRvfcudEWLXV8kx7ziuYZQljTZJ1w3/gz5L40VshFvUlH
 u5ApDXZCV4+52cgqbrWFNAkOzzxiuWLySMIVlWuO+2WT87JEJ7OnTmFgXm+ayEF/THQe
 4joNi+UublFgUZFsUHNEvqc89B/m88qvwCfPM+GrPxkfcTHHVDHYU7tO8XdUPO4AbAQF
 tYLZpdXuenQ2zHCEg/bQOaGLsXxAMymup5TJI2Sr35DOWWJjrBUXCaGYuwhbVPxzr3Kd
 IXnA==
X-Gm-Message-State: AOJu0Yy78KNlEfGTuabC+okdy9BpbHHF7ISZu1oiaox/rr4pwIiozGfO
 WcK/Te2TCGLn5kr/JaNVlzdRw3+ykEgdTy5y3gtVSFQ/IL3OQ+BWKm7aRGAIP93k9Chz6lOHn/Q
 E644g5/GmaV3z5TE3g9NOAIyZCE4NomluVed3iFKwZhz9+5RXC8og8vDF
X-Google-Smtp-Source: AGHT+IFMN7Zykj+xucuMzwWs6rJ8T1cRrZOLGgmCkrjqxjUQvAWqb4qxcwpwIkmTT3W73zWlfauStlJxS2q0
X-Received: by 2002:a5d:9f56:0:b0:7e1:8d41:73da with SMTP id
 ca18e2360f4ac-7e1b521ab88mr1187795839f.17.1715610119650; 
 Mon, 13 May 2024 07:21:59 -0700 (PDT)
Received: from postal.iol.unh.edu (postal.iol.unh.edu.
 [2606:4100:3880:1234::84]) by smtp-relay.gmail.com with ESMTPS id
 8926c6da1cb9f-489374b6809sm429975173.82.2024.05.13.07.21.59
 (version=TLS1_2 cipher=ECDHE-ECDSA-AES128-GCM-SHA256 bits=128/128);
 Mon, 13 May 2024 07:21:59 -0700 (PDT)
X-Relaying-Domain: iol.unh.edu
Date: Mon, 13 May 2024 07:21:59 -0700 (PDT)
Message-ID: <66422207.050a0220.c1aa6.7518SMTPIN_ADDED_MISSING@mx.google.com>
Received: from [172.17.0.2] (unknown [172.18.0.217])
 by postal.iol.unh.edu (Postfix) with ESMTP id 0E356605C380;
 Mon, 13 May 2024 10:21:58 -0400 (EDT)
Subject: |SUCCESS| pw140025 [PATCH] bpf: don't verify classic bpfs
From: dpdklab@iol.unh.edu
To: Test Report <test-report@dpdk.org>
Cc: dpdk-test-reports@iol.unh.edu
In-Reply-To: <20240512055109.96609-1-yoav.w@claroty.com>
References: <20240512055109.96609-1-yoav.w@claroty.com>
Content-Type: text/plain
X-BeenThere: test-report@dpdk.org
X-Mailman-Version: 2.1.29
Precedence: list
List-Id: automatic DPDK test reports <test-report.dpdk.org>
List-Unsubscribe: <https://mails.dpdk.org/options/test-report>,
 <mailto:test-report-request@dpdk.org?subject=unsubscribe>
List-Archive: <http://mails.dpdk.org/archives/test-report/>
List-Post: <mailto:test-report@dpdk.org>
List-Help: <mailto:test-report-request@dpdk.org?subject=help>
List-Subscribe: <https://mails.dpdk.org/listinfo/test-report>,
 <mailto:test-report-request@dpdk.org?subject=subscribe>
Errors-To: test-report-bounces@dpdk.org

Test-Label: iol-compile-arm64-testing
Test-Status: SUCCESS
http://dpdk.org/patch/140025

_Testing PASS_

Submitter: Yoav Winstein <yoav.w@claroty.com>
Date: Sunday, May 12 2024 05:51:09 
DPDK git baseline: Repo:dpdk
  Branch: master
  CommitID:7e06c0de1952d3109a5b0c4779d7e7d8059c9d78

140025 --> testing pass

Test environment and result as below:

+----------------------------------------+--------------------+
|              Environment               | dpdk_meson_compile |
+========================================+====================+
| Ubuntu 20.04 ARM SVE                   | PASS               |
+----------------------------------------+--------------------+
| Debian 12 with MUSDK                   | PASS               |
+----------------------------------------+--------------------+
| Ubuntu 20.04 ARM GCC Cross Compile     | PASS               |
+----------------------------------------+--------------------+
| Ubuntu 20.04 aarch32 GCC Cross Compile | PASS               |
+----------------------------------------+--------------------+
| Fedora 37 (ARM)                        | PASS               |
+----------------------------------------+--------------------+
| Ubuntu 20.04 ARM Clang Cross Compile   | PASS               |
+----------------------------------------+--------------------+
| Fedora 39 (ARM)                        | PASS               |
+----------------------------------------+--------------------+
| Debian 11 (Buster) (ARM)               | PASS               |
+----------------------------------------+--------------------+
| Fedora 38 (ARM)                        | PASS               |
+----------------------------------------+--------------------+
| Debian 12 (arm)                        | PASS               |
+----------------------------------------+--------------------+
| Ubuntu 20.04 (ARM)                     | PASS               |
+----------------------------------------+--------------------+
| CentOS Stream 9 (ARM)                  | PASS               |
+----------------------------------------+--------------------+
| Fedora 39 (ARM Clang)                  | PASS               |
+----------------------------------------+--------------------+


Ubuntu 20.04 ARM SVE
	Kernel: 5.4.0-167-generic
	Compiler: gcc (Ubuntu 10.5.0-1ubuntu1~20.04) 10.5.0

Debian 12 with MUSDK
	Kernel: Container Host Kernel
	Compiler: gcc 12.2.0

Ubuntu 20.04 ARM GCC Cross Compile
	Kernel: 5.4.0-167-generic
	Compiler: aarch64-linux-gnu-gcc (Ubuntu 9.4.0-1ubuntu1~20.04.2) 9.4.0

Ubuntu 20.04 aarch32 GCC Cross Compile
	Kernel: 5.4.0-167-generic
	Compiler: gcc 9.4.0

Fedora 37 (ARM)
	Kernel: Depends on container host
	Compiler: gcc 12.3.1

Ubuntu 20.04 ARM Clang Cross Compile
	Kernel: 5.4.0-72-generic
	Compiler: clang 10.0.0-4ubuntu1

Fedora 39 (ARM)
	Kernel: Depends on container host
	Compiler: gcc 13.2.1

Debian 11 (Buster) (ARM)
	Kernel: Container Host Kernel
	Compiler: gcc 10.2.1

Fedora 38 (ARM)
	Kernel: Depends on container host
	Compiler: gcc 13.2.1

Debian 12 (arm)
	Kernel: Container Host Kernel
	Compiler: gcc 12.2.0

Ubuntu 20.04 (ARM)
	Kernel: Container Host Kernel
	Compiler: gcc 9.4.0

CentOS Stream 9 (ARM)
	Kernel: Container Host Kernel
	Compiler: gcc 11.4.1

Fedora 39 (ARM Clang)
	Kernel: Depends on container host
	Compiler: clang 17.0.6

To view detailed results, visit:
https://lab.dpdk.org/results/dashboard/patchsets/29941/

UNH-IOL DPDK Community Lab

To manage your email subscriptions, visit: 
https://lab.dpdk.org/results/dashboard/preferences/subscriptions/