From mboxrd@z Thu Jan  1 00:00:00 1970
Return-Path: <test-report-bounces@dpdk.org>
Received: from mails.dpdk.org (mails.dpdk.org [217.70.189.124])
	by inbox.dpdk.org (Postfix) with ESMTP id 46D364401C
	for <public@inbox.dpdk.org>; Mon, 13 May 2024 18:55:04 +0200 (CEST)
Received: from mails.dpdk.org (localhost [127.0.0.1])
	by mails.dpdk.org (Postfix) with ESMTP id 43BB9402F0;
	Mon, 13 May 2024 18:55:04 +0200 (CEST)
Received: from mail-il1-f227.google.com (mail-il1-f227.google.com
 [209.85.166.227])
 by mails.dpdk.org (Postfix) with ESMTP id 237B0402CD
 for <test-report@dpdk.org>; Mon, 13 May 2024 18:55:03 +0200 (CEST)
Received: by mail-il1-f227.google.com with SMTP id
 e9e14a558f8ab-36c5d9d8fd5so15396515ab.2
 for <test-report@dpdk.org>; Mon, 13 May 2024 09:55:03 -0700 (PDT)
DKIM-Signature: v=1; a=rsa-sha256; c=relaxed/relaxed;
 d=iol.unh.edu; s=unh-iol; t=1715619302; x=1716224102; darn=dpdk.org;
 h=references:in-reply-to:cc:to:from:subject:message-id:date:from:to
 :cc:subject:date:message-id:reply-to;
 bh=RNhpOBrxzI+nITadzuaP+R+wXP7wi+a2P5M3jg+shNY=;
 b=BLkHJpw7De32VhUyEZIG8YGDejLWkyJx7HWFnrMiguyCrI8iOOkk4UvK3ldXSTBqty
 Pjbc9RIc+WX6pMuDAbMP/zm2/+g9bAsJfb6zwZdpUDgzsJvpkSCBHHpwZ5yvDiQuFkhd
 KSTAzEnZy32UHMVV8OwBKxSxC/6iOIX2gAwL0=
X-Google-DKIM-Signature: v=1; a=rsa-sha256; c=relaxed/relaxed;
 d=1e100.net; s=20230601; t=1715619302; x=1716224102;
 h=references:in-reply-to:cc:to:from:subject:message-id:date
 :x-gm-message-state:from:to:cc:subject:date:message-id:reply-to;
 bh=RNhpOBrxzI+nITadzuaP+R+wXP7wi+a2P5M3jg+shNY=;
 b=sQc2PBzpCPUbs0oRgsv2jmRScyUc7bnASTei3HlnsmH2Tl2P/Vsr8nRLaSOrfD78NB
 T6c9lEXEMbtbjaZzACzt8JiOhrf5a6DiJ1b4PZyamL1HmDs88Ipl3ivoYKLghaj5iN3D
 T8ouRWDNIjvpwYJTqCQqtnpDEBakdz6TaMsTySsh81Xwhe1e6gY4ii2hsfkhztgRvvZm
 LTBBMELm8ta/04tRYTgO593zstDUd5rkwDQ1ws9fcX5zXt69gI4xNNow5RmOnHCre1vJ
 /NF3wesAvjRDO6G3BH8oPAnPOgQhkeazcfWWo+JubFELtCAnThLFCKiiGl+qoew5MviC
 3psQ==
X-Gm-Message-State: AOJu0Yy8iUxEZGgZDUju8y9cJqcbPHH0R1mjdTVv614xG6ncSUKzzrzh
 DuNLm5moZfkS954Ud08P69rCeDCgPyqZv+r//bhjvBxY1vBPMHYKvWxCybDrzZlT5dp9N1C5ZTz
 wVywy86sIexCA6Q3DxshULhknXFvSaREI5Wx9dd5ESrEXtcOqvK1Dfn44
X-Google-Smtp-Source: AGHT+IFtCB70qNPxYAnK35rDn3vMFjv0pUQZbrwTRtMjOBujRbuB5scdsEkN2kNxT2slG9BapfwLv2OCpKiF
X-Received: by 2002:a05:6e02:1b0d:b0:36b:3af2:2349 with SMTP id
 e9e14a558f8ab-36cc14bd335mr133759855ab.15.1715619302534; 
 Mon, 13 May 2024 09:55:02 -0700 (PDT)
Received: from postal.iol.unh.edu (postal.iol.unh.edu.
 [2606:4100:3880:1234::84]) by smtp-relay.gmail.com with ESMTPS id
 e9e14a558f8ab-36cb9de59a1sm4167455ab.50.2024.05.13.09.55.02
 (version=TLS1_2 cipher=ECDHE-ECDSA-AES128-GCM-SHA256 bits=128/128);
 Mon, 13 May 2024 09:55:02 -0700 (PDT)
X-Relaying-Domain: iol.unh.edu
Date: Mon, 13 May 2024 09:55:02 -0700 (PDT)
Message-ID: <664245e6.050a0220.bb80a.6acfSMTPIN_ADDED_MISSING@mx.google.com>
Received: from [172.21.0.6] (unknown [172.18.0.240])
 by postal.iol.unh.edu (Postfix) with ESMTP id 12CA6605C380;
 Mon, 13 May 2024 12:55:02 -0400 (EDT)
Subject: |SUCCESS| pw140030-140038 [PATCH] [9/9] doc: reword rcu library sect
From: dpdklab@iol.unh.edu
To: Test Report <test-report@dpdk.org>
Cc: dpdk-test-reports@iol.unh.edu
In-Reply-To: <20240513155911.31872-10-nandinipersad361@gmail.com>
References: <20240513155911.31872-10-nandinipersad361@gmail.com>
Content-Type: text/plain
X-BeenThere: test-report@dpdk.org
X-Mailman-Version: 2.1.29
Precedence: list
List-Id: automatic DPDK test reports <test-report.dpdk.org>
List-Unsubscribe: <https://mails.dpdk.org/options/test-report>,
 <mailto:test-report-request@dpdk.org?subject=unsubscribe>
List-Archive: <http://mails.dpdk.org/archives/test-report/>
List-Post: <mailto:test-report@dpdk.org>
List-Help: <mailto:test-report-request@dpdk.org?subject=help>
List-Subscribe: <https://mails.dpdk.org/listinfo/test-report>,
 <mailto:test-report-request@dpdk.org?subject=subscribe>
Errors-To: test-report-bounces@dpdk.org

Test-Label: iol-compile-amd64-testing
Test-Status: SUCCESS
http://dpdk.org/patch/140038

_Testing PASS_

Submitter: Nandini Persad <nandinipersad361@gmail.com>
Date: Monday, May 13 2024 15:59:11 
DPDK git baseline: Repo:dpdk
  Branch: master
  CommitID:7e06c0de1952d3109a5b0c4779d7e7d8059c9d78

140030-140038 --> testing pass

Test environment and result as below:

+---------------------+--------------------+----------------------+-------------------+
|     Environment     | dpdk_meson_compile | dpdk_mingw64_compile | dpdk_msvc_compile |
+=====================+====================+======================+===================+
| Debian Bullseye     | PASS               | SKIPPED              | SKIPPED           |
+---------------------+--------------------+----------------------+-------------------+
| FreeBSD 13.3        | PASS               | SKIPPED              | SKIPPED           |
+---------------------+--------------------+----------------------+-------------------+
| CentOS Stream 8     | PASS               | SKIPPED              | SKIPPED           |
+---------------------+--------------------+----------------------+-------------------+
| Fedora 37           | PASS               | SKIPPED              | SKIPPED           |
+---------------------+--------------------+----------------------+-------------------+
| Windows Server 2019 | PASS               | PASS                 | SKIPPED           |
+---------------------+--------------------+----------------------+-------------------+
| Fedora 38           | PASS               | SKIPPED              | SKIPPED           |
+---------------------+--------------------+----------------------+-------------------+
| Debian 12           | PASS               | SKIPPED              | SKIPPED           |
+---------------------+--------------------+----------------------+-------------------+
| Windows Server 2022 | PASS               | PASS                 | PASS              |
+---------------------+--------------------+----------------------+-------------------+
| Ubuntu 22.04        | PASS               | SKIPPED              | SKIPPED           |
+---------------------+--------------------+----------------------+-------------------+
| FreeBSD 14.0        | PASS               | SKIPPED              | SKIPPED           |
+---------------------+--------------------+----------------------+-------------------+
| openSUSE Leap 15    | PASS               | SKIPPED              | SKIPPED           |
+---------------------+--------------------+----------------------+-------------------+
| RHEL8               | PASS               | SKIPPED              | SKIPPED           |
+---------------------+--------------------+----------------------+-------------------+


Debian Bullseye
	Kernel: 5.4.0-167-generic
	Compiler: gcc 10.2.1-6

FreeBSD 13.3
	Kernel: 13.3-RELEASE-p1
	Compiler: clang 17.0.6

CentOS Stream 8
	Kernel: 5.4.0-167-generic
	Compiler: gcc 8.5.0 20210514

Fedora 37
	Kernel: Depends on container host system
	Compiler: gcc 12.3.1

Windows Server 2019
	Kernel: 10.0.17763
	Compiler: clang 14.0 and gcc 8.1.0 (MinGW)

Fedora 38
	Kernel: Depends on container host
	Compiler: gcc 13.2.1

Debian 12
	Kernel: Container Host Kernel
	Compiler: gcc 10.2.1

Windows Server 2022
	Kernel: 10.0.20348.2031
	Compiler: clang 15.0.7, gcc 8.1.0 (MinGW), and MSVC VS 17.9

Ubuntu 22.04
	Kernel: 5.4.0-167-generic
	Compiler: gcc 11.4.0

FreeBSD 14.0
	Kernel: 14.0
	Compiler: clang 16.0.6

openSUSE Leap 15
	Kernel: 5.4.0-167-generic
	Compiler: gcc 7.5.0

RHEL8
	Kernel: 5.4.0-167-generic
	Compiler: gcc 8.5.0 20210514 (Red Hat 8.5.0-20)

To view detailed results, visit:
https://lab.dpdk.org/results/dashboard/patchsets/29946/

UNH-IOL DPDK Community Lab

To manage your email subscriptions, visit: 
https://lab.dpdk.org/results/dashboard/preferences/subscriptions/