From mboxrd@z Thu Jan  1 00:00:00 1970
Return-Path: <test-report-bounces@dpdk.org>
Received: from mails.dpdk.org (mails.dpdk.org [217.70.189.124])
	by inbox.dpdk.org (Postfix) with ESMTP id EF2AD4401C
	for <public@inbox.dpdk.org>; Mon, 13 May 2024 18:57:24 +0200 (CEST)
Received: from mails.dpdk.org (localhost [127.0.0.1])
	by mails.dpdk.org (Postfix) with ESMTP id EA7D2402F0;
	Mon, 13 May 2024 18:57:24 +0200 (CEST)
Received: from mail-il1-f227.google.com (mail-il1-f227.google.com
 [209.85.166.227])
 by mails.dpdk.org (Postfix) with ESMTP id 493CA402CD
 for <test-report@dpdk.org>; Mon, 13 May 2024 18:57:23 +0200 (CEST)
Received: by mail-il1-f227.google.com with SMTP id
 e9e14a558f8ab-36cc579fd48so14282065ab.1
 for <test-report@dpdk.org>; Mon, 13 May 2024 09:57:23 -0700 (PDT)
DKIM-Signature: v=1; a=rsa-sha256; c=relaxed/relaxed;
 d=iol.unh.edu; s=unh-iol; t=1715619442; x=1716224242; darn=dpdk.org;
 h=references:in-reply-to:cc:to:from:subject:message-id:date:from:to
 :cc:subject:date:message-id:reply-to;
 bh=QeYlp4R0bzJjwMgRiG250bwnN0Yd2lGBM4+j46jyZb0=;
 b=hBeIfbIjgi1MfvORUFhkguJLvhnsb39vqMlSxoY6iY7v4T7l9bwoHy1rp0Mto30SVM
 D4h3ShANBMe7rqSy3iCBRP3BwBbATvfyk6+3GUv7OtQ5pvkUXIvgsozW87j9JKLVYTH6
 4AmWuU+jiJ8ZbXuZogaciyveydr0oru0B6KMo=
X-Google-DKIM-Signature: v=1; a=rsa-sha256; c=relaxed/relaxed;
 d=1e100.net; s=20230601; t=1715619442; x=1716224242;
 h=references:in-reply-to:cc:to:from:subject:message-id:date
 :x-gm-message-state:from:to:cc:subject:date:message-id:reply-to;
 bh=QeYlp4R0bzJjwMgRiG250bwnN0Yd2lGBM4+j46jyZb0=;
 b=W4u5e4Td93qBlMiyyfHjrYi3EUm4GEcqAex8ZG6YwGqKhoEuzQh0qQGqGnX7WIoKHm
 zeSsY0mcVgLzTvqj1bwNGY1keECORrZWi8Ld+O807s5Y8UUkBgIde5+ewzaQJDyy4YxG
 18MjodIz9sp2sDHssfaGJ+aZXMJywBD/iD1yalug1PZynDZe47tK+K/0iCMovgNAbgPh
 8/iDqgKjvURJEmVHbkBVenQLK5WVRoJangyzhAg3ReK86tYPynGQLDFMrN3iKBxWMa8D
 9z2zG/yuALTiyWMVtppbK5ezaGAVqKFiMhnZLY5jWX1ugRv0RxUA1jZrHdwgBB6pB+dm
 6wQw==
X-Gm-Message-State: AOJu0YyUMzNlssGmDJZAW5fmov/XgK6GZwS63dFvD6Ql0Drg2RP0UxQs
 tSXVNWEWdUGup0H6xXypGWqGhJblsAT1wBqyALtAStFRQRWn+CZYx32DHnAfUXlp1npZJN6HJEL
 FKR0QpE98FW757ilCgQ1wlRKvmGyAKeS+qm9DVggN0wsHEBPXMLxysSom
X-Google-Smtp-Source: AGHT+IFKwg+4sE0PMAnNO+rFJ3Q38XAltknSo9yay1znz80ZxPQ//w4u0942BBG5rPk+dzSJlUYpDP0yumQo
X-Received: by 2002:a05:6e02:1648:b0:36a:686:b3bf with SMTP id
 e9e14a558f8ab-36cc148e3c2mr133150345ab.17.1715619442679; 
 Mon, 13 May 2024 09:57:22 -0700 (PDT)
Received: from postal.iol.unh.edu (postal.iol.unh.edu.
 [2606:4100:3880:1234::84]) by smtp-relay.gmail.com with ESMTPS id
 e9e14a558f8ab-36cb9d22d66sm4206805ab.5.2024.05.13.09.57.22
 (version=TLS1_2 cipher=ECDHE-ECDSA-AES128-GCM-SHA256 bits=128/128);
 Mon, 13 May 2024 09:57:22 -0700 (PDT)
X-Relaying-Domain: iol.unh.edu
Date: Mon, 13 May 2024 09:57:22 -0700 (PDT)
Message-ID: <66424672.050a0220.932c1.80a7SMTPIN_ADDED_MISSING@mx.google.com>
Received: from [172.21.0.6] (unknown [172.18.0.240])
 by postal.iol.unh.edu (Postfix) with ESMTP id 35E52605C380;
 Mon, 13 May 2024 12:57:22 -0400 (EDT)
Subject: |SUCCESS| pw140030-140038 [PATCH] [9/9] doc: reword rcu library sect
From: dpdklab@iol.unh.edu
To: Test Report <test-report@dpdk.org>
Cc: dpdk-test-reports@iol.unh.edu
In-Reply-To: <20240513155911.31872-10-nandinipersad361@gmail.com>
References: <20240513155911.31872-10-nandinipersad361@gmail.com>
Content-Type: text/plain
X-BeenThere: test-report@dpdk.org
X-Mailman-Version: 2.1.29
Precedence: list
List-Id: automatic DPDK test reports <test-report.dpdk.org>
List-Unsubscribe: <https://mails.dpdk.org/options/test-report>,
 <mailto:test-report-request@dpdk.org?subject=unsubscribe>
List-Archive: <http://mails.dpdk.org/archives/test-report/>
List-Post: <mailto:test-report@dpdk.org>
List-Help: <mailto:test-report-request@dpdk.org?subject=help>
List-Subscribe: <https://mails.dpdk.org/listinfo/test-report>,
 <mailto:test-report-request@dpdk.org?subject=subscribe>
Errors-To: test-report-bounces@dpdk.org

Test-Label: iol-compile-amd64-testing
Test-Status: SUCCESS
http://dpdk.org/patch/140038

_Testing PASS_

Submitter: Nandini Persad <nandinipersad361@gmail.com>
Date: Monday, May 13 2024 15:59:11 
DPDK git baseline: Repo:dpdk
  Branch: master
  CommitID:7e06c0de1952d3109a5b0c4779d7e7d8059c9d78

140030-140038 --> testing pass

Test environment and result as below:

+---------------------+--------------------+----------------------+-------------------+
|     Environment     | dpdk_meson_compile | dpdk_mingw64_compile | dpdk_msvc_compile |
+=====================+====================+======================+===================+
| Debian Bullseye     | PASS               | SKIPPED              | SKIPPED           |
+---------------------+--------------------+----------------------+-------------------+
| FreeBSD 13.3        | PASS               | SKIPPED              | SKIPPED           |
+---------------------+--------------------+----------------------+-------------------+
| CentOS Stream 8     | PASS               | SKIPPED              | SKIPPED           |
+---------------------+--------------------+----------------------+-------------------+
| Fedora 37           | PASS               | SKIPPED              | SKIPPED           |
+---------------------+--------------------+----------------------+-------------------+
| Windows Server 2019 | PASS               | PASS                 | SKIPPED           |
+---------------------+--------------------+----------------------+-------------------+
| Fedora 38           | PASS               | SKIPPED              | SKIPPED           |
+---------------------+--------------------+----------------------+-------------------+
| Debian 12           | PASS               | SKIPPED              | SKIPPED           |
+---------------------+--------------------+----------------------+-------------------+
| Windows Server 2022 | PASS               | PASS                 | PASS              |
+---------------------+--------------------+----------------------+-------------------+
| Ubuntu 22.04        | PASS               | SKIPPED              | SKIPPED           |
+---------------------+--------------------+----------------------+-------------------+
| FreeBSD 14.0        | PASS               | SKIPPED              | SKIPPED           |
+---------------------+--------------------+----------------------+-------------------+
| openSUSE Leap 15    | PASS               | SKIPPED              | SKIPPED           |
+---------------------+--------------------+----------------------+-------------------+
| RHEL8               | PASS               | SKIPPED              | SKIPPED           |
+---------------------+--------------------+----------------------+-------------------+
| CentOS Stream 9     | PASS               | SKIPPED              | SKIPPED           |
+---------------------+--------------------+----------------------+-------------------+


Debian Bullseye
	Kernel: 5.4.0-167-generic
	Compiler: gcc 10.2.1-6

FreeBSD 13.3
	Kernel: 13.3-RELEASE-p1
	Compiler: clang 17.0.6

CentOS Stream 8
	Kernel: 5.4.0-167-generic
	Compiler: gcc 8.5.0 20210514

Fedora 37
	Kernel: Depends on container host system
	Compiler: gcc 12.3.1

Windows Server 2019
	Kernel: 10.0.17763
	Compiler: clang 14.0 and gcc 8.1.0 (MinGW)

Fedora 38
	Kernel: Depends on container host
	Compiler: gcc 13.2.1

Debian 12
	Kernel: Container Host Kernel
	Compiler: gcc 10.2.1

Windows Server 2022
	Kernel: 10.0.20348.2031
	Compiler: clang 15.0.7, gcc 8.1.0 (MinGW), and MSVC VS 17.9

Ubuntu 22.04
	Kernel: 5.4.0-167-generic
	Compiler: gcc 11.4.0

FreeBSD 14.0
	Kernel: 14.0
	Compiler: clang 16.0.6

openSUSE Leap 15
	Kernel: 5.4.0-167-generic
	Compiler: gcc 7.5.0

RHEL8
	Kernel: 5.4.0-167-generic
	Compiler: gcc 8.5.0 20210514 (Red Hat 8.5.0-20)

CentOS Stream 9
	Kernel: 5.4.0-167-generic
	Compiler: gcc 11.4.1 20230605

To view detailed results, visit:
https://lab.dpdk.org/results/dashboard/patchsets/29946/

UNH-IOL DPDK Community Lab

To manage your email subscriptions, visit: 
https://lab.dpdk.org/results/dashboard/preferences/subscriptions/