From mboxrd@z Thu Jan  1 00:00:00 1970
Return-Path: <test-report-bounces@dpdk.org>
Received: from mails.dpdk.org (mails.dpdk.org [217.70.189.124])
	by inbox.dpdk.org (Postfix) with ESMTP id 837814401D
	for <public@inbox.dpdk.org>; Mon, 13 May 2024 21:51:19 +0200 (CEST)
Received: from mails.dpdk.org (localhost [127.0.0.1])
	by mails.dpdk.org (Postfix) with ESMTP id 7E0D3402F1;
	Mon, 13 May 2024 21:51:19 +0200 (CEST)
Received: from mail-pj1-f98.google.com (mail-pj1-f98.google.com
 [209.85.216.98]) by mails.dpdk.org (Postfix) with ESMTP id 7DF16402CD
 for <test-report@dpdk.org>; Mon, 13 May 2024 21:51:17 +0200 (CEST)
Received: by mail-pj1-f98.google.com with SMTP id
 98e67ed59e1d1-2b3f5fcecc1so3730987a91.1
 for <test-report@dpdk.org>; Mon, 13 May 2024 12:51:17 -0700 (PDT)
DKIM-Signature: v=1; a=rsa-sha256; c=relaxed/relaxed;
 d=iol.unh.edu; s=unh-iol; t=1715629877; x=1716234677; darn=dpdk.org;
 h=references:in-reply-to:cc:to:from:subject:message-id:date:from:to
 :cc:subject:date:message-id:reply-to;
 bh=s5yO3queDD1eiROBL6j856T81wlCOElYxAqHvBqqe4E=;
 b=J0XQf6Yvw9Q5dJ6iv7zklQ2m/p160xsJC0av8fjsZ2TA+bvzy16KA1p7GcAtvTRxNj
 Xa3ss2QHYbe9MFToZiL9IQSGcJ2KC1UczxdJSxl2aNLuwMt95m2/Q9gQa0+hNfdzSwI3
 Yli5r545/9B0WELealCAOvyL9bghMraZAh4jE=
X-Google-DKIM-Signature: v=1; a=rsa-sha256; c=relaxed/relaxed;
 d=1e100.net; s=20230601; t=1715629877; x=1716234677;
 h=references:in-reply-to:cc:to:from:subject:message-id:date
 :x-gm-message-state:from:to:cc:subject:date:message-id:reply-to;
 bh=s5yO3queDD1eiROBL6j856T81wlCOElYxAqHvBqqe4E=;
 b=etRoXOUtcgMAIRK3zUGGfkv/EQupl2qcC0S19UGubDhOcZLlnAdfuJXK7nyWTrwyj5
 nZ6XvcmuL29w1P4x1IM6y4TAdStOEyx2hiFbkUlfq+AuGzMVfjdVy7M41avCziqe++GH
 1BgsPSmkHtzYVOL4I0aA9wJI8slAKV6h+JxJrPcMk7p3yWJpvIGrS6Azt5jTSw6hTz0D
 hcMzR/Wr8fyjvLU1K58cnPDlmByQ33iGjEcn/aI6C7L6K0oVl5TiH4CeXPQHvl2Zwd7f
 IabiNKRCWm8P3vxm0IP6UXNlzVedFmcTA2R5YfqgjV2B+DzjuOEzQ42gGmzjPwS7ya9G
 KkXw==
X-Gm-Message-State: AOJu0YzEehSUAhZatEIAkyvXyzNx+0bAFT99oEw9pEtXX97+/xUXfQbV
 Qv8JIDq3D7XO8WboRRCOxR6InoYT3y7ZT8tdVQUNwyNPRioRBDpPntBfTB4tVmWL1SK51IGR+OM
 qz5HZWwW1/4DTRw5Y2gi8/djUFmCkkbrjv0/nAxVL
X-Google-Smtp-Source: AGHT+IFR9Z6gh7VPd8b13M3O7UIycH/+uBFvynO0l0JhWPyGJj+zPxRRY5Vkb7IPLss7s8WEwcAkle6ahCK6
X-Received: by 2002:a17:90b:19cc:b0:2b6:22ab:7b9e with SMTP id
 98e67ed59e1d1-2b6ccfed0e7mr8547477a91.41.1715629876729; 
 Mon, 13 May 2024 12:51:16 -0700 (PDT)
Received: from postal.iol.unh.edu (postal.iol.unh.edu. [132.177.123.84])
 by smtp-relay.gmail.com with ESMTPS id
 98e67ed59e1d1-2b671163349sm524432a91.7.2024.05.13.12.51.16
 (version=TLS1_2 cipher=ECDHE-ECDSA-AES128-GCM-SHA256 bits=128/128);
 Mon, 13 May 2024 12:51:16 -0700 (PDT)
X-Relaying-Domain: iol.unh.edu
Date: Mon, 13 May 2024 12:51:16 -0700 (PDT)
Message-ID: <66426f34.170a0220.e6912.c222SMTPIN_ADDED_MISSING@mx.google.com>
Received: from [172.21.0.6] (unknown [172.18.0.240])
 by postal.iol.unh.edu (Postfix) with ESMTP id BE562605C380;
 Mon, 13 May 2024 15:51:15 -0400 (EDT)
Subject: |SUCCESS| pw140040-140046 [PATCH] [RFC,v2,7/7] net/ring: use generic
From: dpdklab@iol.unh.edu
To: Test Report <test-report@dpdk.org>
Cc: dpdk-test-reports@iol.unh.edu
In-Reply-To: <20240513185448.120356-8-stephen@networkplumber.org>
References: <20240513185448.120356-8-stephen@networkplumber.org>
Content-Type: text/plain
X-BeenThere: test-report@dpdk.org
X-Mailman-Version: 2.1.29
Precedence: list
List-Id: automatic DPDK test reports <test-report.dpdk.org>
List-Unsubscribe: <https://mails.dpdk.org/options/test-report>,
 <mailto:test-report-request@dpdk.org?subject=unsubscribe>
List-Archive: <http://mails.dpdk.org/archives/test-report/>
List-Post: <mailto:test-report@dpdk.org>
List-Help: <mailto:test-report-request@dpdk.org?subject=help>
List-Subscribe: <https://mails.dpdk.org/listinfo/test-report>,
 <mailto:test-report-request@dpdk.org?subject=subscribe>
Errors-To: test-report-bounces@dpdk.org

Test-Label: iol-compile-amd64-testing
Test-Status: SUCCESS
http://dpdk.org/patch/140046

_Testing PASS_

Submitter: Stephen Hemminger <stephen@networkplumber.org>
Date: Monday, May 13 2024 18:52:17 
DPDK git baseline: Repo:dpdk
  Branch: master
  CommitID:7e06c0de1952d3109a5b0c4779d7e7d8059c9d78

140040-140046 --> testing pass

Test environment and result as below:

+---------------------+--------------------+-------------------+----------------------+
|     Environment     | dpdk_meson_compile | dpdk_msvc_compile | dpdk_mingw64_compile |
+=====================+====================+===================+======================+
| CentOS Stream 8     | PASS               | SKIPPED           | SKIPPED              |
+---------------------+--------------------+-------------------+----------------------+
| FreeBSD 13.3        | PASS               | SKIPPED           | SKIPPED              |
+---------------------+--------------------+-------------------+----------------------+
| Windows Server 2022 | PASS               | PASS              | PASS                 |
+---------------------+--------------------+-------------------+----------------------+
| CentOS Stream 9     | PASS               | SKIPPED           | SKIPPED              |
+---------------------+--------------------+-------------------+----------------------+
| Debian Bullseye     | PASS               | SKIPPED           | SKIPPED              |
+---------------------+--------------------+-------------------+----------------------+
| Fedora 37           | PASS               | SKIPPED           | SKIPPED              |
+---------------------+--------------------+-------------------+----------------------+
| Debian 12           | PASS               | SKIPPED           | SKIPPED              |
+---------------------+--------------------+-------------------+----------------------+
| FreeBSD 14.0        | PASS               | SKIPPED           | SKIPPED              |
+---------------------+--------------------+-------------------+----------------------+
| Fedora 38           | PASS               | SKIPPED           | SKIPPED              |
+---------------------+--------------------+-------------------+----------------------+
| Windows Server 2019 | PASS               | SKIPPED           | PASS                 |
+---------------------+--------------------+-------------------+----------------------+
| Ubuntu 22.04        | PASS               | SKIPPED           | SKIPPED              |
+---------------------+--------------------+-------------------+----------------------+
| Ubuntu 20.04        | PASS               | SKIPPED           | SKIPPED              |
+---------------------+--------------------+-------------------+----------------------+
| Fedora 39           | PASS               | SKIPPED           | SKIPPED              |
+---------------------+--------------------+-------------------+----------------------+
| openSUSE Leap 15    | PASS               | SKIPPED           | SKIPPED              |
+---------------------+--------------------+-------------------+----------------------+
| RHEL8               | PASS               | SKIPPED           | SKIPPED              |
+---------------------+--------------------+-------------------+----------------------+


CentOS Stream 8
	Kernel: 5.4.0-167-generic
	Compiler: gcc 8.5.0 20210514

FreeBSD 13.3
	Kernel: 13.3-RELEASE-p1
	Compiler: clang 17.0.6

Windows Server 2022
	Kernel: 10.0.20348.2031
	Compiler: clang 15.0.7, gcc 8.1.0 (MinGW), and MSVC VS 17.9

CentOS Stream 9
	Kernel: 5.4.0-167-generic
	Compiler: gcc 11.4.1 20230605

Debian Bullseye
	Kernel: 5.4.0-167-generic
	Compiler: gcc 10.2.1-6

Fedora 37
	Kernel: Depends on container host system
	Compiler: gcc 12.3.1

Debian 12
	Kernel: Container Host Kernel
	Compiler: gcc 10.2.1

FreeBSD 14.0
	Kernel: 14.0
	Compiler: clang 16.0.6

Fedora 38
	Kernel: Depends on container host
	Compiler: gcc 13.2.1

Windows Server 2019
	Kernel: 10.0.17763
	Compiler: clang 14.0 and gcc 8.1.0 (MinGW)

Ubuntu 22.04
	Kernel: 5.4.0-167-generic
	Compiler: gcc 11.4.0

Ubuntu 20.04
	Kernel: 5.4.0-167-generic
	Compiler: gcc 9.4.0-1ubuntu1~20.04.1

Fedora 39
	Kernel: Depends on container host
	Compiler: gcc 13.2.1

openSUSE Leap 15
	Kernel: 5.4.0-167-generic
	Compiler: gcc 7.5.0

RHEL8
	Kernel: 5.4.0-167-generic
	Compiler: gcc 8.5.0 20210514 (Red Hat 8.5.0-20)

To view detailed results, visit:
https://lab.dpdk.org/results/dashboard/patchsets/29948/

UNH-IOL DPDK Community Lab

To manage your email subscriptions, visit: 
https://lab.dpdk.org/results/dashboard/preferences/subscriptions/