From mboxrd@z Thu Jan  1 00:00:00 1970
Return-Path: <test-report-bounces@dpdk.org>
Received: from mails.dpdk.org (mails.dpdk.org [217.70.189.124])
	by inbox.dpdk.org (Postfix) with ESMTP id 439014402A
	for <public@inbox.dpdk.org>; Tue, 14 May 2024 11:40:40 +0200 (CEST)
Received: from mails.dpdk.org (localhost [127.0.0.1])
	by mails.dpdk.org (Postfix) with ESMTP id 3EE7B402EB;
	Tue, 14 May 2024 11:40:40 +0200 (CEST)
Received: from mail-yw1-f226.google.com (mail-yw1-f226.google.com
 [209.85.128.226])
 by mails.dpdk.org (Postfix) with ESMTP id 346D4402AE
 for <test-report@dpdk.org>; Tue, 14 May 2024 11:40:39 +0200 (CEST)
Received: by mail-yw1-f226.google.com with SMTP id
 00721157ae682-62036051972so59186847b3.1
 for <test-report@dpdk.org>; Tue, 14 May 2024 02:40:39 -0700 (PDT)
DKIM-Signature: v=1; a=rsa-sha256; c=relaxed/relaxed;
 d=iol.unh.edu; s=unh-iol; t=1715679638; x=1716284438; darn=dpdk.org;
 h=references:in-reply-to:cc:to:from:subject:message-id:date:from:to
 :cc:subject:date:message-id:reply-to;
 bh=HwFd4QKi3cq3IUMdivIta+qPnlWfJYiaU3m5Bf3HI5s=;
 b=XcVU9dtZChTUvo1FhK6SfBUUxhjkB4r0OLEcifKJ2scLFMgZIGx6G8bpvLXBmiUdkB
 k4CGLCAGw+46ubtuucQqLs1NhsiDEimpXGRFEi18I2f8pOH30so2tYZAxd1YT6dMntFJ
 S/Aq4A8AQ2lUzMzh/gb8dbqT9H+3Ggk0GJ/Pg=
X-Google-DKIM-Signature: v=1; a=rsa-sha256; c=relaxed/relaxed;
 d=1e100.net; s=20230601; t=1715679638; x=1716284438;
 h=references:in-reply-to:cc:to:from:subject:message-id:date
 :x-gm-message-state:from:to:cc:subject:date:message-id:reply-to;
 bh=HwFd4QKi3cq3IUMdivIta+qPnlWfJYiaU3m5Bf3HI5s=;
 b=Uod7D1aTlTI6Sak2Otvq8LcOwN5rtmR3Q/+PVG4efwB03/+KsHGGz9INJs6XyWtuVR
 +7/nfOY6nIrSImpMsighEHptd69NlNX1zhVJUGQKIw9ruDh/bgLXOm5xwOdi0ntlA9jk
 pxHQjkcHGemLN1StmCIfCDoxfx6lxp7t4R8YD8NSfTGq3vTEEOwp+reJMl1BMnmZyJmW
 9ifCQ64rXJcau4FehjU1cZpkWdGlWZWwlwg39krpmJJgq60YVf8RctI5tokkIipAwPA/
 yc1iqZalXEfl6vYGlzQQMaFXzZpmv+DVHfZ9Bwfyu/qPcI9QY8ditBEskHecSyPTISvq
 GTvg==
X-Gm-Message-State: AOJu0Yzeapzu0uPCwcMFcred5C9tDEozKlO/fYWMaecsEEm0JDVCwZzN
 7eXEx2ACTIvDaX7NXWBVMlUdFN3GZXaxVK0peNoXgRSW8lAUFsnNJ6aTMK7PXjgC7lEF8V/MUXL
 tN6bAyzcALau85Ciomb/EoEmQbSy5cuww4kiU1iiD/Yg3aO/SXZwC7/lg
X-Google-Smtp-Source: AGHT+IE4+IWmYPXdySH4fs9Rg6raZCvko2byS5DwsL4FOnWTq9JZVmo5seJU6q+zcyKtGBjYHao73vN//cAC
X-Received: by 2002:a81:924f:0:b0:618:6fc7:2218 with SMTP id
 00721157ae682-622b013d66emr117763037b3.38.1715679638555; 
 Tue, 14 May 2024 02:40:38 -0700 (PDT)
Received: from postal.iol.unh.edu (postal.iol.unh.edu.
 [2606:4100:3880:1234::84]) by smtp-relay.gmail.com with ESMTPS id
 00721157ae682-6209e233a0fsm8097857b3.15.2024.05.14.02.40.38
 (version=TLS1_2 cipher=ECDHE-ECDSA-AES128-GCM-SHA256 bits=128/128);
 Tue, 14 May 2024 02:40:38 -0700 (PDT)
X-Relaying-Domain: iol.unh.edu
Date: Tue, 14 May 2024 02:40:38 -0700 (PDT)
Message-ID: <66433196.0d0a0220.85eb1.f35dSMTPIN_ADDED_MISSING@mx.google.com>
Received: from [172.21.0.6] (unknown [172.18.0.240])
 by postal.iol.unh.edu (Postfix) with ESMTP id 2F65060524C7;
 Tue, 14 May 2024 05:40:37 -0400 (EDT)
Subject: |SUCCESS| pw140048-140051 [PATCH] [v2,4/4] net/af_xdp: remove unused
From: dpdklab@iol.unh.edu
To: Test Report <test-report@dpdk.org>
Cc: dpdk-test-reports@iol.unh.edu
In-Reply-To: <20240514084155.50673-5-ciara.loftus@intel.com>
References: <20240514084155.50673-5-ciara.loftus@intel.com>
Content-Type: text/plain
X-BeenThere: test-report@dpdk.org
X-Mailman-Version: 2.1.29
Precedence: list
List-Id: automatic DPDK test reports <test-report.dpdk.org>
List-Unsubscribe: <https://mails.dpdk.org/options/test-report>,
 <mailto:test-report-request@dpdk.org?subject=unsubscribe>
List-Archive: <http://mails.dpdk.org/archives/test-report/>
List-Post: <mailto:test-report@dpdk.org>
List-Help: <mailto:test-report-request@dpdk.org?subject=help>
List-Subscribe: <https://mails.dpdk.org/listinfo/test-report>,
 <mailto:test-report-request@dpdk.org?subject=subscribe>
Errors-To: test-report-bounces@dpdk.org

Test-Label: iol-compile-amd64-testing
Test-Status: SUCCESS
http://dpdk.org/patch/140051

_Testing PASS_

Submitter: Ciara Loftus <ciara.loftus@intel.com>
Date: Tuesday, May 14 2024 08:41:55 
DPDK git baseline: Repo:dpdk
  Branch: master
  CommitID:baa8e2c6b4d7ce289e891b9c96fb3193311c0f01

140048-140051 --> testing pass

Test environment and result as below:

+---------------------+-------------------+--------------------+----------------------+
|     Environment     | dpdk_msvc_compile | dpdk_meson_compile | dpdk_mingw64_compile |
+=====================+===================+====================+======================+
| Windows Server 2022 | PASS              | PASS               | PASS                 |
+---------------------+-------------------+--------------------+----------------------+
| Debian Bullseye     | SKIPPED           | PASS               | SKIPPED              |
+---------------------+-------------------+--------------------+----------------------+
| CentOS Stream 8     | SKIPPED           | PASS               | SKIPPED              |
+---------------------+-------------------+--------------------+----------------------+
| Debian 12           | SKIPPED           | PASS               | SKIPPED              |
+---------------------+-------------------+--------------------+----------------------+
| FreeBSD 13.3        | SKIPPED           | PASS               | SKIPPED              |
+---------------------+-------------------+--------------------+----------------------+
| Windows Server 2019 | SKIPPED           | PASS               | PASS                 |
+---------------------+-------------------+--------------------+----------------------+
| FreeBSD 14.0        | SKIPPED           | PASS               | SKIPPED              |
+---------------------+-------------------+--------------------+----------------------+
| RHEL8               | SKIPPED           | PASS               | SKIPPED              |
+---------------------+-------------------+--------------------+----------------------+
| CentOS Stream 9     | SKIPPED           | PASS               | SKIPPED              |
+---------------------+-------------------+--------------------+----------------------+
| Fedora 38           | SKIPPED           | PASS               | SKIPPED              |
+---------------------+-------------------+--------------------+----------------------+
| Fedora 39           | SKIPPED           | PASS               | SKIPPED              |
+---------------------+-------------------+--------------------+----------------------+


Windows Server 2022
	Kernel: 10.0.20348.2031
	Compiler: clang 15.0.7, gcc 8.1.0 (MinGW), and MSVC VS 17.9

Debian Bullseye
	Kernel: 5.4.0-167-generic
	Compiler: gcc 10.2.1-6

CentOS Stream 8
	Kernel: 5.4.0-167-generic
	Compiler: gcc 8.5.0 20210514

Debian 12
	Kernel: Container Host Kernel
	Compiler: gcc 10.2.1

FreeBSD 13.3
	Kernel: 13.3-RELEASE-p1
	Compiler: clang 17.0.6

Windows Server 2019
	Kernel: 10.0.17763
	Compiler: clang 14.0 and gcc 8.1.0 (MinGW)

FreeBSD 14.0
	Kernel: 14.0
	Compiler: clang 16.0.6

RHEL8
	Kernel: 5.4.0-167-generic
	Compiler: gcc 8.5.0 20210514 (Red Hat 8.5.0-20)

CentOS Stream 9
	Kernel: 5.4.0-167-generic
	Compiler: gcc 11.4.1 20230605

Fedora 38
	Kernel: Depends on container host
	Compiler: clang 16.0.6

Fedora 39
	Kernel: Depends on container host
	Compiler: clang 17.0.6

To view detailed results, visit:
https://lab.dpdk.org/results/dashboard/patchsets/29950/

UNH-IOL DPDK Community Lab

To manage your email subscriptions, visit: 
https://lab.dpdk.org/results/dashboard/preferences/subscriptions/