From mboxrd@z Thu Jan  1 00:00:00 1970
Return-Path: <test-report-bounces@dpdk.org>
Received: from mails.dpdk.org (mails.dpdk.org [217.70.189.124])
	by inbox.dpdk.org (Postfix) with ESMTP id 8B3564402A
	for <public@inbox.dpdk.org>; Tue, 14 May 2024 11:42:54 +0200 (CEST)
Received: from mails.dpdk.org (localhost [127.0.0.1])
	by mails.dpdk.org (Postfix) with ESMTP id 82137402E0;
	Tue, 14 May 2024 11:42:54 +0200 (CEST)
Received: from mail-qk1-f226.google.com (mail-qk1-f226.google.com
 [209.85.222.226])
 by mails.dpdk.org (Postfix) with ESMTP id D028C402AE
 for <test-report@dpdk.org>; Tue, 14 May 2024 11:42:52 +0200 (CEST)
Received: by mail-qk1-f226.google.com with SMTP id
 af79cd13be357-792b8efed93so509451085a.3
 for <test-report@dpdk.org>; Tue, 14 May 2024 02:42:52 -0700 (PDT)
DKIM-Signature: v=1; a=rsa-sha256; c=relaxed/relaxed;
 d=iol.unh.edu; s=unh-iol; t=1715679772; x=1716284572; darn=dpdk.org;
 h=references:in-reply-to:cc:to:from:subject:message-id:date:from:to
 :cc:subject:date:message-id:reply-to;
 bh=eTfMRHK+MOo0qC1HHFxuhPxkco0mLWGoX5Ofknfa7jo=;
 b=RSiTMpisrhga6X8ZkpE1KRw+2hFFEkR8R3w5WdMJWHG1JPaoby/tA+ifYo9mCNnw+H
 owy1CKLPETgrwx0nqwChd0SXYgvdckE4YZSx5hV9cgodXhHRE7AwYJUEKfi6FLeokJnD
 zQFjv9Sb1Fn6JuFFn4pUonCd4UoWQgHRgMd1E=
X-Google-DKIM-Signature: v=1; a=rsa-sha256; c=relaxed/relaxed;
 d=1e100.net; s=20230601; t=1715679772; x=1716284572;
 h=references:in-reply-to:cc:to:from:subject:message-id:date
 :x-gm-message-state:from:to:cc:subject:date:message-id:reply-to;
 bh=eTfMRHK+MOo0qC1HHFxuhPxkco0mLWGoX5Ofknfa7jo=;
 b=hG9Ni/3Z6LXUm8aHGRoC+0q0srLKBEMNgxTf1POIA0RTal3uRLHj8OdCdTdQzjUEfI
 p8/14CEGUTPPOleU9+I3LSK7Yu+jE8g1qVRL5ZDssNeGo56AYKzydDCcBn41J8QXhbvm
 9xkqiMuiTUWvB1+FupjcWczC50Hb7b50QpSP+mCLs56/Jq05BReGC5x4lYEIDvZdJd4R
 gFpO58hFOoDofqs5mv0ClprlyJkfMUhESj4INGfrsA1YIbM7lfxb5RNY9q4egAR09kKY
 CH+prEcn4PFSsVTAQcEPjxIXE52TpsH6SUSz3Ul2vprYnHwdKFZtMwG+gvisLRHlGXBI
 sQlw==
X-Gm-Message-State: AOJu0Yw+8a2IZaVOjJLcuDKUPYqf/bS8s7DtR2aziwTMoFVhj6TTzak/
 gzoJKgelLGynXBkj1B5mipZFA7b9rHghdKM0AFs11UTx1lA4h/fW/RTPi4YOXIbVPwdweTNz+fi
 xaNb3MSH8oIbOvjhGhpw2NpgYHrAzjtY54bNoe/Oq
X-Google-Smtp-Source: AGHT+IEdFfW6culMwxOatfnkKiuwBXsEf/zAst5Ex9n5Cf/Rtxw63Zz+2sTE1wAZiB9kmns1azz4OMpIqfXE
X-Received: by 2002:a05:6214:4602:b0:696:a202:5f53 with SMTP id
 6a1803df08f44-6a168258891mr150821246d6.49.1715679772222; 
 Tue, 14 May 2024 02:42:52 -0700 (PDT)
Received: from postal.iol.unh.edu (postal.iol.unh.edu. [132.177.123.84])
 by smtp-relay.gmail.com with ESMTPS id
 6a1803df08f44-6a15f28480dsm6783256d6.78.2024.05.14.02.42.52
 (version=TLS1_2 cipher=ECDHE-ECDSA-AES128-GCM-SHA256 bits=128/128);
 Tue, 14 May 2024 02:42:52 -0700 (PDT)
X-Relaying-Domain: iol.unh.edu
Date: Tue, 14 May 2024 02:42:52 -0700 (PDT)
Message-ID: <6643321c.050a0220.f6ab1.6bc2SMTPIN_ADDED_MISSING@mx.google.com>
Received: from [172.21.0.6] (unknown [172.18.0.240])
 by postal.iol.unh.edu (Postfix) with ESMTP id DD75B60524C7;
 Tue, 14 May 2024 05:42:51 -0400 (EDT)
Subject: |SUCCESS| pw140048-140051 [PATCH] [v2,4/4] net/af_xdp: remove unused
From: dpdklab@iol.unh.edu
To: Test Report <test-report@dpdk.org>
Cc: dpdk-test-reports@iol.unh.edu
In-Reply-To: <20240514084155.50673-5-ciara.loftus@intel.com>
References: <20240514084155.50673-5-ciara.loftus@intel.com>
Content-Type: text/plain
X-BeenThere: test-report@dpdk.org
X-Mailman-Version: 2.1.29
Precedence: list
List-Id: automatic DPDK test reports <test-report.dpdk.org>
List-Unsubscribe: <https://mails.dpdk.org/options/test-report>,
 <mailto:test-report-request@dpdk.org?subject=unsubscribe>
List-Archive: <http://mails.dpdk.org/archives/test-report/>
List-Post: <mailto:test-report@dpdk.org>
List-Help: <mailto:test-report-request@dpdk.org?subject=help>
List-Subscribe: <https://mails.dpdk.org/listinfo/test-report>,
 <mailto:test-report-request@dpdk.org?subject=subscribe>
Errors-To: test-report-bounces@dpdk.org

Test-Label: iol-compile-arm64-testing
Test-Status: SUCCESS
http://dpdk.org/patch/140051

_Testing PASS_

Submitter: Ciara Loftus <ciara.loftus@intel.com>
Date: Tuesday, May 14 2024 08:41:55 
DPDK git baseline: Repo:dpdk
  Branch: master
  CommitID:baa8e2c6b4d7ce289e891b9c96fb3193311c0f01

140048-140051 --> testing pass

Test environment and result as below:

+------------------------------------+--------------------+
|            Environment             | dpdk_meson_compile |
+====================================+====================+
| Ubuntu 20.04 ARM SVE               | PASS               |
+------------------------------------+--------------------+
| Debian 12 with MUSDK               | PASS               |
+------------------------------------+--------------------+
| Fedora 37 (ARM)                    | PASS               |
+------------------------------------+--------------------+
| Fedora 38 (ARM)                    | PASS               |
+------------------------------------+--------------------+
| Debian 11 (Buster) (ARM)           | PASS               |
+------------------------------------+--------------------+
| Ubuntu 20.04 (ARM)                 | PASS               |
+------------------------------------+--------------------+
| CentOS Stream 9 (ARM)              | PASS               |
+------------------------------------+--------------------+
| Debian 12 (arm)                    | PASS               |
+------------------------------------+--------------------+
| Fedora 39 (ARM)                    | PASS               |
+------------------------------------+--------------------+
| Ubuntu 20.04 ARM GCC Cross Compile | PASS               |
+------------------------------------+--------------------+


Ubuntu 20.04 ARM SVE
	Kernel: 5.4.0-167-generic
	Compiler: gcc (Ubuntu 10.5.0-1ubuntu1~20.04) 10.5.0

Debian 12 with MUSDK
	Kernel: Container Host Kernel
	Compiler: gcc 12.2.0

Fedora 37 (ARM)
	Kernel: Depends on container host
	Compiler: gcc 12.3.1

Fedora 38 (ARM)
	Kernel: Depends on container host
	Compiler: gcc 13.2.1

Debian 11 (Buster) (ARM)
	Kernel: Container Host Kernel
	Compiler: gcc 10.2.1

Ubuntu 20.04 (ARM)
	Kernel: Container Host Kernel
	Compiler: gcc 9.4.0

CentOS Stream 9 (ARM)
	Kernel: Container Host Kernel
	Compiler: gcc 11.4.1

Debian 12 (arm)
	Kernel: Container Host Kernel
	Compiler: gcc 12.2.0

Fedora 39 (ARM)
	Kernel: Depends on container host
	Compiler: gcc 13.2.1

Ubuntu 20.04 ARM GCC Cross Compile
	Kernel: 5.4.0-167-generic
	Compiler: aarch64-linux-gnu-gcc (Ubuntu 9.4.0-1ubuntu1~20.04.2) 9.4.0

To view detailed results, visit:
https://lab.dpdk.org/results/dashboard/patchsets/29950/

UNH-IOL DPDK Community Lab

To manage your email subscriptions, visit: 
https://lab.dpdk.org/results/dashboard/preferences/subscriptions/