From mboxrd@z Thu Jan  1 00:00:00 1970
Return-Path: <test-report-bounces@dpdk.org>
Received: from mails.dpdk.org (mails.dpdk.org [217.70.189.124])
	by inbox.dpdk.org (Postfix) with ESMTP id 945A54402B
	for <public@inbox.dpdk.org>; Tue, 14 May 2024 12:01:02 +0200 (CEST)
Received: from mails.dpdk.org (localhost [127.0.0.1])
	by mails.dpdk.org (Postfix) with ESMTP id 8B7AB402EB;
	Tue, 14 May 2024 12:01:02 +0200 (CEST)
Received: from mail-ot1-f98.google.com (mail-ot1-f98.google.com
 [209.85.210.98]) by mails.dpdk.org (Postfix) with ESMTP id A848940156
 for <test-report@dpdk.org>; Tue, 14 May 2024 12:00:58 +0200 (CEST)
Received: by mail-ot1-f98.google.com with SMTP id
 46e09a7af769-6f0e379096fso2067581a34.1
 for <test-report@dpdk.org>; Tue, 14 May 2024 03:00:58 -0700 (PDT)
DKIM-Signature: v=1; a=rsa-sha256; c=relaxed/relaxed;
 d=iol.unh.edu; s=unh-iol; t=1715680858; x=1716285658; darn=dpdk.org;
 h=references:in-reply-to:cc:to:from:subject:message-id:date:from:to
 :cc:subject:date:message-id:reply-to;
 bh=X/6b7hjGEf0GMEnqxQQGv4xtueOXcKwXu1/c+V8MsJc=;
 b=i7UuI0UmJ1z4Gbm7+obN3ffFQtVyu0t7U2sMsO6NTGmd8Ow/BT2OCG28RDzPEoCuIN
 x9R3vZj2NGLCat26wYsuJ37UZQPMSHe4OWRUaFhHTx1h7GjOzNoI6GZyyTkc6ft2LlvU
 4ZUF+5Ii7D1g8z1uFJ7rOhsnlZeprPq0F0Zc4=
X-Google-DKIM-Signature: v=1; a=rsa-sha256; c=relaxed/relaxed;
 d=1e100.net; s=20230601; t=1715680858; x=1716285658;
 h=references:in-reply-to:cc:to:from:subject:message-id:date
 :x-gm-message-state:from:to:cc:subject:date:message-id:reply-to;
 bh=X/6b7hjGEf0GMEnqxQQGv4xtueOXcKwXu1/c+V8MsJc=;
 b=r12WcYwSuW/anaLtSjniNd8QhaUBguR2wupRQ4t78ynVU3ssUjGpPfyUnX7EkKRY4R
 7Qd3rMo5mCluMSxcOjhhbm/8OGTpn9zT/OyvJjUlq+soDV58CK5aAhc58pUWKijntbUG
 FQD8+lhQPT68PHSyGKBKRJu0zx5prr8qTRo9xtDM6te+FNauGzTUxvH9LDquQyfI48FU
 aCxB1d4XFhdT8oyQsGXB+8jCG3iJuCREWt8ioX5zQ5tzprNOiKaqrtx2pOP030R0nC3D
 kqktlhFyzzTvQbbxr1cERV9NQRfZIAjjFl/D4C9vYkm8K2PUxNMpCifGt0XrpCOxneyh
 BN3Q==
X-Gm-Message-State: AOJu0YyWTD6/cLUzsKUPtI5EI1Cz6WcULaAtNlfbCg8sXV4BEn/b/+XX
 HapaNODBHN9akjQMzrrnI+qnNVsPZD0i+nl7RbnD8reSJEYNy9XvgUR/QSryCB6+SUuIZEMy8l9
 ov/gPSaRQ3FGwmwwnbgxZGLkC+77pboAKgg//30en
X-Google-Smtp-Source: AGHT+IFWZ93dguGuI+IietzByxjDkOjaogp4X/fzj0JYoyPRt4OowihJBqEh4PePNgdwUfio1M+KKZfgZm8k
X-Received: by 2002:a9d:6405:0:b0:6f0:f7ec:b126 with SMTP id
 46e09a7af769-6f0f7ecb2e5mr3651790a34.11.1715680857902; 
 Tue, 14 May 2024 03:00:57 -0700 (PDT)
Received: from postal.iol.unh.edu (postal.iol.unh.edu. [132.177.123.84])
 by smtp-relay.gmail.com with ESMTPS id
 006d021491bc7-5b26ddc2137sm498417eaf.14.2024.05.14.03.00.57
 (version=TLS1_2 cipher=ECDHE-ECDSA-AES128-GCM-SHA256 bits=128/128);
 Tue, 14 May 2024 03:00:57 -0700 (PDT)
X-Relaying-Domain: iol.unh.edu
Date: Tue, 14 May 2024 03:00:57 -0700 (PDT)
Message-ID: <66433659.4a0a0220.619cc.7f42SMTPIN_ADDED_MISSING@mx.google.com>
Received: from [172.17.0.4] (unknown [172.18.0.217])
 by postal.iol.unh.edu (Postfix) with ESMTP id 583C460524C7;
 Tue, 14 May 2024 06:00:56 -0400 (EDT)
Subject: |SUCCESS| pw140048-140051 [PATCH] [v2,4/4] net/af_xdp: remove unused
From: dpdklab@iol.unh.edu
To: Test Report <test-report@dpdk.org>
Cc: dpdk-test-reports@iol.unh.edu
In-Reply-To: <20240514084155.50673-5-ciara.loftus@intel.com>
References: <20240514084155.50673-5-ciara.loftus@intel.com>
Content-Type: text/plain
X-BeenThere: test-report@dpdk.org
X-Mailman-Version: 2.1.29
Precedence: list
List-Id: automatic DPDK test reports <test-report.dpdk.org>
List-Unsubscribe: <https://mails.dpdk.org/options/test-report>,
 <mailto:test-report-request@dpdk.org?subject=unsubscribe>
List-Archive: <http://mails.dpdk.org/archives/test-report/>
List-Post: <mailto:test-report@dpdk.org>
List-Help: <mailto:test-report-request@dpdk.org?subject=help>
List-Subscribe: <https://mails.dpdk.org/listinfo/test-report>,
 <mailto:test-report-request@dpdk.org?subject=subscribe>
Errors-To: test-report-bounces@dpdk.org

Test-Label: iol-abi-testing
Test-Status: SUCCESS
http://dpdk.org/patch/140051

_Testing PASS_

Submitter: Ciara Loftus <ciara.loftus@intel.com>
Date: Tuesday, May 14 2024 08:41:55 
DPDK git baseline: Repo:dpdk
  Branch: master
  CommitID:baa8e2c6b4d7ce289e891b9c96fb3193311c0f01

140048-140051 --> testing pass

Test environment and result as below:

+------------------+----------+
|   Environment    | abi_test |
+==================+==========+
| Ubuntu 22.04     | PASS     |
+------------------+----------+
| CentOS Stream 8  | PASS     |
+------------------+----------+
| Fedora 38        | PASS     |
+------------------+----------+
| Fedora 39        | PASS     |
+------------------+----------+
| openSUSE Leap 15 | PASS     |
+------------------+----------+
| RHEL8            | PASS     |
+------------------+----------+
| CentOS Stream 9  | PASS     |
+------------------+----------+
| Debian Bullseye  | PASS     |
+------------------+----------+
| Fedora 37        | PASS     |
+------------------+----------+
| Debian 12        | PASS     |
+------------------+----------+


Ubuntu 22.04
	Kernel: 5.4.0-167-generic
	Compiler: gcc 11.4.0

CentOS Stream 8
	Kernel: 5.4.0-167-generic
	Compiler: gcc 8.5.0 20210514

Fedora 38
	Kernel: Depends on container host
	Compiler: clang 16.0.6

Fedora 39
	Kernel: Depends on container host
	Compiler: clang 17.0.6

openSUSE Leap 15
	Kernel: 5.4.0-167-generic
	Compiler: gcc 7.5.0

RHEL8
	Kernel: 5.4.0-167-generic
	Compiler: gcc 8.5.0 20210514 (Red Hat 8.5.0-20)

CentOS Stream 9
	Kernel: 5.4.0-167-generic
	Compiler: gcc 11.4.1 20230605

Debian Bullseye
	Kernel: 5.4.0-167-generic
	Compiler: gcc 10.2.1-6

Fedora 37
	Kernel: Depends on container host system
	Compiler: gcc 12.3.1

Debian 12
	Kernel: Container Host Kernel
	Compiler: gcc 10.2.1

To view detailed results, visit:
https://lab.dpdk.org/results/dashboard/patchsets/29950/

UNH-IOL DPDK Community Lab

To manage your email subscriptions, visit: 
https://lab.dpdk.org/results/dashboard/preferences/subscriptions/