From mboxrd@z Thu Jan  1 00:00:00 1970
Return-Path: <test-report-bounces@dpdk.org>
Received: from mails.dpdk.org (mails.dpdk.org [217.70.189.124])
	by inbox.dpdk.org (Postfix) with ESMTP id 03C1A4402B
	for <public@inbox.dpdk.org>; Tue, 14 May 2024 14:18:25 +0200 (CEST)
Received: from mails.dpdk.org (localhost [127.0.0.1])
	by mails.dpdk.org (Postfix) with ESMTP id EBA7F402EC;
	Tue, 14 May 2024 14:18:24 +0200 (CEST)
Received: from mail-pf1-f226.google.com (mail-pf1-f226.google.com
 [209.85.210.226])
 by mails.dpdk.org (Postfix) with ESMTP id 558DB40156
 for <test-report@dpdk.org>; Tue, 14 May 2024 14:18:23 +0200 (CEST)
Received: by mail-pf1-f226.google.com with SMTP id
 d2e1a72fcca58-6f4603237e0so3827357b3a.0
 for <test-report@dpdk.org>; Tue, 14 May 2024 05:18:23 -0700 (PDT)
DKIM-Signature: v=1; a=rsa-sha256; c=relaxed/relaxed;
 d=iol.unh.edu; s=unh-iol; t=1715689102; x=1716293902; darn=dpdk.org;
 h=references:in-reply-to:cc:to:from:subject:message-id:date:from:to
 :cc:subject:date:message-id:reply-to;
 bh=B7lhkC6Pg2StQa9OmZH6tXDMA56W2bMdWbSSEcYtnDI=;
 b=AxuvQHuOWJ2l/+h65udQ9dUjyl/ZDGQpkfM5Iu4snCQG7k+NKDG4jr6/2XvszyPbFT
 HUOKxkwKoe7T1RMaMMjp0ZCz19zs7oqDucxnuDdx2dwkgIpUz1XXFjifH0e9M5Aoouh1
 0+nasNJUqXsEuGQsm2a36huM/DAG7cyDxaR/k=
X-Google-DKIM-Signature: v=1; a=rsa-sha256; c=relaxed/relaxed;
 d=1e100.net; s=20230601; t=1715689102; x=1716293902;
 h=references:in-reply-to:cc:to:from:subject:message-id:date
 :x-gm-message-state:from:to:cc:subject:date:message-id:reply-to;
 bh=B7lhkC6Pg2StQa9OmZH6tXDMA56W2bMdWbSSEcYtnDI=;
 b=GHVOF2UCtOmArMiWDyFmpSGWYEIYA/SF3eMRQw4lq8b7GeFub9SqKSwGULaqJPRfLv
 oytzr0FjYsVY6Ett1uQ7EoSm4D+1CzE1DtyDylyHT8WByO/C0y5xZxh5P00PtYJ26hiu
 M4WICfEJme6sxy9Pcurln5ERAKPU2fF4jeBr9iTIK4B+hYIkxIbAYu+Unf+ErwaD97O1
 xsi3CE5VoG9P7vBMb1WTiwFPLNaNsCYCZXkixM1yNFBGj/kTy0sYAdKnXP/QFmvIgrz4
 0Um8+RSloC52PebJcJfwlzby/ipqwrem7egOn2EStD1xV1+nqz/qaEBqLv+tCo6QZxPT
 g3Gg==
X-Gm-Message-State: AOJu0Yzi6ttslrRlaCikvMRt/SKuCyS4H3+SZUoUrPXgb5fhwHeIjnCq
 msigligjW3pFnS76Oq0L2v7PgsH4rcVAGqxVAZN9TrNi00aJpv2EU9Br7FM7ZCbxEbCniYUTubc
 xBlNYxfCYcoX5f+zKVPg3m+B1FfYaHIeyoTYwF68A
X-Google-Smtp-Source: AGHT+IGaiKmLn5L4co4bCHmghO15/fbgw04b2UntYeo8/jGTlrm/ypa5ofHA8IPu8nWQgKXtbAWfdUvF+jqx
X-Received: by 2002:a05:6a00:b86:b0:6f4:669d:8c64 with SMTP id
 d2e1a72fcca58-6f4c8a5d5d3mr21466950b3a.0.1715689102328; 
 Tue, 14 May 2024 05:18:22 -0700 (PDT)
Received: from postal.iol.unh.edu (postal.iol.unh.edu. [132.177.123.84])
 by smtp-relay.gmail.com with ESMTPS id
 d2e1a72fcca58-6f4d2aa5963sm632286b3a.2.2024.05.14.05.18.22
 (version=TLS1_2 cipher=ECDHE-ECDSA-AES128-GCM-SHA256 bits=128/128);
 Tue, 14 May 2024 05:18:22 -0700 (PDT)
X-Relaying-Domain: iol.unh.edu
Date: Tue, 14 May 2024 05:18:22 -0700 (PDT)
Message-ID: <6643568e.050a0220.b68f6.31c7SMTPIN_ADDED_MISSING@mx.google.com>
Received: from [172.21.0.7] (unknown [172.18.0.240])
 by postal.iol.unh.edu (Postfix) with ESMTP id 6074E60524C7;
 Tue, 14 May 2024 08:18:21 -0400 (EDT)
Subject: |SUCCESS| pw140054-140055 [PATCH] [v2,2/2] dts: clean up config type
From: dpdklab@iol.unh.edu
To: Test Report <test-report@dpdk.org>
Cc: dpdk-test-reports@iol.unh.edu
In-Reply-To: <20240514113446.1948050-3-luca.vizzarro@arm.com>
References: <20240514113446.1948050-3-luca.vizzarro@arm.com>
Content-Type: text/plain
X-BeenThere: test-report@dpdk.org
X-Mailman-Version: 2.1.29
Precedence: list
List-Id: automatic DPDK test reports <test-report.dpdk.org>
List-Unsubscribe: <https://mails.dpdk.org/options/test-report>,
 <mailto:test-report-request@dpdk.org?subject=unsubscribe>
List-Archive: <http://mails.dpdk.org/archives/test-report/>
List-Post: <mailto:test-report@dpdk.org>
List-Help: <mailto:test-report-request@dpdk.org?subject=help>
List-Subscribe: <https://mails.dpdk.org/listinfo/test-report>,
 <mailto:test-report-request@dpdk.org?subject=subscribe>
Errors-To: test-report-bounces@dpdk.org

Test-Label: iol-compile-arm64-testing
Test-Status: SUCCESS
http://dpdk.org/patch/140055

_Testing PASS_

Submitter: Luca Vizzarro <luca.vizzarro@arm.com>
Date: Tuesday, May 14 2024 11:34:46 
DPDK git baseline: Repo:dpdk
  Branch: master
  CommitID:7e06c0de1952d3109a5b0c4779d7e7d8059c9d78

140054-140055 --> testing pass

Test environment and result as below:

+-----------------------+--------------------+
|      Environment      | dpdk_meson_compile |
+=======================+====================+
| Ubuntu 20.04 ARM SVE  | PASS               |
+-----------------------+--------------------+
| Debian 12 with MUSDK  | PASS               |
+-----------------------+--------------------+
| Fedora 37 (ARM)       | PASS               |
+-----------------------+--------------------+
| Fedora 38 (ARM)       | PASS               |
+-----------------------+--------------------+
| CentOS Stream 9 (ARM) | PASS               |
+-----------------------+--------------------+
| Ubuntu 20.04 (ARM)    | PASS               |
+-----------------------+--------------------+
| Debian 12 (arm)       | PASS               |
+-----------------------+--------------------+


Ubuntu 20.04 ARM SVE
	Kernel: 5.4.0-167-generic
	Compiler: gcc (Ubuntu 10.5.0-1ubuntu1~20.04) 10.5.0

Debian 12 with MUSDK
	Kernel: Container Host Kernel
	Compiler: gcc 12.2.0

Fedora 37 (ARM)
	Kernel: Depends on container host
	Compiler: gcc 12.3.1

Fedora 38 (ARM)
	Kernel: Depends on container host
	Compiler: gcc 13.2.1

CentOS Stream 9 (ARM)
	Kernel: Container Host Kernel
	Compiler: gcc 11.4.1

Ubuntu 20.04 (ARM)
	Kernel: Container Host Kernel
	Compiler: gcc 9.4.0

Debian 12 (arm)
	Kernel: Container Host Kernel
	Compiler: gcc 12.2.0

To view detailed results, visit:
https://lab.dpdk.org/results/dashboard/patchsets/29953/

UNH-IOL DPDK Community Lab

To manage your email subscriptions, visit: 
https://lab.dpdk.org/results/dashboard/preferences/subscriptions/