From mboxrd@z Thu Jan  1 00:00:00 1970
Return-Path: <test-report-bounces@dpdk.org>
Received: from mails.dpdk.org (mails.dpdk.org [217.70.189.124])
	by inbox.dpdk.org (Postfix) with ESMTP id 50D1E4402B
	for <public@inbox.dpdk.org>; Tue, 14 May 2024 14:18:43 +0200 (CEST)
Received: from mails.dpdk.org (localhost [127.0.0.1])
	by mails.dpdk.org (Postfix) with ESMTP id 4B112402EC;
	Tue, 14 May 2024 14:18:43 +0200 (CEST)
Received: from mail-il1-f228.google.com (mail-il1-f228.google.com
 [209.85.166.228])
 by mails.dpdk.org (Postfix) with ESMTP id E850D40156
 for <test-report@dpdk.org>; Tue, 14 May 2024 14:18:41 +0200 (CEST)
Received: by mail-il1-f228.google.com with SMTP id
 e9e14a558f8ab-36c926b3fc7so19883045ab.1
 for <test-report@dpdk.org>; Tue, 14 May 2024 05:18:41 -0700 (PDT)
DKIM-Signature: v=1; a=rsa-sha256; c=relaxed/relaxed;
 d=iol.unh.edu; s=unh-iol; t=1715689121; x=1716293921; darn=dpdk.org;
 h=references:in-reply-to:cc:to:from:subject:message-id:date:from:to
 :cc:subject:date:message-id:reply-to;
 bh=B7lhkC6Pg2StQa9OmZH6tXDMA56W2bMdWbSSEcYtnDI=;
 b=BScV8ewiZiqVSvS1Iij+81mVZQLWT0Y4PPv+rgmDoAnvw+8iU3WaHK92zc3hfvInCp
 a0RYc67rI1p35sUConzTKsJdOEfUf6ZRlAJrevBKGXqqP2j5aBvwxRtjYwMae+usX12R
 ZPWWHxzvOoVWjtwV10x6fYlgsCycsL64E+JJQ=
X-Google-DKIM-Signature: v=1; a=rsa-sha256; c=relaxed/relaxed;
 d=1e100.net; s=20230601; t=1715689121; x=1716293921;
 h=references:in-reply-to:cc:to:from:subject:message-id:date
 :x-gm-message-state:from:to:cc:subject:date:message-id:reply-to;
 bh=B7lhkC6Pg2StQa9OmZH6tXDMA56W2bMdWbSSEcYtnDI=;
 b=Yh8APMoUyLilrjzP56DEog64lakQ4294oD2uQVB9TPKFHLs/FGeENbtMkRl3pLSbaP
 N9p6H+9HzPrdceFQGdciKMuj95rHyl8PyazBMlraZv6Nmp7U5iJ9e5I4MOzh70NnEHOF
 nrst68eSKSOI0roNYWr2/Z5JYcxKVQof9D4ISclJ14LqWE0sHYJMELO+o2Z+FKif/Wjq
 JStoHhZT2K14NeToiE63TuYGCKGHFsDFYGSlgaQ+kRCdruj0a6mk+fmIUcMEkPgP2l/q
 fMztTrTSo80N5x7QZBlNEgX3T7oXHvLIscLdKQCYjHoUExd/uznm/ksUWb/Z/zbUQZeg
 5Wuw==
X-Gm-Message-State: AOJu0Yz6Bb1v9qyOF1s+WMHWv4hSUATqPrh6VpxiOH5t0oEJSJZPiszQ
 1cMVoKJWNbRoM9Jh3bT5VmxWOkBI7fWdfrnsI44UUxfLcRjYiD0wE26PEeUZrRHpUI78WjwZZfF
 uZET58gnFWwc1QIGeDiqZMwzA2Jdwd0p3EXS8YOO6IHk1JahezLQ8+d/y
X-Google-Smtp-Source: AGHT+IFc5AXQ43CrZ6hh21qrmdf39ZzrhU4Mjtzqlzr6yuVpYDsaExQ6ZUJTwwBiSBEjJmWzuBKtGiC6b/Ql
X-Received: by 2002:a05:6e02:1486:b0:369:c0a3:2ad7 with SMTP id
 e9e14a558f8ab-36cc145a887mr157784295ab.12.1715689121361; 
 Tue, 14 May 2024 05:18:41 -0700 (PDT)
Received: from postal.iol.unh.edu (postal.iol.unh.edu.
 [2606:4100:3880:1234::84]) by smtp-relay.gmail.com with ESMTPS id
 e9e14a558f8ab-36cb9d6feccsm4654825ab.40.2024.05.14.05.18.41
 (version=TLS1_2 cipher=ECDHE-ECDSA-AES128-GCM-SHA256 bits=128/128);
 Tue, 14 May 2024 05:18:41 -0700 (PDT)
X-Relaying-Domain: iol.unh.edu
Date: Tue, 14 May 2024 05:18:41 -0700 (PDT)
Message-ID: <664356a1.050a0220.e90ac.9df9SMTPIN_ADDED_MISSING@mx.google.com>
Received: from [172.21.0.6] (unknown [172.18.0.240])
 by postal.iol.unh.edu (Postfix) with ESMTP id 009AE60524C7;
 Tue, 14 May 2024 08:18:41 -0400 (EDT)
Subject: |SUCCESS| pw140054-140055 [PATCH] [v2,2/2] dts: clean up config type
From: dpdklab@iol.unh.edu
To: Test Report <test-report@dpdk.org>
Cc: dpdk-test-reports@iol.unh.edu
In-Reply-To: <20240514113446.1948050-3-luca.vizzarro@arm.com>
References: <20240514113446.1948050-3-luca.vizzarro@arm.com>
Content-Type: text/plain
X-BeenThere: test-report@dpdk.org
X-Mailman-Version: 2.1.29
Precedence: list
List-Id: automatic DPDK test reports <test-report.dpdk.org>
List-Unsubscribe: <https://mails.dpdk.org/options/test-report>,
 <mailto:test-report-request@dpdk.org?subject=unsubscribe>
List-Archive: <http://mails.dpdk.org/archives/test-report/>
List-Post: <mailto:test-report@dpdk.org>
List-Help: <mailto:test-report-request@dpdk.org?subject=help>
List-Subscribe: <https://mails.dpdk.org/listinfo/test-report>,
 <mailto:test-report-request@dpdk.org?subject=subscribe>
Errors-To: test-report-bounces@dpdk.org

Test-Label: iol-compile-arm64-testing
Test-Status: SUCCESS
http://dpdk.org/patch/140055

_Testing PASS_

Submitter: Luca Vizzarro <luca.vizzarro@arm.com>
Date: Tuesday, May 14 2024 11:34:46 
DPDK git baseline: Repo:dpdk
  Branch: master
  CommitID:7e06c0de1952d3109a5b0c4779d7e7d8059c9d78

140054-140055 --> testing pass

Test environment and result as below:

+-----------------------+--------------------+
|      Environment      | dpdk_meson_compile |
+=======================+====================+
| Ubuntu 20.04 ARM SVE  | PASS               |
+-----------------------+--------------------+
| Debian 12 with MUSDK  | PASS               |
+-----------------------+--------------------+
| Fedora 37 (ARM)       | PASS               |
+-----------------------+--------------------+
| Fedora 38 (ARM)       | PASS               |
+-----------------------+--------------------+
| CentOS Stream 9 (ARM) | PASS               |
+-----------------------+--------------------+
| Ubuntu 20.04 (ARM)    | PASS               |
+-----------------------+--------------------+
| Debian 12 (arm)       | PASS               |
+-----------------------+--------------------+


Ubuntu 20.04 ARM SVE
	Kernel: 5.4.0-167-generic
	Compiler: gcc (Ubuntu 10.5.0-1ubuntu1~20.04) 10.5.0

Debian 12 with MUSDK
	Kernel: Container Host Kernel
	Compiler: gcc 12.2.0

Fedora 37 (ARM)
	Kernel: Depends on container host
	Compiler: gcc 12.3.1

Fedora 38 (ARM)
	Kernel: Depends on container host
	Compiler: gcc 13.2.1

CentOS Stream 9 (ARM)
	Kernel: Container Host Kernel
	Compiler: gcc 11.4.1

Ubuntu 20.04 (ARM)
	Kernel: Container Host Kernel
	Compiler: gcc 9.4.0

Debian 12 (arm)
	Kernel: Container Host Kernel
	Compiler: gcc 12.2.0

To view detailed results, visit:
https://lab.dpdk.org/results/dashboard/patchsets/29953/

UNH-IOL DPDK Community Lab

To manage your email subscriptions, visit: 
https://lab.dpdk.org/results/dashboard/preferences/subscriptions/